BEGIN:VCALENDAR
VERSION:2.0
PRODID:-//Seelsorgeeinheit Magdenau - ECPv6.15.20//NONSGML v1.0//EN
CALSCALE:GREGORIAN
METHOD:PUBLISH
X-ORIGINAL-URL:https://www.se-ma.ch
X-WR-CALDESC:Veranstaltungen für Seelsorgeeinheit Magdenau
REFRESH-INTERVAL;VALUE=DURATION:PT1H
X-Robots-Tag:noindex
X-PUBLISHED-TTL:PT1H
BEGIN:VTIMEZONE
TZID:Europe/Zurich
BEGIN:DAYLIGHT
TZOFFSETFROM:+0100
TZOFFSETTO:+0200
TZNAME:CEST
DTSTART:20230326T010000
END:DAYLIGHT
BEGIN:STANDARD
TZOFFSETFROM:+0200
TZOFFSETTO:+0100
TZNAME:CET
DTSTART:20231029T010000
END:STANDARD
BEGIN:DAYLIGHT
TZOFFSETFROM:+0100
TZOFFSETTO:+0200
TZNAME:CEST
DTSTART:20240331T010000
END:DAYLIGHT
BEGIN:STANDARD
TZOFFSETFROM:+0200
TZOFFSETTO:+0100
TZNAME:CET
DTSTART:20241027T010000
END:STANDARD
BEGIN:DAYLIGHT
TZOFFSETFROM:+0100
TZOFFSETTO:+0200
TZNAME:CEST
DTSTART:20250330T010000
END:DAYLIGHT
BEGIN:STANDARD
TZOFFSETFROM:+0200
TZOFFSETTO:+0100
TZNAME:CET
DTSTART:20251026T010000
END:STANDARD
BEGIN:DAYLIGHT
TZOFFSETFROM:+0100
TZOFFSETTO:+0200
TZNAME:CEST
DTSTART:20260329T010000
END:DAYLIGHT
BEGIN:STANDARD
TZOFFSETFROM:+0200
TZOFFSETTO:+0100
TZNAME:CET
DTSTART:20261025T010000
END:STANDARD
END:VTIMEZONE
BEGIN:VEVENT
DTSTART;VALUE=DATE:20241230
DTEND;VALUE=DATE:20250102
DTSTAMP:20260422T135026
CREATED:20241204T074841Z
LAST-MODIFIED:20241204T074841Z
UID:49972-1735516800-1735775999@www.se-ma.ch
SUMMARY:Flawil und Niederglatt: Die Sekretariate bleiben geschlossen.
DESCRIPTION:
URL:https://www.se-ma.ch/event/flawil-und-niederglatt-die-sekretariate-bleiben-geschlossen-2/
END:VEVENT
BEGIN:VEVENT
DTSTART;TZID=Europe/Zurich:20241231T080000
DTEND;TZID=Europe/Zurich:20250102T170000
DTSTAMP:20260422T135026
CREATED:20241203T160845Z
LAST-MODIFIED:20241203T160845Z
UID:49930-1735632000-1735837200@www.se-ma.ch
SUMMARY:Degersheim und Wolfertswil: Die Sekretariate bleiben geschlossen
DESCRIPTION:Die Sekretariate Degersheim und Wolfertswil bleiben geschlossen. Für dringende Anliegen können Sie jederzeit 071 393 14 14 wählen. Jemand aus unserem Pastoralteam hilft Ihnen gerne weiter.
URL:https://www.se-ma.ch/event/degersheim-und-wolfertswil-die-sekretariate-bleiben-geschlossen/
LOCATION:kath. Pfarramt Degersheim\, Friedbergstrasse 2\, 9113 Degersheim\, 9113\, Schweiz
CATEGORIES:Anlässe und Veranstaltungen
END:VEVENT
BEGIN:VEVENT
DTSTART;TZID=Europe/Zurich:20241231T234500
DTEND;TZID=Europe/Zurich:20250101T010000
DTSTAMP:20260422T135026
CREATED:20240712T134645Z
LAST-MODIFIED:20241022T134145Z
UID:48141-1735688700-1735693200@www.se-ma.ch
SUMMARY:Magdenau: Übergang ins Neue Jahr
DESCRIPTION:St. Verena Magdenau: Ein- und Ausläuten / Besinnung / Musik / Anstossen
URL:https://www.se-ma.ch/event/uebergang-ins-neue-jahr/
LOCATION:Kirche St. Verena Magdenau\, St. Verena 929\, Wolfertswil\, 9116\, Schweiz
CATEGORIES:Anlässe und Veranstaltungen,Gottesdienste
END:VEVENT
END:VCALENDAR