BEGIN:VCALENDAR
VERSION:2.0
PRODID:-//Seelsorgeeinheit Magdenau - ECPv6.15.20//NONSGML v1.0//EN
CALSCALE:GREGORIAN
METHOD:PUBLISH
X-ORIGINAL-URL:https://www.se-ma.ch
X-WR-CALDESC:Veranstaltungen für Seelsorgeeinheit Magdenau
REFRESH-INTERVAL;VALUE=DURATION:PT1H
X-Robots-Tag:noindex
X-PUBLISHED-TTL:PT1H
BEGIN:VTIMEZONE
TZID:Europe/Zurich
BEGIN:DAYLIGHT
TZOFFSETFROM:+0100
TZOFFSETTO:+0200
TZNAME:CEST
DTSTART:20240331T010000
END:DAYLIGHT
BEGIN:STANDARD
TZOFFSETFROM:+0200
TZOFFSETTO:+0100
TZNAME:CET
DTSTART:20241027T010000
END:STANDARD
BEGIN:DAYLIGHT
TZOFFSETFROM:+0100
TZOFFSETTO:+0200
TZNAME:CEST
DTSTART:20250330T010000
END:DAYLIGHT
BEGIN:STANDARD
TZOFFSETFROM:+0200
TZOFFSETTO:+0100
TZNAME:CET
DTSTART:20251026T010000
END:STANDARD
BEGIN:DAYLIGHT
TZOFFSETFROM:+0100
TZOFFSETTO:+0200
TZNAME:CEST
DTSTART:20260329T010000
END:DAYLIGHT
BEGIN:STANDARD
TZOFFSETFROM:+0200
TZOFFSETTO:+0100
TZNAME:CET
DTSTART:20261025T010000
END:STANDARD
END:VTIMEZONE
BEGIN:VEVENT
DTSTART;TZID=Europe/Zurich:20250112T084500
DTEND;TZID=Europe/Zurich:20250112T094500
DTSTAMP:20260422T135131
CREATED:20241115T094840Z
LAST-MODIFIED:20241115T095223Z
UID:49382-1736671500-1736675100@www.se-ma.ch
SUMMARY:Wolfertswil: Sternsinger Dankesgottesdienst
DESCRIPTION:Eucharistiefeier mit Salz- und Wassersegnung
URL:https://www.se-ma.ch/event/wolfertswil-sternsinger-dankesgottesdienst/
LOCATION:Kirche Bruder Klaus\, Wolfertswil\, 9116
END:VEVENT
BEGIN:VEVENT
DTSTART;TZID=Europe/Zurich:20250112T090000
DTEND;TZID=Europe/Zurich:20250112T090000
DTSTAMP:20260422T135131
CREATED:20231114T134952Z
LAST-MODIFIED:20231114T134952Z
UID:44054-1736672400-1736672400@www.se-ma.ch
SUMMARY:Eucharistiefeier in Italienisch
DESCRIPTION:
URL:https://www.se-ma.ch/event/eucharistiefeier-in-italienisch-34/
LOCATION:Kapelle St. Laurentius Flawil\, Enzenbühlstrasse 20\, Flawil\, 9230\, Schweiz
CATEGORIES:Gottesdienste
END:VEVENT
BEGIN:VEVENT
DTSTART;TZID=Europe/Zurich:20250112T101500
DTEND;TZID=Europe/Zurich:20250112T101500
DTSTAMP:20260422T135131
CREATED:20241124T143649Z
LAST-MODIFIED:20241124T143649Z
UID:49680-1736676900-1736676900@www.se-ma.ch
SUMMARY:Flawil: Eucharistiefeier
DESCRIPTION:mitgestaltet von den jungen Erwachsenen auf dem Firmweg
URL:https://www.se-ma.ch/event/flawil-eucharistiefeier-26/
LOCATION:Kirche St. Laurentius Flawil\, Enzenbühlstrasse 20\, Flawil\, 9230\, Schweiz
CATEGORIES:Gottesdienste
END:VEVENT
BEGIN:VEVENT
DTSTART;TZID=Europe/Zurich:20250112T170000
DTEND;TZID=Europe/Zurich:20250112T183000
DTSTAMP:20260422T135131
CREATED:20250108T081325Z
LAST-MODIFIED:20250108T081325Z
UID:50337-1736701200-1736706600@www.se-ma.ch
SUMMARY:Degersheim: Dreikönigskonzert
DESCRIPTION:Festkonzert „Bonne Année“\nZum Jahresbeginn findet mit dem Dreikönigskonzert bereits ein erster kultureller Höhepunkt statt. Festliche Klänge\, geformt zu einem musikalischen Hochgenuss mit dem Sinfonischen Orchester Wil und Wolfgang Sieber\, Luzern. Das Konzert zu Ehren der Heiligen Familie und der drei Könige bietet auch Überraschendes.\nKeine Platzreservationen möglich! \nwww.dreikönigskonzert.ch
URL:https://www.se-ma.ch/event/degersheim-dreikoenigskonzert/
LOCATION:Jakobuskirche Degersheim\, Bergstrasse 10\, Degersheim\, 9113\, Schweiz
CATEGORIES:Anlässe und Veranstaltungen
END:VEVENT
END:VCALENDAR