BEGIN:VCALENDAR
VERSION:2.0
PRODID:-//Seelsorgeeinheit Magdenau - ECPv6.15.20//NONSGML v1.0//EN
CALSCALE:GREGORIAN
METHOD:PUBLISH
X-ORIGINAL-URL:https://www.se-ma.ch
X-WR-CALDESC:Veranstaltungen für Seelsorgeeinheit Magdenau
REFRESH-INTERVAL;VALUE=DURATION:PT1H
X-Robots-Tag:noindex
X-PUBLISHED-TTL:PT1H
BEGIN:VTIMEZONE
TZID:Europe/Zurich
BEGIN:DAYLIGHT
TZOFFSETFROM:+0100
TZOFFSETTO:+0200
TZNAME:CEST
DTSTART:20240331T010000
END:DAYLIGHT
BEGIN:STANDARD
TZOFFSETFROM:+0200
TZOFFSETTO:+0100
TZNAME:CET
DTSTART:20241027T010000
END:STANDARD
BEGIN:DAYLIGHT
TZOFFSETFROM:+0100
TZOFFSETTO:+0200
TZNAME:CEST
DTSTART:20250330T010000
END:DAYLIGHT
BEGIN:STANDARD
TZOFFSETFROM:+0200
TZOFFSETTO:+0100
TZNAME:CET
DTSTART:20251026T010000
END:STANDARD
BEGIN:DAYLIGHT
TZOFFSETFROM:+0100
TZOFFSETTO:+0200
TZNAME:CEST
DTSTART:20260329T010000
END:DAYLIGHT
BEGIN:STANDARD
TZOFFSETFROM:+0200
TZOFFSETTO:+0100
TZNAME:CET
DTSTART:20261025T010000
END:STANDARD
END:VTIMEZONE
BEGIN:VEVENT
DTSTART;TZID=Europe/Zurich:20250119T084500
DTEND;TZID=Europe/Zurich:20250119T084500
DTSTAMP:20260422T135159
CREATED:20241203T183436Z
LAST-MODIFIED:20241203T183436Z
UID:49938-1737276300-1737276300@www.se-ma.ch
SUMMARY:Niederglatt: Kommunionfeier
DESCRIPTION:
URL:https://www.se-ma.ch/event/niederglatt-kommunionfeier-11/
LOCATION:Felix + Regula Kirche Niederglatt\, Niederglatt\, 9240\, Schweiz
CATEGORIES:Gottesdienste
END:VEVENT
BEGIN:VEVENT
DTSTART;TZID=Europe/Zurich:20250119T093000
DTEND;TZID=Europe/Zurich:20250119T093000
DTSTAMP:20260422T135159
CREATED:20241124T142741Z
LAST-MODIFIED:20241124T142741Z
UID:49659-1737279000-1737279000@www.se-ma.ch
SUMMARY:Flawil: Eucharistiefeier in Spanisch
DESCRIPTION:
URL:https://www.se-ma.ch/event/flawil-eucharistiefeier-in-spanisch-37/
LOCATION:Kapelle St. Laurentius Flawil\, Enzenbühlstrasse 20\, Flawil\, 9230\, Schweiz
CATEGORIES:Gottesdienste
END:VEVENT
BEGIN:VEVENT
DTSTART;TZID=Europe/Zurich:20250119T094000
DTEND;TZID=Europe/Zurich:20250119T104000
DTSTAMP:20260422T135159
CREATED:20250108T081642Z
LAST-MODIFIED:20250108T081642Z
UID:50339-1737279600-1737283200@www.se-ma.ch
SUMMARY:Degersheim: ökum. Gottesdienst in der reformierten Kirche
DESCRIPTION:Der Gottesdienst wird zum Thema „Einheit der Christen“ gestaltet. Wir freuen uns\, wenn Sie mit uns zusammen feiern!
URL:https://www.se-ma.ch/event/degersheim-oekum-gottesdienst-in-der-reformierten-kirche/
LOCATION:evang. Kirche Degersheim\, Steineggstrasse 10\, Degersheim\, 9113
CATEGORIES:Gottesdienste
END:VEVENT
BEGIN:VEVENT
DTSTART;TZID=Europe/Zurich:20250119T190000
DTEND;TZID=Europe/Zurich:20250119T190000
DTSTAMP:20260422T135159
CREATED:20250105T155037Z
LAST-MODIFIED:20250105T155037Z
UID:50287-1737313200-1737313200@www.se-ma.ch
SUMMARY:Begegnungsmosaik: Tanzcafé
DESCRIPTION:im Pfarreizentrum \nFlyer Begegnungsmosaik
URL:https://www.se-ma.ch/event/begegnungsmosaik-tanzcafe/
LOCATION:Pfarreizentrum Flawil\, Enzenbühlstrasse 16\, Flawil\, 9230\, Schweiz
CATEGORIES:Anlässe und Veranstaltungen
END:VEVENT
END:VCALENDAR