BEGIN:VCALENDAR
VERSION:2.0
PRODID:-//Seelsorgeeinheit Magdenau - ECPv6.15.20//NONSGML v1.0//EN
CALSCALE:GREGORIAN
METHOD:PUBLISH
X-ORIGINAL-URL:https://www.se-ma.ch
X-WR-CALDESC:Veranstaltungen für Seelsorgeeinheit Magdenau
REFRESH-INTERVAL;VALUE=DURATION:PT1H
X-Robots-Tag:noindex
X-PUBLISHED-TTL:PT1H
BEGIN:VTIMEZONE
TZID:Europe/Zurich
BEGIN:DAYLIGHT
TZOFFSETFROM:+0100
TZOFFSETTO:+0200
TZNAME:CEST
DTSTART:20240331T010000
END:DAYLIGHT
BEGIN:STANDARD
TZOFFSETFROM:+0200
TZOFFSETTO:+0100
TZNAME:CET
DTSTART:20241027T010000
END:STANDARD
BEGIN:DAYLIGHT
TZOFFSETFROM:+0100
TZOFFSETTO:+0200
TZNAME:CEST
DTSTART:20250330T010000
END:DAYLIGHT
BEGIN:STANDARD
TZOFFSETFROM:+0200
TZOFFSETTO:+0100
TZNAME:CET
DTSTART:20251026T010000
END:STANDARD
BEGIN:DAYLIGHT
TZOFFSETFROM:+0100
TZOFFSETTO:+0200
TZNAME:CEST
DTSTART:20260329T010000
END:DAYLIGHT
BEGIN:STANDARD
TZOFFSETFROM:+0200
TZOFFSETTO:+0100
TZNAME:CET
DTSTART:20261025T010000
END:STANDARD
END:VTIMEZONE
BEGIN:VEVENT
DTSTART;TZID=Europe/Zurich:20250125T170000
DTEND;TZID=Europe/Zurich:20250125T170000
DTSTAMP:20260422T135131
CREATED:20250105T160500Z
LAST-MODIFIED:20250105T160500Z
UID:50297-1737824400-1737824400@www.se-ma.ch
SUMMARY:Begegnungsmosaik: «Bei diesem Konzert vermischen sich die Welten» – ein Highlight in der Laurentiuskirche
DESCRIPTION:mit Maja Bösch\, Organistin in der Kirche St. Maria Neudorf\, St. Gallen\, und Enrico Lenzin\, bekannt aus «die grössten Schweizer Talente» \nFlyer Begegnungsmosaik
URL:https://www.se-ma.ch/event/begegnungsmosaik-bei-diesem-konzert-vermischen-sich-die-welten-ein-highlight-in-der-laurentiuskirche/
LOCATION:Kirche St. Laurentius Flawil\, Enzenbühlstrasse 20\, Flawil\, 9230\, Schweiz
CATEGORIES:Anlässe und Veranstaltungen
END:VEVENT
BEGIN:VEVENT
DTSTART;TZID=Europe/Zurich:20250125T173000
DTEND;TZID=Europe/Zurich:20250125T173000
DTSTAMP:20260422T135131
CREATED:20241124T141551Z
LAST-MODIFIED:20241124T141551Z
UID:49611-1737826200-1737826200@www.se-ma.ch
SUMMARY:Flawil: Eucharistiefeier in Portugiesisch
DESCRIPTION:
URL:https://www.se-ma.ch/event/flawil-eucharistiefeier-in-portugiesisch-16/
LOCATION:Kapelle St. Laurentius Flawil\, Enzenbühlstrasse 20\, Flawil\, 9230\, Schweiz
CATEGORIES:Gottesdienste
END:VEVENT
BEGIN:VEVENT
DTSTART;TZID=Europe/Zurich:20250125T173000
DTEND;TZID=Europe/Zurich:20250125T183000
DTSTAMP:20260422T135131
CREATED:20250108T081736Z
LAST-MODIFIED:20250108T081736Z
UID:50341-1737826200-1737829800@www.se-ma.ch
SUMMARY:Degersheim: Eucharistiefeier
DESCRIPTION:Gedächtnis
URL:https://www.se-ma.ch/event/degersheim-eucharistiefeier-37/
LOCATION:Jakobuskirche Degersheim\, Bergstrasse 10\, Degersheim\, 9113\, Schweiz
CATEGORIES:Gottesdienste
END:VEVENT
END:VCALENDAR