BEGIN:VCALENDAR
VERSION:2.0
PRODID:-//Seelsorgeeinheit Magdenau - ECPv6.15.20//NONSGML v1.0//EN
CALSCALE:GREGORIAN
METHOD:PUBLISH
X-ORIGINAL-URL:https://www.se-ma.ch
X-WR-CALDESC:Veranstaltungen für Seelsorgeeinheit Magdenau
REFRESH-INTERVAL;VALUE=DURATION:PT1H
X-Robots-Tag:noindex
X-PUBLISHED-TTL:PT1H
BEGIN:VTIMEZONE
TZID:Europe/Zurich
BEGIN:DAYLIGHT
TZOFFSETFROM:+0100
TZOFFSETTO:+0200
TZNAME:CEST
DTSTART:20240331T010000
END:DAYLIGHT
BEGIN:STANDARD
TZOFFSETFROM:+0200
TZOFFSETTO:+0100
TZNAME:CET
DTSTART:20241027T010000
END:STANDARD
BEGIN:DAYLIGHT
TZOFFSETFROM:+0100
TZOFFSETTO:+0200
TZNAME:CEST
DTSTART:20250330T010000
END:DAYLIGHT
BEGIN:STANDARD
TZOFFSETFROM:+0200
TZOFFSETTO:+0100
TZNAME:CET
DTSTART:20251026T010000
END:STANDARD
BEGIN:DAYLIGHT
TZOFFSETFROM:+0100
TZOFFSETTO:+0200
TZNAME:CEST
DTSTART:20260329T010000
END:DAYLIGHT
BEGIN:STANDARD
TZOFFSETFROM:+0200
TZOFFSETTO:+0100
TZNAME:CET
DTSTART:20261025T010000
END:STANDARD
END:VTIMEZONE
BEGIN:VEVENT
DTSTART;TZID=Europe/Zurich:20250226T140000
DTEND;TZID=Europe/Zurich:20250226T150000
DTSTAMP:20260422T113216
CREATED:20250205T092824Z
LAST-MODIFIED:20250205T092824Z
UID:50798-1740578400-1740582000@www.se-ma.ch
SUMMARY:Degersheim: Krankensalbungs-Gottesdienst im Altersheim Steinegg
DESCRIPTION:
URL:https://www.se-ma.ch/event/degersheim-krankensalbungs-gottesdienst-im-altersheim-steinegg/
LOCATION:Altersheim Steinegg\, Kirchweg 8\, Degersheim\, 9113\, Schweiz
CATEGORIES:Gottesdienste
END:VEVENT
BEGIN:VEVENT
DTSTART;TZID=Europe/Zurich:20250226T160000
DTEND;TZID=Europe/Zurich:20250226T170000
DTSTAMP:20260422T113216
CREATED:20250205T092936Z
LAST-MODIFIED:20250205T092936Z
UID:50800-1740585600-1740589200@www.se-ma.ch
SUMMARY:Degersheim: Krankensalbungs-Gottesdienst im Altersheim Feldegg
DESCRIPTION:
URL:https://www.se-ma.ch/event/degersheim-krankensalbungs-gottesdienst-im-altersheim-feldegg/
LOCATION:Altersheim Feldegg\, Feldeggstrasse 6\, Degersheim\, 9113\, Schweiz
CATEGORIES:Gottesdienste
END:VEVENT
END:VCALENDAR