BEGIN:VCALENDAR
VERSION:2.0
PRODID:-//Seelsorgeeinheit Magdenau - ECPv6.15.20//NONSGML v1.0//EN
CALSCALE:GREGORIAN
METHOD:PUBLISH
X-ORIGINAL-URL:https://www.se-ma.ch
X-WR-CALDESC:Veranstaltungen für Seelsorgeeinheit Magdenau
REFRESH-INTERVAL;VALUE=DURATION:PT1H
X-Robots-Tag:noindex
X-PUBLISHED-TTL:PT1H
BEGIN:VTIMEZONE
TZID:Europe/Zurich
BEGIN:DAYLIGHT
TZOFFSETFROM:+0100
TZOFFSETTO:+0200
TZNAME:CEST
DTSTART:20240331T010000
END:DAYLIGHT
BEGIN:STANDARD
TZOFFSETFROM:+0200
TZOFFSETTO:+0100
TZNAME:CET
DTSTART:20241027T010000
END:STANDARD
BEGIN:DAYLIGHT
TZOFFSETFROM:+0100
TZOFFSETTO:+0200
TZNAME:CEST
DTSTART:20250330T010000
END:DAYLIGHT
BEGIN:STANDARD
TZOFFSETFROM:+0200
TZOFFSETTO:+0100
TZNAME:CET
DTSTART:20251026T010000
END:STANDARD
BEGIN:DAYLIGHT
TZOFFSETFROM:+0100
TZOFFSETTO:+0200
TZNAME:CEST
DTSTART:20260329T010000
END:DAYLIGHT
BEGIN:STANDARD
TZOFFSETFROM:+0200
TZOFFSETTO:+0100
TZNAME:CET
DTSTART:20261025T010000
END:STANDARD
END:VTIMEZONE
BEGIN:VEVENT
DTSTART;TZID=Europe/Zurich:20250309T090000
DTEND;TZID=Europe/Zurich:20250309T090000
DTSTAMP:20260422T111321
CREATED:20241124T140128Z
LAST-MODIFIED:20241124T140128Z
UID:49569-1741510800-1741510800@www.se-ma.ch
SUMMARY:Eucharistiefeier in Italienisch
DESCRIPTION:
URL:https://www.se-ma.ch/event/eucharistiefeier-in-italienisch-41/
LOCATION:Kapelle St. Laurentius Flawil\, Enzenbühlstrasse 20\, Flawil\, 9230\, Schweiz
CATEGORIES:Gottesdienste
END:VEVENT
BEGIN:VEVENT
DTSTART;TZID=Europe/Zurich:20250309T101500
DTEND;TZID=Europe/Zurich:20250309T101500
DTSTAMP:20260422T111321
CREATED:20241115T100233Z
LAST-MODIFIED:20250124T111205Z
UID:49397-1741515300-1741515300@www.se-ma.ch
SUMMARY:Magdenau: Eucharistiefeier
DESCRIPTION:Eucharistiefeier mit anschliessendem Suppenzmittag in der Turnhalle Magdenau
URL:https://www.se-ma.ch/event/wolfertswil-eucharistiefeier-5/
LOCATION:Turnhalle Magdenau
END:VEVENT
BEGIN:VEVENT
DTSTART;TZID=Europe/Zurich:20250309T101500
DTEND;TZID=Europe/Zurich:20250309T101500
DTSTAMP:20260422T111321
CREATED:20241124T144232Z
LAST-MODIFIED:20241124T144232Z
UID:49690-1741515300-1741515300@www.se-ma.ch
SUMMARY:Flawil: Ökumenischer Gottesdienst zur Fastenaktion
DESCRIPTION:mit der Harmoniemusik Flawil\, anschliessend Suppentag im Pfarreizentrum
URL:https://www.se-ma.ch/event/flawil-oekumenischer-gottesdienst-zur-fastenaktion/
LOCATION:Kirche St. Laurentius Flawil\, Enzenbühlstrasse 20\, Flawil\, 9230\, Schweiz
CATEGORIES:Anlässe und Veranstaltungen,Gottesdienste,Kinder und Familien
END:VEVENT
BEGIN:VEVENT
DTSTART;TZID=Europe/Zurich:20250309T173000
DTEND;TZID=Europe/Zurich:20250309T183000
DTSTAMP:20260422T111321
CREATED:20250108T082803Z
LAST-MODIFIED:20250108T082803Z
UID:50357-1741541400-1741545000@www.se-ma.ch
SUMMARY:Degersheim: Abendlob zur Fastenzeit
DESCRIPTION:
URL:https://www.se-ma.ch/event/degersheim-abendlob-zur-fastenzeit-4/
LOCATION:Jakobuskirche Kapelle Degersheim\, Bergstrasse 10\, Degersheim\, St. Gallen\, 9113\, Schweiz
CATEGORIES:Gottesdienste
END:VEVENT
END:VCALENDAR