BEGIN:VCALENDAR
VERSION:2.0
PRODID:-//Seelsorgeeinheit Magdenau - ECPv6.15.20//NONSGML v1.0//EN
CALSCALE:GREGORIAN
METHOD:PUBLISH
X-WR-CALNAME:Seelsorgeeinheit Magdenau
X-ORIGINAL-URL:https://www.se-ma.ch
X-WR-CALDESC:Veranstaltungen für Seelsorgeeinheit Magdenau
REFRESH-INTERVAL;VALUE=DURATION:PT1H
X-Robots-Tag:noindex
X-PUBLISHED-TTL:PT1H
BEGIN:VTIMEZONE
TZID:Europe/Zurich
BEGIN:DAYLIGHT
TZOFFSETFROM:+0100
TZOFFSETTO:+0200
TZNAME:CEST
DTSTART:20240331T010000
END:DAYLIGHT
BEGIN:STANDARD
TZOFFSETFROM:+0200
TZOFFSETTO:+0100
TZNAME:CET
DTSTART:20241027T010000
END:STANDARD
BEGIN:DAYLIGHT
TZOFFSETFROM:+0100
TZOFFSETTO:+0200
TZNAME:CEST
DTSTART:20250330T010000
END:DAYLIGHT
BEGIN:STANDARD
TZOFFSETFROM:+0200
TZOFFSETTO:+0100
TZNAME:CET
DTSTART:20251026T010000
END:STANDARD
BEGIN:DAYLIGHT
TZOFFSETFROM:+0100
TZOFFSETTO:+0200
TZNAME:CEST
DTSTART:20260329T010000
END:DAYLIGHT
BEGIN:STANDARD
TZOFFSETFROM:+0200
TZOFFSETTO:+0100
TZNAME:CET
DTSTART:20261025T010000
END:STANDARD
END:VTIMEZONE
BEGIN:VEVENT
DTSTART;TZID=Europe/Zurich:20250315T113000
DTEND;TZID=Europe/Zurich:20250315T143000
DTSTAMP:20260422T111152
CREATED:20250212T064902Z
LAST-MODIFIED:20250212T064902Z
UID:50948-1742038200-1742049000@www.se-ma.ch
SUMMARY:Degersheim: SuppenZmittag
DESCRIPTION:Wir sammeln gemeinsam für die Fastenaktion für ein Projekt im Kongo und geniessen dabei eine feine Suppe und Dessert. Über deinen Besuch oder Mithilfe in der Küche oder im Service und über Selbstgebackenes fürs Dessertbuffet freuen wir uns sehr. \nVielen herzlichen Dank im Voraus. \nInfos bei: Frauengemeinschaft Degersheim\, Manuela Eugster\, T 078 649 71 94
URL:https://www.se-ma.ch/event/degersheim-suppenzmittag/
LOCATION:Pfarreiheim
CATEGORIES:Anlässe und Veranstaltungen
END:VEVENT
BEGIN:VEVENT
DTSTART;TZID=Europe/Zurich:20250315T173000
DTEND;TZID=Europe/Zurich:20250315T183000
DTSTAMP:20260422T111152
CREATED:20250108T075238Z
LAST-MODIFIED:20250108T075833Z
UID:50327-1742059800-1742063400@www.se-ma.ch
SUMMARY:Degersheim: kinderGOTTesdienst
DESCRIPTION:Kinder ab dem 2. Kindergarten bis zur 3. Klasse sind herzlich willkommen! \nDie Feier beginnt mit dem Pfarreigottesdienst in der Kirche. Nach einer gemeinsamen Einstimmung gehen die Kinder in die Kapelle. Dort erleben sie eine Feier\, die ganz auf ihre Bedürfnisse ausgerichtet ist. Kinder\, die nicht allein dableiben möchten\, können gerne von Eltern begleitet werden.
URL:https://www.se-ma.ch/event/degersheim-kindergottesdienst-2/
LOCATION:Jakobuskirche Kapelle Degersheim\, Bergstrasse 10\, Degersheim\, St. Gallen\, 9113\, Schweiz
CATEGORIES:Gottesdienste,Kinder und Familien
END:VEVENT
BEGIN:VEVENT
DTSTART;TZID=Europe/Zurich:20250315T173000
DTEND;TZID=Europe/Zurich:20250315T183000
DTSTAMP:20260422T111152
CREATED:20250108T082916Z
LAST-MODIFIED:20250108T082916Z
UID:50359-1742059800-1742063400@www.se-ma.ch
SUMMARY:Degersheim: Kommunionfeier
DESCRIPTION:Fastenaktionsthema
URL:https://www.se-ma.ch/event/degersheim-kommunionfeier-24/
LOCATION:Jakobuskirche Degersheim\, Bergstrasse 10\, Degersheim\, 9113\, Schweiz
CATEGORIES:Gottesdienste
END:VEVENT
END:VCALENDAR