BEGIN:VCALENDAR
VERSION:2.0
PRODID:-//Seelsorgeeinheit Magdenau - ECPv6.15.20//NONSGML v1.0//EN
CALSCALE:GREGORIAN
METHOD:PUBLISH
X-ORIGINAL-URL:https://www.se-ma.ch
X-WR-CALDESC:Veranstaltungen für Seelsorgeeinheit Magdenau
REFRESH-INTERVAL;VALUE=DURATION:PT1H
X-Robots-Tag:noindex
X-PUBLISHED-TTL:PT1H
BEGIN:VTIMEZONE
TZID:Europe/Zurich
BEGIN:DAYLIGHT
TZOFFSETFROM:+0100
TZOFFSETTO:+0200
TZNAME:CEST
DTSTART:20240331T010000
END:DAYLIGHT
BEGIN:STANDARD
TZOFFSETFROM:+0200
TZOFFSETTO:+0100
TZNAME:CET
DTSTART:20241027T010000
END:STANDARD
BEGIN:DAYLIGHT
TZOFFSETFROM:+0100
TZOFFSETTO:+0200
TZNAME:CEST
DTSTART:20250330T010000
END:DAYLIGHT
BEGIN:STANDARD
TZOFFSETFROM:+0200
TZOFFSETTO:+0100
TZNAME:CET
DTSTART:20251026T010000
END:STANDARD
BEGIN:DAYLIGHT
TZOFFSETFROM:+0100
TZOFFSETTO:+0200
TZNAME:CEST
DTSTART:20260329T010000
END:DAYLIGHT
BEGIN:STANDARD
TZOFFSETFROM:+0200
TZOFFSETTO:+0100
TZNAME:CET
DTSTART:20261025T010000
END:STANDARD
END:VTIMEZONE
BEGIN:VEVENT
DTSTART;TZID=Europe/Zurich:20250327T190000
DTEND;TZID=Europe/Zurich:20250327T190000
DTSTAMP:20260422T111245
CREATED:20250303T162236Z
LAST-MODIFIED:20250303T162353Z
UID:51356-1743102000-1743102000@www.se-ma.ch
SUMMARY:öffentliche b'treff Mitgliederversammlung
DESCRIPTION:Flyer Les Chouettes
URL:https://www.se-ma.ch/event/btreff-mitgliederversammlung-mit-oeffentlichem-musikalischer-einlage/
LOCATION:Zwinglisaal Flawil\, Lindenstrasse 6B\, Flawil\, SG\, 9230\, Schweiz
CATEGORIES:Anlässe und Veranstaltungen
END:VEVENT
BEGIN:VEVENT
DTSTART;TZID=Europe/Zurich:20250327T190000
DTEND;TZID=Europe/Zurich:20250327T200000
DTSTAMP:20260422T111245
CREATED:20240918T073114Z
LAST-MODIFIED:20241129T072430Z
UID:48692-1743102000-1743105600@www.se-ma.ch
SUMMARY:Degersheim: Friedensgebet
DESCRIPTION:Wir beten für den Frieden in unserer Welt.
URL:https://www.se-ma.ch/event/degersheim-friedensgebet-19/
LOCATION:Jakobuskirche Kapelle Degersheim\, Bergstrasse 10\, Degersheim\, St. Gallen\, 9113\, Schweiz
CATEGORIES:Gottesdienste
END:VEVENT
END:VCALENDAR