BEGIN:VCALENDAR
VERSION:2.0
PRODID:-//Seelsorgeeinheit Magdenau - ECPv6.15.20//NONSGML v1.0//EN
CALSCALE:GREGORIAN
METHOD:PUBLISH
X-WR-CALNAME:Seelsorgeeinheit Magdenau
X-ORIGINAL-URL:https://www.se-ma.ch
X-WR-CALDESC:Veranstaltungen für Seelsorgeeinheit Magdenau
REFRESH-INTERVAL;VALUE=DURATION:PT1H
X-Robots-Tag:noindex
X-PUBLISHED-TTL:PT1H
BEGIN:VTIMEZONE
TZID:Europe/Zurich
BEGIN:DAYLIGHT
TZOFFSETFROM:+0100
TZOFFSETTO:+0200
TZNAME:CEST
DTSTART:20240331T010000
END:DAYLIGHT
BEGIN:STANDARD
TZOFFSETFROM:+0200
TZOFFSETTO:+0100
TZNAME:CET
DTSTART:20241027T010000
END:STANDARD
BEGIN:DAYLIGHT
TZOFFSETFROM:+0100
TZOFFSETTO:+0200
TZNAME:CEST
DTSTART:20250330T010000
END:DAYLIGHT
BEGIN:STANDARD
TZOFFSETFROM:+0200
TZOFFSETTO:+0100
TZNAME:CET
DTSTART:20251026T010000
END:STANDARD
BEGIN:DAYLIGHT
TZOFFSETFROM:+0100
TZOFFSETTO:+0200
TZNAME:CEST
DTSTART:20260329T010000
END:DAYLIGHT
BEGIN:STANDARD
TZOFFSETFROM:+0200
TZOFFSETTO:+0100
TZNAME:CET
DTSTART:20261025T010000
END:STANDARD
END:VTIMEZONE
BEGIN:VEVENT
DTSTART;TZID=Europe/Zurich:20250424T193000
DTEND;TZID=Europe/Zurich:20250424T193000
DTSTAMP:20260422T091549
CREATED:20250327T065345Z
LAST-MODIFIED:20250327T065432Z
UID:51799-1745523000-1745523000@www.se-ma.ch
SUMMARY:SEMA-Vortrag der Frauengemeinschaften
DESCRIPTION:«Begleitung in der letzten Lebensphase» Diesem Thema ist der diesjährige SEMA-Vortrag gewidmet. Ute Latuski-Ramm ist Leiterin der ökumenischen Fachstelle Begleitung in der letzten Lebensphase und wird durch den\nAbend leiten. Der Anlass steht allen Interessierten offen.
URL:https://www.se-ma.ch/event/sema-vortrag-der-frauengemeinschaften/
LOCATION:Kirche Bruder Klaus\, Wolfertswil\, 9116
END:VEVENT
END:VCALENDAR