BEGIN:VCALENDAR
VERSION:2.0
PRODID:-//Seelsorgeeinheit Magdenau - ECPv6.15.20//NONSGML v1.0//EN
CALSCALE:GREGORIAN
METHOD:PUBLISH
X-ORIGINAL-URL:https://www.se-ma.ch
X-WR-CALDESC:Veranstaltungen für Seelsorgeeinheit Magdenau
REFRESH-INTERVAL;VALUE=DURATION:PT1H
X-Robots-Tag:noindex
X-PUBLISHED-TTL:PT1H
BEGIN:VTIMEZONE
TZID:Europe/Zurich
BEGIN:DAYLIGHT
TZOFFSETFROM:+0100
TZOFFSETTO:+0200
TZNAME:CEST
DTSTART:20240331T010000
END:DAYLIGHT
BEGIN:STANDARD
TZOFFSETFROM:+0200
TZOFFSETTO:+0100
TZNAME:CET
DTSTART:20241027T010000
END:STANDARD
BEGIN:DAYLIGHT
TZOFFSETFROM:+0100
TZOFFSETTO:+0200
TZNAME:CEST
DTSTART:20250330T010000
END:DAYLIGHT
BEGIN:STANDARD
TZOFFSETFROM:+0200
TZOFFSETTO:+0100
TZNAME:CET
DTSTART:20251026T010000
END:STANDARD
BEGIN:DAYLIGHT
TZOFFSETFROM:+0100
TZOFFSETTO:+0200
TZNAME:CEST
DTSTART:20260329T010000
END:DAYLIGHT
BEGIN:STANDARD
TZOFFSETFROM:+0200
TZOFFSETTO:+0100
TZNAME:CET
DTSTART:20261025T010000
END:STANDARD
END:VTIMEZONE
BEGIN:VEVENT
DTSTART;TZID=Europe/Zurich:20250506T193000
DTEND;TZID=Europe/Zurich:20250506T213000
DTSTAMP:20260422T091945
CREATED:20250411T065642Z
LAST-MODIFIED:20250411T065642Z
UID:51933-1746559800-1746567000@www.se-ma.ch
SUMMARY:Wolfertswil: IMPULSraum - Zyklus II
DESCRIPTION:Es war einmal… \nAn diesem Abend öffnet die Erzählerin Claudia Curschellas ihren Märchenschatz und lädt uns ein\, den Geschichten zu lauschen. Schritt für Schritt durchschreiten wir äussere und innere Räume\, betreten dabei Neuland und lassen unsere Seele erblühen.
URL:https://www.se-ma.ch/event/wolfertswil-impulsraum-zyklus-ii/
LOCATION:Kirche Bruder Klaus\, Wolfertswil\, 9116
END:VEVENT
END:VCALENDAR