BEGIN:VCALENDAR
VERSION:2.0
PRODID:-//Seelsorgeeinheit Magdenau - ECPv6.15.20//NONSGML v1.0//EN
CALSCALE:GREGORIAN
METHOD:PUBLISH
X-WR-CALNAME:Seelsorgeeinheit Magdenau
X-ORIGINAL-URL:https://www.se-ma.ch
X-WR-CALDESC:Veranstaltungen für Seelsorgeeinheit Magdenau
REFRESH-INTERVAL;VALUE=DURATION:PT1H
X-Robots-Tag:noindex
X-PUBLISHED-TTL:PT1H
BEGIN:VTIMEZONE
TZID:Europe/Zurich
BEGIN:DAYLIGHT
TZOFFSETFROM:+0100
TZOFFSETTO:+0200
TZNAME:CEST
DTSTART:20240331T010000
END:DAYLIGHT
BEGIN:STANDARD
TZOFFSETFROM:+0200
TZOFFSETTO:+0100
TZNAME:CET
DTSTART:20241027T010000
END:STANDARD
BEGIN:DAYLIGHT
TZOFFSETFROM:+0100
TZOFFSETTO:+0200
TZNAME:CEST
DTSTART:20250330T010000
END:DAYLIGHT
BEGIN:STANDARD
TZOFFSETFROM:+0200
TZOFFSETTO:+0100
TZNAME:CET
DTSTART:20251026T010000
END:STANDARD
BEGIN:DAYLIGHT
TZOFFSETFROM:+0100
TZOFFSETTO:+0200
TZNAME:CEST
DTSTART:20260329T010000
END:DAYLIGHT
BEGIN:STANDARD
TZOFFSETFROM:+0200
TZOFFSETTO:+0100
TZNAME:CET
DTSTART:20261025T010000
END:STANDARD
END:VTIMEZONE
BEGIN:VEVENT
DTSTART;TZID=Europe/Zurich:20250602T120000
DTEND;TZID=Europe/Zurich:20250602T150000
DTSTAMP:20260422T052232
CREATED:20250411T081155Z
LAST-MODIFIED:20250411T081155Z
UID:51944-1748865600-1748876400@www.se-ma.ch
SUMMARY:Wolfertswil: Seniorengruppe "Frohes Alter"
DESCRIPTION:Mittagstisch im Restaurant Moosbad\, Wolfertswil \nAb 13.30 Uhr Spielnachmittag. Anmeldungen bis 31. Mai an Anna Egli\, 077 483 69 60 \n 
URL:https://www.se-ma.ch/event/wolfertswil-seniorengruppe-frohes-alter-2/
LOCATION:Restaurant Moosbad\, Moosbad\, Wolfertswil\, 9113\, Schweiz
END:VEVENT
BEGIN:VEVENT
DTSTART;TZID=Europe/Zurich:20250602T193000
DTEND;TZID=Europe/Zurich:20250602T203000
DTSTAMP:20260422T052232
CREATED:20240925T090222Z
LAST-MODIFIED:20240925T090222Z
UID:48883-1748892600-1748896200@www.se-ma.ch
SUMMARY:Degersheim: Schweigemeditation
DESCRIPTION:Im Chorraum der Kath. Kirche St. Jakobus werden wir gemeinsam meditieren. Alle Interessierten\, unabhängig von Konfession oder Kirchennähe\, sind dazu herzlich eingeladen. \nFür Auskünfte steht Walter Germann gerne zur Verfügung: T 071 371 29 38.
URL:https://www.se-ma.ch/event/degersheim-schweigemeditation-65/
LOCATION:Jakobuskirche Degersheim\, Bergstrasse 10\, Degersheim\, 9113\, Schweiz
CATEGORIES:Anlässe und Veranstaltungen
END:VEVENT
END:VCALENDAR