BEGIN:VCALENDAR
VERSION:2.0
PRODID:-//Seelsorgeeinheit Magdenau - ECPv6.15.20//NONSGML v1.0//EN
CALSCALE:GREGORIAN
METHOD:PUBLISH
X-ORIGINAL-URL:https://www.se-ma.ch
X-WR-CALDESC:Veranstaltungen für Seelsorgeeinheit Magdenau
REFRESH-INTERVAL;VALUE=DURATION:PT1H
X-Robots-Tag:noindex
X-PUBLISHED-TTL:PT1H
BEGIN:VTIMEZONE
TZID:Europe/Zurich
BEGIN:DAYLIGHT
TZOFFSETFROM:+0100
TZOFFSETTO:+0200
TZNAME:CEST
DTSTART:20240331T010000
END:DAYLIGHT
BEGIN:STANDARD
TZOFFSETFROM:+0200
TZOFFSETTO:+0100
TZNAME:CET
DTSTART:20241027T010000
END:STANDARD
BEGIN:DAYLIGHT
TZOFFSETFROM:+0100
TZOFFSETTO:+0200
TZNAME:CEST
DTSTART:20250330T010000
END:DAYLIGHT
BEGIN:STANDARD
TZOFFSETFROM:+0200
TZOFFSETTO:+0100
TZNAME:CET
DTSTART:20251026T010000
END:STANDARD
BEGIN:DAYLIGHT
TZOFFSETFROM:+0100
TZOFFSETTO:+0200
TZNAME:CEST
DTSTART:20260329T010000
END:DAYLIGHT
BEGIN:STANDARD
TZOFFSETFROM:+0200
TZOFFSETTO:+0100
TZNAME:CET
DTSTART:20261025T010000
END:STANDARD
END:VTIMEZONE
BEGIN:VEVENT
DTSTART;TZID=Europe/Zurich:20250608T084500
DTEND;TZID=Europe/Zurich:20250608T084500
DTSTAMP:20260422T052631
CREATED:20241119T094726Z
LAST-MODIFIED:20241119T094730Z
UID:49458-1749372300-1749372300@www.se-ma.ch
SUMMARY:Wolfertswil: Eucharistie-Festgottesdienst zu Pfingsten
DESCRIPTION:
URL:https://www.se-ma.ch/event/wolfertswil-eucharistie-festgottesdienst-zu-pfingsten/
LOCATION:Kirche Bruder Klaus\, Wolfertswil\, 9116
END:VEVENT
BEGIN:VEVENT
DTSTART;TZID=Europe/Zurich:20250608T090000
DTEND;TZID=Europe/Zurich:20250608T090000
DTSTAMP:20260422T052631
CREATED:20241124T140220Z
LAST-MODIFIED:20241124T140220Z
UID:49575-1749373200-1749373200@www.se-ma.ch
SUMMARY:Eucharistiefeier in Italienisch
DESCRIPTION:
URL:https://www.se-ma.ch/event/eucharistiefeier-in-italienisch-48/
LOCATION:Kapelle St. Laurentius Flawil\, Enzenbühlstrasse 20\, Flawil\, 9230\, Schweiz
CATEGORIES:Gottesdienste
END:VEVENT
BEGIN:VEVENT
DTSTART;TZID=Europe/Zurich:20250608T101500
DTEND;TZID=Europe/Zurich:20250608T101500
DTSTAMP:20260422T052631
CREATED:20241124T150044Z
LAST-MODIFIED:20241124T150044Z
UID:49722-1749377700-1749377700@www.se-ma.ch
SUMMARY:Flawil: Festgottesdienst zu Pfingsten\, Eucharistiefeier
DESCRIPTION:
URL:https://www.se-ma.ch/event/flawil-festgottesdienst-zu-pfingsten-eucharistiefeier/
LOCATION:Kirche St. Laurentius Flawil\, Enzenbühlstrasse 20\, Flawil\, 9230\, Schweiz
CATEGORIES:Gottesdienste
END:VEVENT
BEGIN:VEVENT
DTSTART;TZID=Europe/Zurich:20250608T101500
DTEND;TZID=Europe/Zurich:20250608T111500
DTSTAMP:20260422T052631
CREATED:20250108T075339Z
LAST-MODIFIED:20250328T094331Z
UID:50329-1749377700-1749381300@www.se-ma.ch
SUMMARY:Degersheim: kinderGOTTesdienst
DESCRIPTION:Kinder ab dem 2. Kindergarten bis zur 3. Klasse sind herzlich willkommen! \nDie Feier beginnt mit dem Pfarreigottesdienst in der Kirche. Nach einer gemeinsamen Einstimmung gehen die Kinder in die Kapelle. Dort erleben sie eine Feier\, die ganz auf ihre Bedürfnisse ausgerichtet ist. Kinder\, die nicht allein dableiben möchten\, können gerne von Eltern begleitet werden.
URL:https://www.se-ma.ch/event/degersheim-kindergottesdienst-3/
LOCATION:Jakobuskirche Kapelle Degersheim\, Bergstrasse 10\, Degersheim\, St. Gallen\, 9113\, Schweiz
CATEGORIES:Gottesdienste,Kinder und Familien
END:VEVENT
BEGIN:VEVENT
DTSTART;TZID=Europe/Zurich:20250608T101500
DTEND;TZID=Europe/Zurich:20250608T113000
DTSTAMP:20260422T052631
CREATED:20250205T101203Z
LAST-MODIFIED:20250205T101203Z
UID:50851-1749377700-1749382200@www.se-ma.ch
SUMMARY:Degersheim: Kommunionfeier\, Fest-Gottesdienst zu Pfingsten
DESCRIPTION:
URL:https://www.se-ma.ch/event/degersheim-kommunionfeier-fest-gottesdienst-zu-pfingsten/
LOCATION:Jakobuskirche Degersheim\, Bergstrasse 10\, Degersheim\, 9113\, Schweiz
CATEGORIES:Gottesdienste
END:VEVENT
END:VCALENDAR