BEGIN:VCALENDAR
VERSION:2.0
PRODID:-//Seelsorgeeinheit Magdenau - ECPv6.15.20//NONSGML v1.0//EN
CALSCALE:GREGORIAN
METHOD:PUBLISH
X-WR-CALNAME:Seelsorgeeinheit Magdenau
X-ORIGINAL-URL:https://www.se-ma.ch
X-WR-CALDESC:Veranstaltungen für Seelsorgeeinheit Magdenau
REFRESH-INTERVAL;VALUE=DURATION:PT1H
X-Robots-Tag:noindex
X-PUBLISHED-TTL:PT1H
BEGIN:VTIMEZONE
TZID:Europe/Zurich
BEGIN:DAYLIGHT
TZOFFSETFROM:+0100
TZOFFSETTO:+0200
TZNAME:CEST
DTSTART:20240331T010000
END:DAYLIGHT
BEGIN:STANDARD
TZOFFSETFROM:+0200
TZOFFSETTO:+0100
TZNAME:CET
DTSTART:20241027T010000
END:STANDARD
BEGIN:DAYLIGHT
TZOFFSETFROM:+0100
TZOFFSETTO:+0200
TZNAME:CEST
DTSTART:20250330T010000
END:DAYLIGHT
BEGIN:STANDARD
TZOFFSETFROM:+0200
TZOFFSETTO:+0100
TZNAME:CET
DTSTART:20251026T010000
END:STANDARD
BEGIN:DAYLIGHT
TZOFFSETFROM:+0100
TZOFFSETTO:+0200
TZNAME:CEST
DTSTART:20260329T010000
END:DAYLIGHT
BEGIN:STANDARD
TZOFFSETFROM:+0200
TZOFFSETTO:+0100
TZNAME:CET
DTSTART:20261025T010000
END:STANDARD
END:VTIMEZONE
BEGIN:VEVENT
DTSTART;TZID=Europe/Zurich:20250619T180000
DTEND;TZID=Europe/Zurich:20250619T180000
DTSTAMP:20260422T052418
CREATED:20250512T090241Z
LAST-MODIFIED:20250512T090321Z
UID:52584-1750356000-1750356000@www.se-ma.ch
SUMMARY:Sommersonnenwende in Niederglatt
DESCRIPTION:Die Sommersonnenwende läutet den astronomischen Sommerbeginn ein und gilt als Fest des Lichtes und der Flammen. In vielen Kulturen ist es ein Tag voller Magie und Traditionen. Gemeinsamer dreiviertelstündigen Fussmarsch von der Lourdesgrotte auf den Böhl  und einen Übergang der besonderen Art zu geniessen. Gemeinsam werden wir ein Fest feiern\, uns am Feuer verpflegen und die Freude des Sommers miteinander teilen.
URL:https://www.se-ma.ch/event/sommersonnenwende-in-niederglatt/
LOCATION:Lourdes Grotte Niederglatt\, Niederglattstrasse\, Niederglatt\, 9240\, Schweiz
END:VEVENT
BEGIN:VEVENT
DTSTART;TZID=Europe/Zurich:20250619T190000
DTEND;TZID=Europe/Zurich:20250619T190000
DTSTAMP:20260422T052418
CREATED:20241206T184303Z
LAST-MODIFIED:20241206T184303Z
UID:50031-1750359600-1750359600@www.se-ma.ch
SUMMARY:Flawiler Friedensgebet
DESCRIPTION:In Flawil treffen sich Angehörige verschiedener Konfessionen zum Friedensgebet im Zwinglisaal der ref. Kirche. \nDaten Flawiler Friedensgebet \n 
URL:https://www.se-ma.ch/event/flawiler-friedensgebet-47/
LOCATION:Ref. Kirche Feld\, Flawil\, 9230\, Schweiz
CATEGORIES:Anlässe und Veranstaltungen,Gottesdienste
END:VEVENT
BEGIN:VEVENT
DTSTART;TZID=Europe/Zurich:20250619T190000
DTEND;TZID=Europe/Zurich:20250619T200000
DTSTAMP:20260422T052418
CREATED:20240918T073402Z
LAST-MODIFIED:20250131T075103Z
UID:48698-1750359600-1750363200@www.se-ma.ch
SUMMARY:Degersheim: Friedensgebet in der evang. Kirche
DESCRIPTION:Wir beten für den Frieden in unserer Welt.
URL:https://www.se-ma.ch/event/degersheim-friedensgebet-22/
LOCATION:evang. Kirche Degersheim\, Steineggstrasse 10\, Degersheim\, 9113
CATEGORIES:Gottesdienste
END:VEVENT
END:VCALENDAR