BEGIN:VCALENDAR
VERSION:2.0
PRODID:-//Seelsorgeeinheit Magdenau - ECPv6.15.20//NONSGML v1.0//EN
CALSCALE:GREGORIAN
METHOD:PUBLISH
X-WR-CALNAME:Seelsorgeeinheit Magdenau
X-ORIGINAL-URL:https://www.se-ma.ch
X-WR-CALDESC:Veranstaltungen für Seelsorgeeinheit Magdenau
REFRESH-INTERVAL;VALUE=DURATION:PT1H
X-Robots-Tag:noindex
X-PUBLISHED-TTL:PT1H
BEGIN:VTIMEZONE
TZID:Europe/Zurich
BEGIN:DAYLIGHT
TZOFFSETFROM:+0100
TZOFFSETTO:+0200
TZNAME:CEST
DTSTART:20240331T010000
END:DAYLIGHT
BEGIN:STANDARD
TZOFFSETFROM:+0200
TZOFFSETTO:+0100
TZNAME:CET
DTSTART:20241027T010000
END:STANDARD
BEGIN:DAYLIGHT
TZOFFSETFROM:+0100
TZOFFSETTO:+0200
TZNAME:CEST
DTSTART:20250330T010000
END:DAYLIGHT
BEGIN:STANDARD
TZOFFSETFROM:+0200
TZOFFSETTO:+0100
TZNAME:CET
DTSTART:20251026T010000
END:STANDARD
BEGIN:DAYLIGHT
TZOFFSETFROM:+0100
TZOFFSETTO:+0200
TZNAME:CEST
DTSTART:20260329T010000
END:DAYLIGHT
BEGIN:STANDARD
TZOFFSETFROM:+0200
TZOFFSETTO:+0100
TZNAME:CET
DTSTART:20261025T010000
END:STANDARD
BEGIN:DAYLIGHT
TZOFFSETFROM:+0100
TZOFFSETTO:+0200
TZNAME:CEST
DTSTART:20270328T010000
END:DAYLIGHT
BEGIN:STANDARD
TZOFFSETFROM:+0200
TZOFFSETTO:+0100
TZNAME:CET
DTSTART:20271031T010000
END:STANDARD
END:VTIMEZONE
BEGIN:VEVENT
DTSTART;TZID=Europe/Zurich:20250621T093000
DTEND;TZID=Europe/Zurich:20250621T110000
DTSTAMP:20260422T053508
CREATED:20241217T104606Z
LAST-MODIFIED:20250519T070136Z
UID:50164-1750498200-1750503600@www.se-ma.ch
SUMMARY:Flawil: ökumenische Chinderfiir - im Sommer im Feld
DESCRIPTION:Bei schlechtem Wetter im Zwinglisaal. Die Chinderfiir richtet sich an Kinder ab 3 Jahren und ihre erwachsenen Begleitpersonen. Während einer halben Stunde machen wir uns mit den Kindern und ihren erwachsenen Begleitpersonen auf den Weg\, den christlichen Glauben mit Musik\, einer Geschichte\, Spiel und Spass zu entdecken.\nAnschliessend gemeinsam Znüniessen\,  Kreativ-sein\, Spiel und Spass. \nFlyer Chinderfiir
URL:https://www.se-ma.ch/event/flawil-oekumenische-chinderfiir-8/
LOCATION:Sommer im Feld\, Flawil\, 9230\, Schweiz
CATEGORIES:Gottesdienste,Kinder und Familien
END:VEVENT
BEGIN:VEVENT
DTSTART;TZID=Europe/Zurich:20250621T093000
DTEND;TZID=Europe/Zurich:20250621T110000
DTSTAMP:20260422T053508
CREATED:20250623T115506Z
LAST-MODIFIED:20250623T115506Z
UID:53328-1750498200-1750503600@www.se-ma.ch
SUMMARY:Flawil: ökumenische Chinderfiir - im Unterkapellenraum der kath. Kirche
DESCRIPTION:Die Chinderfiir richtet sich an Kinder ab 3 Jahren und ihre erwachsenen Begleitpersonen. Während einer halben Stunde machen wir uns mit den Kindern und ihren erwachsenen Begleitpersonen auf den Weg\, den christlichen Glauben mit Musik\, einer Geschichte\, Spiel und Spass zu entdecken.\nAnschliessend gemeinsam Znüniessen\,  Kreativ-sein\, Spiel und Spass. \nFlyer Chinderfiir
URL:https://www.se-ma.ch/event/flawil-oekumenische-chinderfiir-im-unterkapellenraum-der-kath-kirche/
LOCATION:Unterkapellenraum Flawil
CATEGORIES:Gottesdienste,Kinder und Familien
END:VEVENT
BEGIN:VEVENT
DTSTART;TZID=Europe/Zurich:20250621T100000
DTEND;TZID=Europe/Zurich:20250621T120000
DTSTAMP:20260422T053508
CREATED:20241022T133445Z
LAST-MODIFIED:20241022T133445Z
UID:49161-1750500000-1750507200@www.se-ma.ch
SUMMARY:Degersheim: ökum. Chinderchile
DESCRIPTION:Die Gestaltung des Programms ist auf die Fähigkeiten von Kindern im Alter von 3 – 6 Jahren mit ihren Begleitpersonen ausgerichtet. \nIm Anschluss an die Feier geniessen wir das gemütliche Zusammensein im evang. Kirchgemeindehaus.
URL:https://www.se-ma.ch/event/degersheim-oekum-chinderchile-11/
LOCATION:evang. Kirchgemeindehaus Degersheim\, Steineggstrasse 12\, Degersheim\, 9113\, Schweiz
CATEGORIES:Kinder und Familien
END:VEVENT
BEGIN:VEVENT
DTSTART;TZID=Europe/Zurich:20250621T170000
DTEND;TZID=Europe/Zurich:20250621T170000
DTSTAMP:20260422T053508
CREATED:20250521T130853Z
LAST-MODIFIED:20250521T130859Z
UID:52672-1750525200-1750525200@www.se-ma.ch
SUMMARY:Flawil: Firmung
DESCRIPTION:mit 34 jungen Erwachsenen auf dem Firmweg\, Abt Emmanuel\, Jerry Joseph\, Hans Brändle und Roman Brülisauer
URL:https://www.se-ma.ch/event/flawil-firmung/
LOCATION:Kirche St. Laurentius Flawil\, Enzenbühlstrasse 20\, Flawil\, 9230\, Schweiz
CATEGORIES:Gottesdienste
END:VEVENT
BEGIN:VEVENT
DTSTART;TZID=Europe/Zurich:20260812T091500
DTEND;TZID=Europe/Zurich:20260812T091500
DTSTAMP:20260422T053508
CREATED:20260107T072437Z
LAST-MODIFIED:20260107T072437Z
UID:56085-1786526100-1786526100@www.se-ma.ch
SUMMARY:Flawil: Gottesdienst mit Kräutersegnung
DESCRIPTION:
URL:https://www.se-ma.ch/event/flawil-gottesdienst-mit-kraeutersegnung-2/
LOCATION:Kapelle St. Laurentius Flawil\, Enzenbühlstrasse 20\, Flawil\, 9230\, Schweiz
CATEGORIES:Gottesdienste
END:VEVENT
BEGIN:VEVENT
DTSTART;TZID=Europe/Zurich:20250621T173000
DTEND;TZID=Europe/Zurich:20250621T183000
DTSTAMP:20260422T053508
CREATED:20250205T101606Z
LAST-MODIFIED:20250205T101606Z
UID:50856-1750527000-1750530600@www.se-ma.ch
SUMMARY:Degersheim: Gottesdienscht bi de Lüüt
DESCRIPTION:
URL:https://www.se-ma.ch/event/degersheim-gottesdienscht-bi-de-lueuet-3/
LOCATION:St. Gallen
CATEGORIES:Gottesdienste
END:VEVENT
END:VCALENDAR