BEGIN:VCALENDAR
VERSION:2.0
PRODID:-//Seelsorgeeinheit Magdenau - ECPv6.15.20//NONSGML v1.0//EN
CALSCALE:GREGORIAN
METHOD:PUBLISH
X-ORIGINAL-URL:https://www.se-ma.ch
X-WR-CALDESC:Veranstaltungen für Seelsorgeeinheit Magdenau
REFRESH-INTERVAL;VALUE=DURATION:PT1H
X-Robots-Tag:noindex
X-PUBLISHED-TTL:PT1H
BEGIN:VTIMEZONE
TZID:Europe/Zurich
BEGIN:DAYLIGHT
TZOFFSETFROM:+0100
TZOFFSETTO:+0200
TZNAME:CEST
DTSTART:20240331T010000
END:DAYLIGHT
BEGIN:STANDARD
TZOFFSETFROM:+0200
TZOFFSETTO:+0100
TZNAME:CET
DTSTART:20241027T010000
END:STANDARD
BEGIN:DAYLIGHT
TZOFFSETFROM:+0100
TZOFFSETTO:+0200
TZNAME:CEST
DTSTART:20250330T010000
END:DAYLIGHT
BEGIN:STANDARD
TZOFFSETFROM:+0200
TZOFFSETTO:+0100
TZNAME:CET
DTSTART:20251026T010000
END:STANDARD
BEGIN:DAYLIGHT
TZOFFSETFROM:+0100
TZOFFSETTO:+0200
TZNAME:CEST
DTSTART:20260329T010000
END:DAYLIGHT
BEGIN:STANDARD
TZOFFSETFROM:+0200
TZOFFSETTO:+0100
TZNAME:CET
DTSTART:20261025T010000
END:STANDARD
END:VTIMEZONE
BEGIN:VEVENT
DTSTART;VALUE=DATE:20250801
DTEND;VALUE=DATE:20250802
DTSTAMP:20260422T021620
CREATED:20250707T055140Z
LAST-MODIFIED:20250707T055424Z
UID:53439-1754006400-1754092799@www.se-ma.ch
SUMMARY:Kein Herz-Jesu-Freitag
DESCRIPTION:
URL:https://www.se-ma.ch/event/kein-herz-jesu-freitag/
LOCATION:St. Gallen
CATEGORIES:Gottesdienste
END:VEVENT
BEGIN:VEVENT
DTSTART;TZID=Europe/Zurich:20250801T080000
DTEND;TZID=Europe/Zurich:20250801T170000
DTSTAMP:20260422T021620
CREATED:20250718T092538Z
LAST-MODIFIED:20250718T092538Z
UID:53583-1754035200-1754067600@www.se-ma.ch
SUMMARY:SEMA: alle Sekretariate bleiben am Nationalfeiertag geschlossen!
DESCRIPTION:
URL:https://www.se-ma.ch/event/sema-alle-sekretariate-bleiben-am-nationalfeiertag-geschlossen/
LOCATION:kath. Pfarramt Degersheim\, Friedbergstrasse 2\, 9113 Degersheim\, 9113\, Schweiz
CATEGORIES:Anlässe und Veranstaltungen
END:VEVENT
BEGIN:VEVENT
DTSTART;TZID=Europe/Zurich:20250801T183000
DTEND;TZID=Europe/Zurich:20250801T183000
DTSTAMP:20260422T021620
CREATED:20250617T085235Z
LAST-MODIFIED:20250617T085238Z
UID:53240-1754073000-1754073000@www.se-ma.ch
SUMMARY:Eucharistiefeier zum Nationalfeiertag
DESCRIPTION:
URL:https://www.se-ma.ch/event/eucharistiefeier-zum-nationalfeiertag/
LOCATION:Kapelle St. Laurentius Flawil\, Enzenbühlstrasse 20\, Flawil\, 9230\, Schweiz
CATEGORIES:Gottesdienste
END:VEVENT
END:VCALENDAR