BEGIN:VCALENDAR
VERSION:2.0
PRODID:-//Seelsorgeeinheit Magdenau - ECPv6.15.20//NONSGML v1.0//EN
CALSCALE:GREGORIAN
METHOD:PUBLISH
X-ORIGINAL-URL:https://www.se-ma.ch
X-WR-CALDESC:Veranstaltungen für Seelsorgeeinheit Magdenau
REFRESH-INTERVAL;VALUE=DURATION:PT1H
X-Robots-Tag:noindex
X-PUBLISHED-TTL:PT1H
BEGIN:VTIMEZONE
TZID:Europe/Zurich
BEGIN:DAYLIGHT
TZOFFSETFROM:+0100
TZOFFSETTO:+0200
TZNAME:CEST
DTSTART:20240331T010000
END:DAYLIGHT
BEGIN:STANDARD
TZOFFSETFROM:+0200
TZOFFSETTO:+0100
TZNAME:CET
DTSTART:20241027T010000
END:STANDARD
BEGIN:DAYLIGHT
TZOFFSETFROM:+0100
TZOFFSETTO:+0200
TZNAME:CEST
DTSTART:20250330T010000
END:DAYLIGHT
BEGIN:STANDARD
TZOFFSETFROM:+0200
TZOFFSETTO:+0100
TZNAME:CET
DTSTART:20251026T010000
END:STANDARD
BEGIN:DAYLIGHT
TZOFFSETFROM:+0100
TZOFFSETTO:+0200
TZNAME:CEST
DTSTART:20260329T010000
END:DAYLIGHT
BEGIN:STANDARD
TZOFFSETFROM:+0200
TZOFFSETTO:+0100
TZNAME:CET
DTSTART:20261025T010000
END:STANDARD
END:VTIMEZONE
BEGIN:VEVENT
DTSTART;TZID=Europe/Zurich:20250810T100000
DTEND;TZID=Europe/Zurich:20250810T100000
DTSTAMP:20260422T021626
CREATED:20250708T055936Z
LAST-MODIFIED:20250708T055944Z
UID:53512-1754820000-1754820000@www.se-ma.ch
SUMMARY:Bichwil: Ökumenische Feier zum Schulstart
DESCRIPTION:Thema: «Finde den Mut in dir»\nDie Kinder dürfen gerne ihren Schulrucksack oder ihr Chinditäschli mitbringen. Im Anschluss sind alle herzlich zum Apéro eingeladen. Wir freuen uns auf den gemeinsamen Start ins neue Schuljahr!
URL:https://www.se-ma.ch/event/bichwil-oekumenische-feier-zum-schulstart/
LOCATION:Kirche Bichwil
CATEGORIES:Gottesdienste,Kinder und Familien
END:VEVENT
BEGIN:VEVENT
DTSTART;TZID=Europe/Zurich:20250810T101500
DTEND;TZID=Europe/Zurich:20250810T101500
DTSTAMP:20260422T021626
CREATED:20241119T095551Z
LAST-MODIFIED:20241119T095555Z
UID:49472-1754820900-1754820900@www.se-ma.ch
SUMMARY:Wolfertswil: Kommunionfeier zum Schulanfang
DESCRIPTION:
URL:https://www.se-ma.ch/event/wolfertswil-kommunionfeier-zum-schulanfang/
LOCATION:Kirche Bruder Klaus\, Wolfertswil\, 9116
END:VEVENT
BEGIN:VEVENT
DTSTART;TZID=Europe/Zurich:20250810T101500
DTEND;TZID=Europe/Zurich:20250810T101500
DTSTAMP:20260422T021626
CREATED:20250527T141355Z
LAST-MODIFIED:20250527T141400Z
UID:52930-1754820900-1754820900@www.se-ma.ch
SUMMARY:Flawil: Kommunionfeier
DESCRIPTION:
URL:https://www.se-ma.ch/event/flawil-kommunionfeier-32/
LOCATION:Kirche St. Laurentius Flawil\, Enzenbühlstrasse 20\, Flawil\, 9230\, Schweiz
CATEGORIES:Gottesdienste
END:VEVENT
END:VCALENDAR