BEGIN:VCALENDAR
VERSION:2.0
PRODID:-//Seelsorgeeinheit Magdenau - ECPv6.15.20//NONSGML v1.0//EN
CALSCALE:GREGORIAN
METHOD:PUBLISH
X-ORIGINAL-URL:https://www.se-ma.ch
X-WR-CALDESC:Veranstaltungen für Seelsorgeeinheit Magdenau
REFRESH-INTERVAL;VALUE=DURATION:PT1H
X-Robots-Tag:noindex
X-PUBLISHED-TTL:PT1H
BEGIN:VTIMEZONE
TZID:Europe/Zurich
BEGIN:DAYLIGHT
TZOFFSETFROM:+0100
TZOFFSETTO:+0200
TZNAME:CEST
DTSTART:20240331T010000
END:DAYLIGHT
BEGIN:STANDARD
TZOFFSETFROM:+0200
TZOFFSETTO:+0100
TZNAME:CET
DTSTART:20241027T010000
END:STANDARD
BEGIN:DAYLIGHT
TZOFFSETFROM:+0100
TZOFFSETTO:+0200
TZNAME:CEST
DTSTART:20250330T010000
END:DAYLIGHT
BEGIN:STANDARD
TZOFFSETFROM:+0200
TZOFFSETTO:+0100
TZNAME:CET
DTSTART:20251026T010000
END:STANDARD
BEGIN:DAYLIGHT
TZOFFSETFROM:+0100
TZOFFSETTO:+0200
TZNAME:CEST
DTSTART:20260329T010000
END:DAYLIGHT
BEGIN:STANDARD
TZOFFSETFROM:+0200
TZOFFSETTO:+0100
TZNAME:CET
DTSTART:20261025T010000
END:STANDARD
END:VTIMEZONE
BEGIN:VEVENT
DTSTART;TZID=Europe/Zurich:20250819T084000
DTEND;TZID=Europe/Zurich:20250819T181500
DTSTAMP:20260422T021725
CREATED:20241129T065913Z
LAST-MODIFIED:20250730T063225Z
UID:49820-1755592800-1755627300@www.se-ma.ch
SUMMARY:Degersheim: ökumenischer Seniorenausflug
DESCRIPTION:Tagesausflug zur Halbinsel Au am Zürichsee mit Schifffahrt nach Rapperswil. \nCarchauffeur: Hans Martin Enz\nTreffpunkt um 08.40 Uhr beim Bahnhof Degersheim\nAnmeldung bis 8. August 2025 an Silvia Sauder\, Hintere Dorfstrasse 2\, Degersheim\, per Mail hc.niweulbobfsctd-8f7f37@hd.sas oder telefonisch 071 371 15 10.
URL:https://www.se-ma.ch/event/degersheim-oekumenischer-seniorenausflug/
LOCATION:Bahnhofplatz\, Bahnhofplatz 4\, Flawil\, 9230\, Schweiz
CATEGORIES:Anlässe und Veranstaltungen
END:VEVENT
END:VCALENDAR