BEGIN:VCALENDAR
VERSION:2.0
PRODID:-//Seelsorgeeinheit Magdenau - ECPv6.15.20//NONSGML v1.0//EN
CALSCALE:GREGORIAN
METHOD:PUBLISH
X-ORIGINAL-URL:https://www.se-ma.ch
X-WR-CALDESC:Veranstaltungen für Seelsorgeeinheit Magdenau
REFRESH-INTERVAL;VALUE=DURATION:PT1H
X-Robots-Tag:noindex
X-PUBLISHED-TTL:PT1H
BEGIN:VTIMEZONE
TZID:Europe/Zurich
BEGIN:DAYLIGHT
TZOFFSETFROM:+0100
TZOFFSETTO:+0200
TZNAME:CEST
DTSTART:20240331T010000
END:DAYLIGHT
BEGIN:STANDARD
TZOFFSETFROM:+0200
TZOFFSETTO:+0100
TZNAME:CET
DTSTART:20241027T010000
END:STANDARD
BEGIN:DAYLIGHT
TZOFFSETFROM:+0100
TZOFFSETTO:+0200
TZNAME:CEST
DTSTART:20250330T010000
END:DAYLIGHT
BEGIN:STANDARD
TZOFFSETFROM:+0200
TZOFFSETTO:+0100
TZNAME:CET
DTSTART:20251026T010000
END:STANDARD
BEGIN:DAYLIGHT
TZOFFSETFROM:+0100
TZOFFSETTO:+0200
TZNAME:CEST
DTSTART:20260329T010000
END:DAYLIGHT
BEGIN:STANDARD
TZOFFSETFROM:+0200
TZOFFSETTO:+0100
TZNAME:CET
DTSTART:20261025T010000
END:STANDARD
END:VTIMEZONE
BEGIN:VEVENT
DTSTART;TZID=Europe/Zurich:20250829T183000
DTEND;TZID=Europe/Zurich:20250829T191500
DTSTAMP:20260422T021622
CREATED:20250610T085304Z
LAST-MODIFIED:20250610T085856Z
UID:53095-1756492200-1756494900@www.se-ma.ch
SUMMARY:Degersheim: Kirchenturmführungen mit den Sakristanen
DESCRIPTION:Treffpunkt beim Turmeingang. \nInteressierte melden sich  bitte im Sekretariat T 071 371 10 17 oder per Mail: hc.am-esobfsctd-4ac7a0@miehsreged-tairaterkes\, an. Bitte Name und Handynummern für Info’s angeben.
URL:https://www.se-ma.ch/event/degersheim-kirchenturmfuehrungen-mit-den-sakristanen/
LOCATION:Jakobuskirche Degersheim\, Bergstrasse 10\, Degersheim\, 9113\, Schweiz
CATEGORIES:Anlässe und Veranstaltungen
END:VEVENT
BEGIN:VEVENT
DTSTART;TZID=Europe/Zurich:20250829T191500
DTEND;TZID=Europe/Zurich:20250829T200000
DTSTAMP:20260422T021622
CREATED:20250610T085423Z
LAST-MODIFIED:20250610T085935Z
UID:53097-1756494900-1756497600@www.se-ma.ch
SUMMARY:Degersheim: Kirchenturmführungen mit den Sakristanen
DESCRIPTION:Treffpunkt beim Turmeingang. \nInteressierte melden sich  bitte im Sekretariat T 071 371 10 17 oder per Mail: hc.am-esobfsctd-8cd627@miehsreged-tairaterkes\, an. Bitte Name und Handynummern für Info’s angeben.
URL:https://www.se-ma.ch/event/degersheim-kirchenturmfuehrungen-mit-den-sakristanen-2/
LOCATION:Jakobuskirche Degersheim\, Bergstrasse 10\, Degersheim\, 9113\, Schweiz
CATEGORIES:Anlässe und Veranstaltungen
END:VEVENT
END:VCALENDAR