BEGIN:VCALENDAR
VERSION:2.0
PRODID:-//Seelsorgeeinheit Magdenau - ECPv6.15.20//NONSGML v1.0//EN
CALSCALE:GREGORIAN
METHOD:PUBLISH
X-WR-CALNAME:Seelsorgeeinheit Magdenau
X-ORIGINAL-URL:https://www.se-ma.ch
X-WR-CALDESC:Veranstaltungen für Seelsorgeeinheit Magdenau
REFRESH-INTERVAL;VALUE=DURATION:PT1H
X-Robots-Tag:noindex
X-PUBLISHED-TTL:PT1H
BEGIN:VTIMEZONE
TZID:Europe/Zurich
BEGIN:DAYLIGHT
TZOFFSETFROM:+0100
TZOFFSETTO:+0200
TZNAME:CEST
DTSTART:20240331T010000
END:DAYLIGHT
BEGIN:STANDARD
TZOFFSETFROM:+0200
TZOFFSETTO:+0100
TZNAME:CET
DTSTART:20241027T010000
END:STANDARD
BEGIN:DAYLIGHT
TZOFFSETFROM:+0100
TZOFFSETTO:+0200
TZNAME:CEST
DTSTART:20250330T010000
END:DAYLIGHT
BEGIN:STANDARD
TZOFFSETFROM:+0200
TZOFFSETTO:+0100
TZNAME:CET
DTSTART:20251026T010000
END:STANDARD
BEGIN:DAYLIGHT
TZOFFSETFROM:+0100
TZOFFSETTO:+0200
TZNAME:CEST
DTSTART:20260329T010000
END:DAYLIGHT
BEGIN:STANDARD
TZOFFSETFROM:+0200
TZOFFSETTO:+0100
TZNAME:CET
DTSTART:20261025T010000
END:STANDARD
END:VTIMEZONE
BEGIN:VEVENT
DTSTART;VALUE=DATE:20250907
DTEND;VALUE=DATE:20250914
DTSTAMP:20260422T003500
CREATED:20250827T060225Z
LAST-MODIFIED:20250827T060225Z
UID:53885-1757203200-1757807999@www.se-ma.ch
SUMMARY:Ökum. Seniorenferien Flawil
DESCRIPTION:
URL:https://www.se-ma.ch/event/oekum-seniorenferien-flawil-2/
LOCATION:St. Gallen
CATEGORIES:Anlässe und Veranstaltungen
END:VEVENT
BEGIN:VEVENT
DTSTART;VALUE=DATE:20250913
DTEND;VALUE=DATE:20250914
DTSTAMP:20260422T003500
CREATED:20250827T061035Z
LAST-MODIFIED:20250827T061035Z
UID:53894-1757721600-1757807999@www.se-ma.ch
SUMMARY:Blauring Flawil - Jublatag mit Lagerrückblick
DESCRIPTION:
URL:https://www.se-ma.ch/event/blauring-flawil-jublatag-mit-lagerrueckblick/
LOCATION:St. Gallen
CATEGORIES:Kinder und Familien
END:VEVENT
BEGIN:VEVENT
DTSTART;VALUE=DATE:20250913
DTEND;VALUE=DATE:20250915
DTSTAMP:20260422T003500
CREATED:20250827T060948Z
LAST-MODIFIED:20250827T060948Z
UID:53892-1757721600-1757894399@www.se-ma.ch
SUMMARY:Kollpingfamilie Flawil - Frauenweekend
DESCRIPTION:
URL:https://www.se-ma.ch/event/kollpingfamilie-flawil-frauenweekend/
LOCATION:St. Gallen
CATEGORIES:Anlässe und Veranstaltungen
END:VEVENT
BEGIN:VEVENT
DTSTART;TZID=Europe/Zurich:20250913T100000
DTEND;TZID=Europe/Zurich:20250913T103000
DTSTAMP:20260422T003500
CREATED:20250610T124653Z
LAST-MODIFIED:20250610T124653Z
UID:53114-1757757600-1757759400@www.se-ma.ch
SUMMARY:Degersheim: Führungen mit den Dorfchronisten
DESCRIPTION:Treffpunkt beim Turmeingang. \nInteressierte melden sich  bitte im Sekretariat T 071 371 10 17 oder per Mail: hc.am-esobfsctd-8027ac@miehsreged-tairaterkes\, an. Bitte Name und Handynummern für Info’s angeben.
URL:https://www.se-ma.ch/event/degersheim-fuehrungen-mit-den-dorfchronisten-2/
LOCATION:Jakobuskirche Degersheim\, Bergstrasse 10\, Degersheim\, 9113\, Schweiz
CATEGORIES:Anlässe und Veranstaltungen
END:VEVENT
BEGIN:VEVENT
DTSTART;TZID=Europe/Zurich:20250913T173000
DTEND;TZID=Europe/Zurich:20250913T173000
DTSTAMP:20260422T003500
CREATED:20241124T141919Z
LAST-MODIFIED:20241124T141919Z
UID:49630-1757784600-1757784600@www.se-ma.ch
SUMMARY:Flawil: Eucharistiefeier in Portugiesisch
DESCRIPTION:
URL:https://www.se-ma.ch/event/flawil-eucharistiefeier-in-portugiesisch-24/
LOCATION:Kapelle St. Laurentius Flawil\, Enzenbühlstrasse 20\, Flawil\, 9230\, Schweiz
CATEGORIES:Gottesdienste
END:VEVENT
END:VCALENDAR