BEGIN:VCALENDAR
VERSION:2.0
PRODID:-//Seelsorgeeinheit Magdenau - ECPv6.15.20//NONSGML v1.0//EN
CALSCALE:GREGORIAN
METHOD:PUBLISH
X-WR-CALNAME:Seelsorgeeinheit Magdenau
X-ORIGINAL-URL:https://www.se-ma.ch
X-WR-CALDESC:Veranstaltungen für Seelsorgeeinheit Magdenau
REFRESH-INTERVAL;VALUE=DURATION:PT1H
X-Robots-Tag:noindex
X-PUBLISHED-TTL:PT1H
BEGIN:VTIMEZONE
TZID:Europe/Zurich
BEGIN:DAYLIGHT
TZOFFSETFROM:+0100
TZOFFSETTO:+0200
TZNAME:CEST
DTSTART:20240331T010000
END:DAYLIGHT
BEGIN:STANDARD
TZOFFSETFROM:+0200
TZOFFSETTO:+0100
TZNAME:CET
DTSTART:20241027T010000
END:STANDARD
BEGIN:DAYLIGHT
TZOFFSETFROM:+0100
TZOFFSETTO:+0200
TZNAME:CEST
DTSTART:20250330T010000
END:DAYLIGHT
BEGIN:STANDARD
TZOFFSETFROM:+0200
TZOFFSETTO:+0100
TZNAME:CET
DTSTART:20251026T010000
END:STANDARD
BEGIN:DAYLIGHT
TZOFFSETFROM:+0100
TZOFFSETTO:+0200
TZNAME:CEST
DTSTART:20260329T010000
END:DAYLIGHT
BEGIN:STANDARD
TZOFFSETFROM:+0200
TZOFFSETTO:+0100
TZNAME:CET
DTSTART:20261025T010000
END:STANDARD
END:VTIMEZONE
BEGIN:VEVENT
DTSTART;TZID=Europe/Zurich:20250921T093000
DTEND;TZID=Europe/Zurich:20250921T093000
DTSTAMP:20260422T003329
CREATED:20250804T053802Z
LAST-MODIFIED:20250804T053806Z
UID:53649-1758447000-1758447000@www.se-ma.ch
SUMMARY:Flawil: Eucharistiefeier in Spanisch
DESCRIPTION:
URL:https://www.se-ma.ch/event/flawil-eucharistiefeier-in-spanisch-51/
LOCATION:Kapelle St. Laurentius Flawil\, Enzenbühlstrasse 20\, Flawil\, 9230\, Schweiz
CATEGORIES:Gottesdienste
END:VEVENT
BEGIN:VEVENT
DTSTART;TZID=Europe/Zurich:20250921T094000
DTEND;TZID=Europe/Zurich:20250921T104000
DTSTAMP:20260422T003329
CREATED:20250319T090944Z
LAST-MODIFIED:20250319T090944Z
UID:51659-1758447600-1758451200@www.se-ma.ch
SUMMARY:Degersheim: Einladungs-Gottesdienst in die evang. Kirche
DESCRIPTION:Eidg. Dank-\, Buss- und Bettag
URL:https://www.se-ma.ch/event/degersheim-einladungs-gottesdienst-in-die-evang-kirche/
LOCATION:evang. Kirche Degersheim\, Steineggstrasse 10\, Degersheim\, 9113
CATEGORIES:Gottesdienste
END:VEVENT
BEGIN:VEVENT
DTSTART;TZID=Europe/Zurich:20250921T101500
DTEND;TZID=Europe/Zurich:20250921T101500
DTSTAMP:20260422T003329
CREATED:20250527T134606Z
LAST-MODIFIED:20250527T134606Z
UID:52878-1758449700-1758449700@www.se-ma.ch
SUMMARY:Flawil: Einladungsgottesdienst zum Bettag\, Kommunionfeier mit Männerchor
DESCRIPTION:anschliessend Apéro
URL:https://www.se-ma.ch/event/flawil-einladungsgottesdienst-zum-bettag-kommunionfeier-mit-maennerchor/
LOCATION:Kirche St. Laurentius Flawil\, Enzenbühlstrasse 20\, Flawil\, 9230\, Schweiz
CATEGORIES:Gottesdienste
END:VEVENT
BEGIN:VEVENT
DTSTART;TZID=Europe/Zurich:20250921T160000
DTEND;TZID=Europe/Zurich:20250921T160000
DTSTAMP:20260422T003329
CREATED:20241119T100250Z
LAST-MODIFIED:20250819T062227Z
UID:49481-1758470400-1758470400@www.se-ma.ch
SUMMARY:Wolfertswil: SEMA Bettagsandacht
DESCRIPTION:
URL:https://www.se-ma.ch/event/wolfertswil-sema-bettagsandacht-2/
LOCATION:Kirche Bruder Klaus\, Wolfertswil\, 9116
END:VEVENT
END:VCALENDAR