BEGIN:VCALENDAR
VERSION:2.0
PRODID:-//Seelsorgeeinheit Magdenau - ECPv6.15.20//NONSGML v1.0//EN
CALSCALE:GREGORIAN
METHOD:PUBLISH
X-ORIGINAL-URL:https://www.se-ma.ch
X-WR-CALDESC:Veranstaltungen für Seelsorgeeinheit Magdenau
REFRESH-INTERVAL;VALUE=DURATION:PT1H
X-Robots-Tag:noindex
X-PUBLISHED-TTL:PT1H
BEGIN:VTIMEZONE
TZID:Europe/Zurich
BEGIN:DAYLIGHT
TZOFFSETFROM:+0100
TZOFFSETTO:+0200
TZNAME:CEST
DTSTART:20240331T010000
END:DAYLIGHT
BEGIN:STANDARD
TZOFFSETFROM:+0200
TZOFFSETTO:+0100
TZNAME:CET
DTSTART:20241027T010000
END:STANDARD
BEGIN:DAYLIGHT
TZOFFSETFROM:+0100
TZOFFSETTO:+0200
TZNAME:CEST
DTSTART:20250330T010000
END:DAYLIGHT
BEGIN:STANDARD
TZOFFSETFROM:+0200
TZOFFSETTO:+0100
TZNAME:CET
DTSTART:20251026T010000
END:STANDARD
BEGIN:DAYLIGHT
TZOFFSETFROM:+0100
TZOFFSETTO:+0200
TZNAME:CEST
DTSTART:20260329T010000
END:DAYLIGHT
BEGIN:STANDARD
TZOFFSETFROM:+0200
TZOFFSETTO:+0100
TZNAME:CET
DTSTART:20261025T010000
END:STANDARD
END:VTIMEZONE
BEGIN:VEVENT
DTSTART;TZID=Europe/Zurich:20251012T084500
DTEND;TZID=Europe/Zurich:20251012T084500
DTSTAMP:20260421T224249
CREATED:20241119T100833Z
LAST-MODIFIED:20241119T100840Z
UID:49487-1760258700-1760258700@www.se-ma.ch
SUMMARY:Wolfertswil: Eucharistie-Salbungsgottesdienst
DESCRIPTION:
URL:https://www.se-ma.ch/event/wolfertswil-eucharistie-salbungsgottesdienst/
LOCATION:Kirche Bruder Klaus\, Wolfertswil\, 9116
END:VEVENT
BEGIN:VEVENT
DTSTART;TZID=Europe/Zurich:20251012T090000
DTEND;TZID=Europe/Zurich:20251012T090000
DTSTAMP:20260421T224249
CREATED:20241124T140322Z
LAST-MODIFIED:20241124T140322Z
UID:49581-1760259600-1760259600@www.se-ma.ch
SUMMARY:Eucharistiefeier in Italienisch
DESCRIPTION:
URL:https://www.se-ma.ch/event/eucharistiefeier-in-italienisch-51/
LOCATION:Kapelle St. Laurentius Flawil\, Enzenbühlstrasse 20\, Flawil\, 9230\, Schweiz
CATEGORIES:Gottesdienste
END:VEVENT
BEGIN:VEVENT
DTSTART;TZID=Europe/Zurich:20251012T101500
DTEND;TZID=Europe/Zurich:20251012T101500
DTSTAMP:20260421T224249
CREATED:20250527T133707Z
LAST-MODIFIED:20250527T133710Z
UID:52859-1760264100-1760264100@www.se-ma.ch
SUMMARY:Flawil: Salbungsgottesdienst\, Eucharistiefeier mit Kirchenchor
DESCRIPTION:
URL:https://www.se-ma.ch/event/flawil-salbungsgottesdienst-eucharistiefeier-mit-kirchenchor/
LOCATION:Kirche St. Laurentius Flawil\, Enzenbühlstrasse 20\, Flawil\, 9230\, Schweiz
CATEGORIES:Gottesdienste
END:VEVENT
END:VCALENDAR