BEGIN:VCALENDAR
VERSION:2.0
PRODID:-//Seelsorgeeinheit Magdenau - ECPv6.15.20//NONSGML v1.0//EN
CALSCALE:GREGORIAN
METHOD:PUBLISH
X-ORIGINAL-URL:https://www.se-ma.ch
X-WR-CALDESC:Veranstaltungen für Seelsorgeeinheit Magdenau
REFRESH-INTERVAL;VALUE=DURATION:PT1H
X-Robots-Tag:noindex
X-PUBLISHED-TTL:PT1H
BEGIN:VTIMEZONE
TZID:Europe/Zurich
BEGIN:DAYLIGHT
TZOFFSETFROM:+0100
TZOFFSETTO:+0200
TZNAME:CEST
DTSTART:20240331T010000
END:DAYLIGHT
BEGIN:STANDARD
TZOFFSETFROM:+0200
TZOFFSETTO:+0100
TZNAME:CET
DTSTART:20241027T010000
END:STANDARD
BEGIN:DAYLIGHT
TZOFFSETFROM:+0100
TZOFFSETTO:+0200
TZNAME:CEST
DTSTART:20250330T010000
END:DAYLIGHT
BEGIN:STANDARD
TZOFFSETFROM:+0200
TZOFFSETTO:+0100
TZNAME:CET
DTSTART:20251026T010000
END:STANDARD
BEGIN:DAYLIGHT
TZOFFSETFROM:+0100
TZOFFSETTO:+0200
TZNAME:CEST
DTSTART:20260329T010000
END:DAYLIGHT
BEGIN:STANDARD
TZOFFSETFROM:+0200
TZOFFSETTO:+0100
TZNAME:CET
DTSTART:20261025T010000
END:STANDARD
END:VTIMEZONE
BEGIN:VEVENT
DTSTART;VALUE=DATE:20251116
DTEND;VALUE=DATE:20251117
DTSTAMP:20260421T211341
CREATED:20251031T080906Z
LAST-MODIFIED:20251031T080906Z
UID:54832-1763251200-1763337599@www.se-ma.ch
SUMMARY:Flawil: Einblick ins Pfadijahr
DESCRIPTION:
URL:https://www.se-ma.ch/event/flawil-einblick-ins-pfadijahr/
LOCATION:Pfarreizentrum Flawil\, Enzenbühlstrasse 16\, Flawil\, 9230\, Schweiz
CATEGORIES:Anlässe und Veranstaltungen,Kinder und Familien
END:VEVENT
BEGIN:VEVENT
DTSTART;TZID=Europe/Zurich:20251116T093000
DTEND;TZID=Europe/Zurich:20251116T093000
DTSTAMP:20260421T211341
CREATED:20250804T053845Z
LAST-MODIFIED:20250804T053850Z
UID:53653-1763285400-1763285400@www.se-ma.ch
SUMMARY:Flawil: Eucharistiefeier in Spanisch
DESCRIPTION:
URL:https://www.se-ma.ch/event/flawil-eucharistiefeier-in-spanisch-53/
LOCATION:Kapelle St. Laurentius Flawil\, Enzenbühlstrasse 20\, Flawil\, 9230\, Schweiz
CATEGORIES:Gottesdienste
END:VEVENT
BEGIN:VEVENT
DTSTART;TZID=Europe/Zurich:20251116T101500
DTEND;TZID=Europe/Zurich:20251116T101500
DTSTAMP:20260421T211341
CREATED:20250527T135016Z
LAST-MODIFIED:20251031T082938Z
UID:52891-1763288100-1763288100@www.se-ma.ch
SUMMARY:Flawil: Kommunionfeier mit Jugendlichen auf dem Firmweg
DESCRIPTION:
URL:https://www.se-ma.ch/event/flawil-kommunionfeier-mit-jugendlichen-auf-dem-firmweg/
LOCATION:Kirche St. Laurentius Flawil\, Enzenbühlstrasse 20\, Flawil\, 9230\, Schweiz
CATEGORIES:Gottesdienste
END:VEVENT
BEGIN:VEVENT
DTSTART;TZID=Europe/Zurich:20251116T103000
DTEND;TZID=Europe/Zurich:20251116T103000
DTSTAMP:20260421T211341
CREATED:20250919T070711Z
LAST-MODIFIED:20251031T080436Z
UID:54252-1763289000-1763289000@www.se-ma.ch
SUMMARY:Gott einen Ort sichern - Gemeinsamer Anlass in der Kathedrale
DESCRIPTION:
URL:https://www.se-ma.ch/event/gott-einen-ort-sichern-gemeinsamer-anlass-in-der-kathedrale/
LOCATION:Ref. Kirche Feld\, Flawil\, 9230\, Schweiz
CATEGORIES:Anlässe und Veranstaltungen
END:VEVENT
END:VCALENDAR