BEGIN:VCALENDAR
VERSION:2.0
PRODID:-//Seelsorgeeinheit Magdenau - ECPv6.15.20//NONSGML v1.0//EN
CALSCALE:GREGORIAN
METHOD:PUBLISH
X-ORIGINAL-URL:https://www.se-ma.ch
X-WR-CALDESC:Veranstaltungen für Seelsorgeeinheit Magdenau
REFRESH-INTERVAL;VALUE=DURATION:PT1H
X-Robots-Tag:noindex
X-PUBLISHED-TTL:PT1H
BEGIN:VTIMEZONE
TZID:Europe/Zurich
BEGIN:DAYLIGHT
TZOFFSETFROM:+0100
TZOFFSETTO:+0200
TZNAME:CEST
DTSTART:20240331T010000
END:DAYLIGHT
BEGIN:STANDARD
TZOFFSETFROM:+0200
TZOFFSETTO:+0100
TZNAME:CET
DTSTART:20241027T010000
END:STANDARD
BEGIN:DAYLIGHT
TZOFFSETFROM:+0100
TZOFFSETTO:+0200
TZNAME:CEST
DTSTART:20250330T010000
END:DAYLIGHT
BEGIN:STANDARD
TZOFFSETFROM:+0200
TZOFFSETTO:+0100
TZNAME:CET
DTSTART:20251026T010000
END:STANDARD
BEGIN:DAYLIGHT
TZOFFSETFROM:+0100
TZOFFSETTO:+0200
TZNAME:CEST
DTSTART:20260329T010000
END:DAYLIGHT
BEGIN:STANDARD
TZOFFSETFROM:+0200
TZOFFSETTO:+0100
TZNAME:CET
DTSTART:20261025T010000
END:STANDARD
END:VTIMEZONE
BEGIN:VEVENT
DTSTART;TZID=Europe/Zurich:20251121T183000
DTEND;TZID=Europe/Zurich:20251121T183000
DTSTAMP:20260421T211237
CREATED:20251121T071800Z
LAST-MODIFIED:20251121T072932Z
UID:55136-1763749800-1763749800@www.se-ma.ch
SUMMARY:Niederglatt: Adventsanlass Antonias Stern
DESCRIPTION:Adventsanlass des Pfarreigremiums
URL:https://www.se-ma.ch/event/niederglatt-adventsanlass-antonias-stern/
LOCATION:Felix + Regula Kirche Niederglatt\, Niederglatt\, 9240\, Schweiz
CATEGORIES:Anlässe und Veranstaltungen,Kinder und Familien
ORGANIZER;CN="Pfarreigremium Niederglatt":MAILTO:sekretariat-flawil@se-ma.ch
END:VEVENT
BEGIN:VEVENT
DTSTART;TZID=Europe/Zurich:20251121T193000
DTEND;TZID=Europe/Zurich:20251121T193000
DTSTAMP:20260421T211237
CREATED:20251031T075340Z
LAST-MODIFIED:20251031T082347Z
UID:54826-1763753400-1763753400@www.se-ma.ch
SUMMARY:SEMA: Lagerrückblick der Minis
DESCRIPTION:
URL:https://www.se-ma.ch/event/sema-lagerrueckblick-der-minis/
LOCATION:Pfarreizentrum Flawil\, Enzenbühlstrasse 16\, Flawil\, 9230\, Schweiz
CATEGORIES:Anlässe und Veranstaltungen,Kinder und Familien
END:VEVENT
END:VCALENDAR