BEGIN:VCALENDAR
VERSION:2.0
PRODID:-//Seelsorgeeinheit Magdenau - ECPv6.15.20//NONSGML v1.0//EN
CALSCALE:GREGORIAN
METHOD:PUBLISH
X-WR-CALNAME:Seelsorgeeinheit Magdenau
X-ORIGINAL-URL:https://www.se-ma.ch
X-WR-CALDESC:Veranstaltungen für Seelsorgeeinheit Magdenau
REFRESH-INTERVAL;VALUE=DURATION:PT1H
X-Robots-Tag:noindex
X-PUBLISHED-TTL:PT1H
BEGIN:VTIMEZONE
TZID:Europe/Zurich
BEGIN:DAYLIGHT
TZOFFSETFROM:+0100
TZOFFSETTO:+0200
TZNAME:CEST
DTSTART:20240331T010000
END:DAYLIGHT
BEGIN:STANDARD
TZOFFSETFROM:+0200
TZOFFSETTO:+0100
TZNAME:CET
DTSTART:20241027T010000
END:STANDARD
BEGIN:DAYLIGHT
TZOFFSETFROM:+0100
TZOFFSETTO:+0200
TZNAME:CEST
DTSTART:20250330T010000
END:DAYLIGHT
BEGIN:STANDARD
TZOFFSETFROM:+0200
TZOFFSETTO:+0100
TZNAME:CET
DTSTART:20251026T010000
END:STANDARD
BEGIN:DAYLIGHT
TZOFFSETFROM:+0100
TZOFFSETTO:+0200
TZNAME:CEST
DTSTART:20260329T010000
END:DAYLIGHT
BEGIN:STANDARD
TZOFFSETFROM:+0200
TZOFFSETTO:+0100
TZNAME:CET
DTSTART:20261025T010000
END:STANDARD
END:VTIMEZONE
BEGIN:VEVENT
DTSTART;VALUE=DATE:20251205
DTEND;VALUE=DATE:20251206
DTSTAMP:20260421T194902
CREATED:20250707T055349Z
LAST-MODIFIED:20250730T070115Z
UID:53447-1764892800-1764979199@www.se-ma.ch
SUMMARY:Herz-Jesu-Freitag
DESCRIPTION:In Degersheim um 09.00 Uhr\, in Flawil entfällt der Herz-Jesu-Freitag\, da um 15.00 Uhr ein Krankensalbungsgottesdienst gefeiert wird.
URL:https://www.se-ma.ch/event/herz-jesu-freitag-4/
LOCATION:St. Gallen
CATEGORIES:Gottesdienste
END:VEVENT
BEGIN:VEVENT
DTSTART;TZID=Europe/Zurich:20251205T060000
DTEND;TZID=Europe/Zurich:20251205T060000
DTSTAMP:20260421T194902
CREATED:20251121T071202Z
LAST-MODIFIED:20251121T071202Z
UID:55132-1764914400-1764914400@www.se-ma.ch
SUMMARY:Bichwil: Roratefeier mit den Erstkommunionkindern
DESCRIPTION:
URL:https://www.se-ma.ch/event/bichwil-roratefeier-mit-den-erstkommunionkindern/
LOCATION:Kirche Bichwil
CATEGORIES:Gottesdienste,Kinder und Familien
END:VEVENT
BEGIN:VEVENT
DTSTART;TZID=Europe/Zurich:20251205T150000
DTEND;TZID=Europe/Zurich:20251205T150000
DTSTAMP:20260421T194902
CREATED:20250527T143933Z
LAST-MODIFIED:20250527T143936Z
UID:52944-1764946800-1764946800@www.se-ma.ch
SUMMARY:Flawil: Krankensalbungsgottesdienst\, Eucharistiefeier
DESCRIPTION:anschliessend Kaffee und Kuchen im Pfarreizentrum \nDer Gottesdienst um 18.30 Uhr entfällt
URL:https://www.se-ma.ch/event/flawil-krankensalbungsgottesdienst-eucharistiefeier/
LOCATION:Kirche St. Laurentius Flawil\, Enzenbühlstrasse 20\, Flawil\, 9230\, Schweiz
CATEGORIES:Gottesdienste
END:VEVENT
BEGIN:VEVENT
DTSTART;TZID=Europe/Zurich:20251205T183000
DTEND;TZID=Europe/Zurich:20251205T200000
DTSTAMP:20260421T194902
CREATED:20250312T084132Z
LAST-MODIFIED:20251112T104542Z
UID:51574-1764959400-1764964800@www.se-ma.ch
SUMMARY:Degersheim: Zämägang geht in die Guetzli-Backstube
DESCRIPTION:für einander da sein \nzusammen statt alleine \nHast du Lust\, mit uns zum „guetzlä“? \nDann melde dich heute noch an! Anmeldeschluss ist am 2. Dezember 2025. \nTreffpunkt beim Pfarreiheim Degersheim! \nIch freue mich auf dich! \nSilvan Hollenstein\, Seelsorger\, Tel. 079 743 73 89
URL:https://www.se-ma.ch/event/degersheim-zaemaegang-24/
LOCATION:Pfarreiheim
CATEGORIES:Anlässe und Veranstaltungen
END:VEVENT
END:VCALENDAR