BEGIN:VCALENDAR
VERSION:2.0
PRODID:-//Seelsorgeeinheit Magdenau - ECPv6.15.20//NONSGML v1.0//EN
CALSCALE:GREGORIAN
METHOD:PUBLISH
X-ORIGINAL-URL:https://www.se-ma.ch
X-WR-CALDESC:Veranstaltungen für Seelsorgeeinheit Magdenau
REFRESH-INTERVAL;VALUE=DURATION:PT1H
X-Robots-Tag:noindex
X-PUBLISHED-TTL:PT1H
BEGIN:VTIMEZONE
TZID:Europe/Zurich
BEGIN:DAYLIGHT
TZOFFSETFROM:+0100
TZOFFSETTO:+0200
TZNAME:CEST
DTSTART:20240331T010000
END:DAYLIGHT
BEGIN:STANDARD
TZOFFSETFROM:+0200
TZOFFSETTO:+0100
TZNAME:CET
DTSTART:20241027T010000
END:STANDARD
BEGIN:DAYLIGHT
TZOFFSETFROM:+0100
TZOFFSETTO:+0200
TZNAME:CEST
DTSTART:20250330T010000
END:DAYLIGHT
BEGIN:STANDARD
TZOFFSETFROM:+0200
TZOFFSETTO:+0100
TZNAME:CET
DTSTART:20251026T010000
END:STANDARD
BEGIN:DAYLIGHT
TZOFFSETFROM:+0100
TZOFFSETTO:+0200
TZNAME:CEST
DTSTART:20260329T010000
END:DAYLIGHT
BEGIN:STANDARD
TZOFFSETFROM:+0200
TZOFFSETTO:+0100
TZNAME:CET
DTSTART:20261025T010000
END:STANDARD
END:VTIMEZONE
BEGIN:VEVENT
DTSTART;TZID=Europe/Zurich:20251206T170000
DTEND;TZID=Europe/Zurich:20251206T190000
DTSTAMP:20260421T211259
CREATED:20250124T071629Z
LAST-MODIFIED:20250124T071629Z
UID:50584-1765040400-1765047600@www.se-ma.ch
SUMMARY:Flawil: Familientreff - Besuch beim Samichlaus
DESCRIPTION:Jahresprogramm 2025
URL:https://www.se-ma.ch/event/flawil-familientreff-besuch-beim-samichlaus/
LOCATION:Rehwald Flawil
CATEGORIES:Kinder und Familien
ORGANIZER;CN="Familientreff Flawil":MAILTO:familientreff@bluewin.ch
END:VEVENT
BEGIN:VEVENT
DTSTART;TZID=Europe/Zurich:20251206T173000
DTEND;TZID=Europe/Zurich:20251206T183000
DTSTAMP:20260421T211259
CREATED:20250319T093634Z
LAST-MODIFIED:20251111T103058Z
UID:51697-1765042200-1765045800@www.se-ma.ch
SUMMARY:Degersheim: Eucharistiefeier
DESCRIPTION:mit Kiran Gottipati\, musikalisch begleitet an der Querflöte Rosa Maria Künzler
URL:https://www.se-ma.ch/event/degersheim-eucharistiefeier-55/
LOCATION:Jakobuskirche Degersheim\, Bergstrasse 10\, Degersheim\, 9113\, Schweiz
CATEGORIES:Gottesdienste,Kinder und Familien
END:VEVENT
END:VCALENDAR