BEGIN:VCALENDAR
VERSION:2.0
PRODID:-//Seelsorgeeinheit Magdenau - ECPv6.15.20//NONSGML v1.0//EN
CALSCALE:GREGORIAN
METHOD:PUBLISH
X-ORIGINAL-URL:https://www.se-ma.ch
X-WR-CALDESC:Veranstaltungen für Seelsorgeeinheit Magdenau
REFRESH-INTERVAL;VALUE=DURATION:PT1H
X-Robots-Tag:noindex
X-PUBLISHED-TTL:PT1H
BEGIN:VTIMEZONE
TZID:Europe/Zurich
BEGIN:DAYLIGHT
TZOFFSETFROM:+0100
TZOFFSETTO:+0200
TZNAME:CEST
DTSTART:20240331T010000
END:DAYLIGHT
BEGIN:STANDARD
TZOFFSETFROM:+0200
TZOFFSETTO:+0100
TZNAME:CET
DTSTART:20241027T010000
END:STANDARD
BEGIN:DAYLIGHT
TZOFFSETFROM:+0100
TZOFFSETTO:+0200
TZNAME:CEST
DTSTART:20250330T010000
END:DAYLIGHT
BEGIN:STANDARD
TZOFFSETFROM:+0200
TZOFFSETTO:+0100
TZNAME:CET
DTSTART:20251026T010000
END:STANDARD
BEGIN:DAYLIGHT
TZOFFSETFROM:+0100
TZOFFSETTO:+0200
TZNAME:CEST
DTSTART:20260329T010000
END:DAYLIGHT
BEGIN:STANDARD
TZOFFSETFROM:+0200
TZOFFSETTO:+0100
TZNAME:CET
DTSTART:20261025T010000
END:STANDARD
END:VTIMEZONE
BEGIN:VEVENT
DTSTART;TZID=Europe/Zurich:20251214T090000
DTEND;TZID=Europe/Zurich:20251214T090000
DTSTAMP:20260421T195140
CREATED:20241124T140352Z
LAST-MODIFIED:20241124T140352Z
UID:49585-1765702800-1765702800@www.se-ma.ch
SUMMARY:Eucharistiefeier in Italienisch
DESCRIPTION:
URL:https://www.se-ma.ch/event/eucharistiefeier-in-italienisch-53/
LOCATION:Kapelle St. Laurentius Flawil\, Enzenbühlstrasse 20\, Flawil\, 9230\, Schweiz
CATEGORIES:Gottesdienste
END:VEVENT
BEGIN:VEVENT
DTSTART;TZID=Europe/Zurich:20251214T101500
DTEND;TZID=Europe/Zurich:20251214T101500
DTSTAMP:20260421T195140
CREATED:20250527T135154Z
LAST-MODIFIED:20251021T091617Z
UID:52897-1765707300-1765707300@www.se-ma.ch
SUMMARY:Flawil: SEMA Jubiläumsgottesdienst 20 Jahre Seelsorgeeinheit
DESCRIPTION:mit der Harmoniemusik\, Kommunionfeier
URL:https://www.se-ma.ch/event/flawil-musikgottesdienst-mit-der-harmoniemusik-kommunionfeier/
LOCATION:Kirche St. Laurentius Flawil\, Enzenbühlstrasse 20\, Flawil\, 9230\, Schweiz
CATEGORIES:Gottesdienste
END:VEVENT
BEGIN:VEVENT
DTSTART;TZID=Europe/Zurich:20251214T173000
DTEND;TZID=Europe/Zurich:20251214T183000
DTSTAMP:20260421T195140
CREATED:20250715T110555Z
LAST-MODIFIED:20250715T110555Z
UID:53570-1765733400-1765737000@www.se-ma.ch
SUMMARY:Degersheim: Abendlob im Advent
DESCRIPTION:
URL:https://www.se-ma.ch/event/degersheim-abendlob-im-advent-10/
LOCATION:Jakobuskirche Kapelle Degersheim\, Bergstrasse 10\, Degersheim\, St. Gallen\, 9113\, Schweiz
CATEGORIES:Gottesdienste
END:VEVENT
END:VCALENDAR