BEGIN:VCALENDAR
VERSION:2.0
PRODID:-//Seelsorgeeinheit Magdenau - ECPv6.15.20//NONSGML v1.0//EN
CALSCALE:GREGORIAN
METHOD:PUBLISH
X-ORIGINAL-URL:https://www.se-ma.ch
X-WR-CALDESC:Veranstaltungen für Seelsorgeeinheit Magdenau
REFRESH-INTERVAL;VALUE=DURATION:PT1H
X-Robots-Tag:noindex
X-PUBLISHED-TTL:PT1H
BEGIN:VTIMEZONE
TZID:Europe/Zurich
BEGIN:DAYLIGHT
TZOFFSETFROM:+0100
TZOFFSETTO:+0200
TZNAME:CEST
DTSTART:20240331T010000
END:DAYLIGHT
BEGIN:STANDARD
TZOFFSETFROM:+0200
TZOFFSETTO:+0100
TZNAME:CET
DTSTART:20241027T010000
END:STANDARD
BEGIN:DAYLIGHT
TZOFFSETFROM:+0100
TZOFFSETTO:+0200
TZNAME:CEST
DTSTART:20250330T010000
END:DAYLIGHT
BEGIN:STANDARD
TZOFFSETFROM:+0200
TZOFFSETTO:+0100
TZNAME:CET
DTSTART:20251026T010000
END:STANDARD
BEGIN:DAYLIGHT
TZOFFSETFROM:+0100
TZOFFSETTO:+0200
TZNAME:CEST
DTSTART:20260329T010000
END:DAYLIGHT
BEGIN:STANDARD
TZOFFSETFROM:+0200
TZOFFSETTO:+0100
TZNAME:CET
DTSTART:20261025T010000
END:STANDARD
END:VTIMEZONE
BEGIN:VEVENT
DTSTART;TZID=Europe/Zurich:20251216T060000
DTEND;TZID=Europe/Zurich:20251216T070000
DTSTAMP:20260421T195138
CREATED:20250319T094243Z
LAST-MODIFIED:20250730T065053Z
UID:51708-1765864800-1765868400@www.se-ma.ch
SUMMARY:Degersheim: Rorate
DESCRIPTION:mit Drittklässler
URL:https://www.se-ma.ch/event/degersheim-rorate-5/
LOCATION:Jakobuskirche Degersheim\, Bergstrasse 10\, Degersheim\, 9113\, Schweiz
CATEGORIES:Gottesdienste
END:VEVENT
BEGIN:VEVENT
DTSTART;TZID=Europe/Zurich:20251216T143000
DTEND;TZID=Europe/Zurich:20251216T170000
DTSTAMP:20260421T195138
CREATED:20241129T070447Z
LAST-MODIFIED:20241129T071036Z
UID:49825-1765895400-1765904400@www.se-ma.ch
SUMMARY:Degersheim: ökumenischer Seniorennachmittag
DESCRIPTION:Weihnachtliche Feier \nMusikalisch und gesanglich gestaltet von Jean-Luc Oberleitner mit seinem Akkordeon
URL:https://www.se-ma.ch/event/degersheim-oekumenischer-seniorennachmittag-4/
LOCATION:evang. Kirchgemeindehaus Degersheim\, Steineggstrasse 12\, Degersheim\, 9113\, Schweiz
CATEGORIES:Anlässe und Veranstaltungen
END:VEVENT
END:VCALENDAR