BEGIN:VCALENDAR
VERSION:2.0
PRODID:-//Seelsorgeeinheit Magdenau - ECPv6.15.20//NONSGML v1.0//EN
CALSCALE:GREGORIAN
METHOD:PUBLISH
X-WR-CALNAME:Seelsorgeeinheit Magdenau
X-ORIGINAL-URL:https://www.se-ma.ch
X-WR-CALDESC:Veranstaltungen für Seelsorgeeinheit Magdenau
REFRESH-INTERVAL;VALUE=DURATION:PT1H
X-Robots-Tag:noindex
X-PUBLISHED-TTL:PT1H
BEGIN:VTIMEZONE
TZID:Europe/Zurich
BEGIN:DAYLIGHT
TZOFFSETFROM:+0100
TZOFFSETTO:+0200
TZNAME:CEST
DTSTART:20240331T010000
END:DAYLIGHT
BEGIN:STANDARD
TZOFFSETFROM:+0200
TZOFFSETTO:+0100
TZNAME:CET
DTSTART:20241027T010000
END:STANDARD
BEGIN:DAYLIGHT
TZOFFSETFROM:+0100
TZOFFSETTO:+0200
TZNAME:CEST
DTSTART:20250330T010000
END:DAYLIGHT
BEGIN:STANDARD
TZOFFSETFROM:+0200
TZOFFSETTO:+0100
TZNAME:CET
DTSTART:20251026T010000
END:STANDARD
BEGIN:DAYLIGHT
TZOFFSETFROM:+0100
TZOFFSETTO:+0200
TZNAME:CEST
DTSTART:20260329T010000
END:DAYLIGHT
BEGIN:STANDARD
TZOFFSETFROM:+0200
TZOFFSETTO:+0100
TZNAME:CET
DTSTART:20261025T010000
END:STANDARD
END:VTIMEZONE
BEGIN:VEVENT
DTSTART;TZID=Europe/Zurich:20251219T183000
DTEND;TZID=Europe/Zurich:20251219T183000
DTSTAMP:20260421T194957
CREATED:20250527T135520Z
LAST-MODIFIED:20251121T070627Z
UID:52910-1766169000-1766169000@www.se-ma.ch
SUMMARY:Flawil: SEMA Standort- und Versöhnungsfeier mit Eucharistie
DESCRIPTION:
URL:https://www.se-ma.ch/event/flawil-sema-standort-und-versoehnungsfeier-mit-eucharistie/
LOCATION:Kirche St. Laurentius Flawil\, Enzenbühlstrasse 20\, Flawil\, 9230\, Schweiz
CATEGORIES:Gottesdienste
END:VEVENT
BEGIN:VEVENT
DTSTART;TZID=Europe/Zurich:20251219T183000
DTEND;TZID=Europe/Zurich:20251219T183000
DTSTAMP:20260421T194957
CREATED:20251202T064845Z
LAST-MODIFIED:20251202T064930Z
UID:55270-1766169000-1766169000@www.se-ma.ch
SUMMARY:Antonias Stern – Adventsanlass des Pfarreigremiums Niederglatt
DESCRIPTION:Wir erzählen die Geschichte von einem besonderen Stern. Ein Kinderchor singt passende weihnächtliche Lieder dazu. Bist du gespannt\, was Antonias Stern alles erlebt hat? Dann komm doch auch! Anschliessend wirst du mit feinen Guetzli\, Punsch und Glühwein verwöhnt. Wir freuen uns auf dich!\nPfarreigremium Niederglatt mit Yvonne Niedermann und Robin Lauener
URL:https://www.se-ma.ch/event/antonias-stern-adventsanlass-des-pfarreigremiums-niederglatt/
LOCATION:Felix + Regula Kirche Niederglatt\, Niederglatt\, 9240\, Schweiz
CATEGORIES:Kinder und Familien
ORGANIZER;CN="Pfarreigremium Niederglatt":MAILTO:sekretariat-flawil@se-ma.ch
END:VEVENT
END:VCALENDAR