BEGIN:VCALENDAR
VERSION:2.0
PRODID:-//Seelsorgeeinheit Magdenau - ECPv6.15.20//NONSGML v1.0//EN
CALSCALE:GREGORIAN
METHOD:PUBLISH
X-WR-CALNAME:Seelsorgeeinheit Magdenau
X-ORIGINAL-URL:https://www.se-ma.ch
X-WR-CALDESC:Veranstaltungen für Seelsorgeeinheit Magdenau
REFRESH-INTERVAL;VALUE=DURATION:PT1H
X-Robots-Tag:noindex
X-PUBLISHED-TTL:PT1H
BEGIN:VTIMEZONE
TZID:Europe/Zurich
BEGIN:DAYLIGHT
TZOFFSETFROM:+0100
TZOFFSETTO:+0200
TZNAME:CEST
DTSTART:20240331T010000
END:DAYLIGHT
BEGIN:STANDARD
TZOFFSETFROM:+0200
TZOFFSETTO:+0100
TZNAME:CET
DTSTART:20241027T010000
END:STANDARD
BEGIN:DAYLIGHT
TZOFFSETFROM:+0100
TZOFFSETTO:+0200
TZNAME:CEST
DTSTART:20250330T010000
END:DAYLIGHT
BEGIN:STANDARD
TZOFFSETFROM:+0200
TZOFFSETTO:+0100
TZNAME:CET
DTSTART:20251026T010000
END:STANDARD
BEGIN:DAYLIGHT
TZOFFSETFROM:+0100
TZOFFSETTO:+0200
TZNAME:CEST
DTSTART:20260329T010000
END:DAYLIGHT
BEGIN:STANDARD
TZOFFSETFROM:+0200
TZOFFSETTO:+0100
TZNAME:CET
DTSTART:20261025T010000
END:STANDARD
END:VTIMEZONE
BEGIN:VEVENT
DTSTART;TZID=Europe/Zurich:20251224T080000
DTEND;TZID=Europe/Zurich:20251224T170000
DTSTAMP:20260421T195000
CREATED:20251202T120908Z
LAST-MODIFIED:20251202T120908Z
UID:55326-1766563200-1766595600@www.se-ma.ch
SUMMARY:Degersheim und Wolfertswil: Sekretariate bleiben heute geschlossen!
DESCRIPTION:Die Sekretariate Degersheim und Wolfertswil bleiben heute geschlossen. In dringenden Fällen wenden Sie sich ans Notfalltelefon 071 393 14 14. Ab 30. Dezember 2025 sind wir wieder zu den gewohnten Büroöffnungszeiten für Sie erreichbar.
URL:https://www.se-ma.ch/event/degersheim-und-wolfertswil-sekretariate-bleiben-heute-geschlossen-3/
LOCATION:kath. Pfarramt Degersheim\, Friedbergstrasse 2\, 9113 Degersheim\, 9113\, Schweiz
CATEGORIES:Anlässe und Veranstaltungen
END:VEVENT
BEGIN:VEVENT
DTSTART;TZID=Europe/Zurich:20251224T170000
DTEND;TZID=Europe/Zurich:20251224T180000
DTSTAMP:20260421T195000
CREATED:20250319T094828Z
LAST-MODIFIED:20250319T094828Z
UID:51715-1766595600-1766599200@www.se-ma.ch
SUMMARY:Degersheim: ökum. Familien-Weihnachtsfeier in der evang. Kirche
DESCRIPTION:
URL:https://www.se-ma.ch/event/degersheim-oekum-familien-weihnachtsfeier-in-der-evang-kirche/
LOCATION:evang. Kirche Degersheim\, Steineggstrasse 10\, Degersheim\, 9113
CATEGORIES:Gottesdienste,Kinder und Familien
END:VEVENT
BEGIN:VEVENT
DTSTART;TZID=Europe/Zurich:20251224T180000
DTEND;TZID=Europe/Zurich:20251224T180000
DTSTAMP:20260421T195000
CREATED:20241119T102346Z
LAST-MODIFIED:20241119T102350Z
UID:49511-1766599200-1766599200@www.se-ma.ch
SUMMARY:Wolfertswil: Weihnachtsfeier für Erwachsene
DESCRIPTION:Eucharistiefeier
URL:https://www.se-ma.ch/event/wolfertswil-weihnachtsfeier-fuer-erwachsene/
LOCATION:Kirche Bruder Klaus\, Wolfertswil\, 9116
END:VEVENT
BEGIN:VEVENT
DTSTART;TZID=Europe/Zurich:20251224T183000
DTEND;TZID=Europe/Zurich:20251224T183000
DTSTAMP:20260421T195000
CREATED:20250527T141037Z
LAST-MODIFIED:20250527T141048Z
UID:52928-1766601000-1766601000@www.se-ma.ch
SUMMARY:Flawil: Weihnachten gemeinsam feiern! Im Zwinglisaal
DESCRIPTION:
URL:https://www.se-ma.ch/event/flawil-weihnachten-gemeinsam-feiern-im-zwinglisaal/
LOCATION:Zwinglisaal Flawil\, Lindenstrasse 6B\, Flawil\, SG\, 9230\, Schweiz
CATEGORIES:Anlässe und Veranstaltungen
END:VEVENT
BEGIN:VEVENT
DTSTART;TZID=Europe/Zurich:20251224T213000
DTEND;TZID=Europe/Zurich:20251224T213000
DTSTAMP:20260421T195000
CREATED:20250527T132106Z
LAST-MODIFIED:20250527T132835Z
UID:52839-1766611800-1766611800@www.se-ma.ch
SUMMARY:Niederglatt: Weihnachtsfeier mit Eucharistie
DESCRIPTION:
URL:https://www.se-ma.ch/event/niederglatt-weihnachtsfeier-mit-eucharistie/
LOCATION:Felix + Regula Kirche Niederglatt\, Niederglatt\, 9240\, Schweiz
CATEGORIES:Gottesdienste,Kinder und Familien
END:VEVENT
BEGIN:VEVENT
DTSTART;TZID=Europe/Zurich:20251224T230000
DTEND;TZID=Europe/Zurich:20251224T230000
DTSTAMP:20260421T195000
CREATED:20251121T070857Z
LAST-MODIFIED:20251121T070857Z
UID:55127-1766617200-1766617200@www.se-ma.ch
SUMMARY:Flawil: Mitternachtsfeier mit jungen Stimmen
DESCRIPTION:Kommunionfeier
URL:https://www.se-ma.ch/event/flawil-mitternachtsfeier-mit-jungen-stimmen/
LOCATION:Kirche St. Laurentius Flawil\, Enzenbühlstrasse 20\, Flawil\, 9230\, Schweiz
CATEGORIES:Gottesdienste
END:VEVENT
BEGIN:VEVENT
DTSTART;TZID=Europe/Zurich:20251224T230000
DTEND;TZID=Europe/Zurich:20251224T235500
DTSTAMP:20260421T195000
CREATED:20250319T094959Z
LAST-MODIFIED:20250730T072101Z
UID:51717-1766617200-1766620500@www.se-ma.ch
SUMMARY:Degersheim: Eucharistiefeier Mitternachtsfeier
DESCRIPTION:mit Kirchenchor
URL:https://www.se-ma.ch/event/degersheim-mitternachtsfeier/
LOCATION:Jakobuskirche Degersheim\, Bergstrasse 10\, Degersheim\, 9113\, Schweiz
CATEGORIES:Gottesdienste
END:VEVENT
END:VCALENDAR