BEGIN:VCALENDAR
VERSION:2.0
PRODID:-//Seelsorgeeinheit Magdenau - ECPv6.15.20//NONSGML v1.0//EN
CALSCALE:GREGORIAN
METHOD:PUBLISH
X-ORIGINAL-URL:https://www.se-ma.ch
X-WR-CALDESC:Veranstaltungen für Seelsorgeeinheit Magdenau
REFRESH-INTERVAL;VALUE=DURATION:PT1H
X-Robots-Tag:noindex
X-PUBLISHED-TTL:PT1H
BEGIN:VTIMEZONE
TZID:Europe/Zurich
BEGIN:DAYLIGHT
TZOFFSETFROM:+0100
TZOFFSETTO:+0200
TZNAME:CEST
DTSTART:20250330T010000
END:DAYLIGHT
BEGIN:STANDARD
TZOFFSETFROM:+0200
TZOFFSETTO:+0100
TZNAME:CET
DTSTART:20251026T010000
END:STANDARD
BEGIN:DAYLIGHT
TZOFFSETFROM:+0100
TZOFFSETTO:+0200
TZNAME:CEST
DTSTART:20260329T010000
END:DAYLIGHT
BEGIN:STANDARD
TZOFFSETFROM:+0200
TZOFFSETTO:+0100
TZNAME:CET
DTSTART:20261025T010000
END:STANDARD
BEGIN:DAYLIGHT
TZOFFSETFROM:+0100
TZOFFSETTO:+0200
TZNAME:CEST
DTSTART:20270328T010000
END:DAYLIGHT
BEGIN:STANDARD
TZOFFSETFROM:+0200
TZOFFSETTO:+0100
TZNAME:CET
DTSTART:20271031T010000
END:STANDARD
END:VTIMEZONE
BEGIN:VEVENT
DTSTART;TZID=Europe/Zurich:20260104T084500
DTEND;TZID=Europe/Zurich:20260104T084500
DTSTAMP:20260421T180810
CREATED:20250527T131834Z
LAST-MODIFIED:20260107T073923Z
UID:52831-1767516300-1767516300@www.se-ma.ch
SUMMARY:Niederglatt: Eucharistiefeier mit Salz- und Wassersegnung
DESCRIPTION:
URL:https://www.se-ma.ch/event/niederglatt-kommunionfeier-mit-jugendlichen-auf-dem-firmweg/
LOCATION:Felix + Regula Kirche Niederglatt\, Niederglatt\, 9240\, Schweiz
CATEGORIES:Gottesdienste
END:VEVENT
BEGIN:VEVENT
DTSTART;TZID=Europe/Zurich:20260104T093000
DTEND;TZID=Europe/Zurich:20260104T093000
DTSTAMP:20260421T180810
CREATED:20250804T053611Z
LAST-MODIFIED:20250804T053615Z
UID:53643-1767519000-1767519000@www.se-ma.ch
SUMMARY:Flawil: Eucharistiefeier in Spanisch
DESCRIPTION:ab 9.00 Uhr Beichtgelegenheit
URL:https://www.se-ma.ch/event/flawil-eucharistiefeier-in-spanisch-48/
LOCATION:Kapelle St. Laurentius Flawil\, Enzenbühlstrasse 20\, Flawil\, 9230\, Schweiz
CATEGORIES:Gottesdienste
END:VEVENT
BEGIN:VEVENT
DTSTART;TZID=Europe/Zurich:20260104T101500
DTEND;TZID=Europe/Zurich:20260104T101500
DTSTAMP:20260421T180810
CREATED:20260106T154409Z
LAST-MODIFIED:20260106T154409Z
UID:56001-1767521700-1767521700@www.se-ma.ch
SUMMARY:Flawil: Aussendung der Sternsinger\, Eucharistiefeier
DESCRIPTION:
URL:https://www.se-ma.ch/event/flawil-aussendung-der-sternsinger-eucharistiefeier/
LOCATION:Kirche St. Laurentius Flawil\, Enzenbühlstrasse 20\, Flawil\, 9230\, Schweiz
CATEGORIES:Gottesdienste,Kinder und Familien
END:VEVENT
BEGIN:VEVENT
DTSTART;TZID=Europe/Zurich:20260104T170000
DTEND;TZID=Europe/Zurich:20260104T170000
DTSTAMP:20260421T180810
CREATED:20251024T094014Z
LAST-MODIFIED:20251024T094014Z
UID:54586-1767546000-1767546000@www.se-ma.ch
SUMMARY:Degersheim: Dreikönigskonzert
DESCRIPTION:
URL:https://www.se-ma.ch/event/degersheim-dreikoenigskonzert-2/
LOCATION:St. Jakobuskirche Degersheim\, Bergstrasse 10\, Degersheim\, 9113\, Schweiz
END:VEVENT
END:VCALENDAR