BEGIN:VCALENDAR
VERSION:2.0
PRODID:-//Seelsorgeeinheit Magdenau - ECPv6.15.20//NONSGML v1.0//EN
CALSCALE:GREGORIAN
METHOD:PUBLISH
X-WR-CALNAME:Seelsorgeeinheit Magdenau
X-ORIGINAL-URL:https://www.se-ma.ch
X-WR-CALDESC:Veranstaltungen für Seelsorgeeinheit Magdenau
REFRESH-INTERVAL;VALUE=DURATION:PT1H
X-Robots-Tag:noindex
X-PUBLISHED-TTL:PT1H
BEGIN:VTIMEZONE
TZID:Europe/Zurich
BEGIN:DAYLIGHT
TZOFFSETFROM:+0100
TZOFFSETTO:+0200
TZNAME:CEST
DTSTART:20250330T010000
END:DAYLIGHT
BEGIN:STANDARD
TZOFFSETFROM:+0200
TZOFFSETTO:+0100
TZNAME:CET
DTSTART:20251026T010000
END:STANDARD
BEGIN:DAYLIGHT
TZOFFSETFROM:+0100
TZOFFSETTO:+0200
TZNAME:CEST
DTSTART:20260329T010000
END:DAYLIGHT
BEGIN:STANDARD
TZOFFSETFROM:+0200
TZOFFSETTO:+0100
TZNAME:CET
DTSTART:20261025T010000
END:STANDARD
BEGIN:DAYLIGHT
TZOFFSETFROM:+0100
TZOFFSETTO:+0200
TZNAME:CEST
DTSTART:20270328T010000
END:DAYLIGHT
BEGIN:STANDARD
TZOFFSETFROM:+0200
TZOFFSETTO:+0100
TZNAME:CET
DTSTART:20271031T010000
END:STANDARD
END:VTIMEZONE
BEGIN:VEVENT
DTSTART;TZID=Europe/Zurich:20260124T163000
DTEND;TZID=Europe/Zurich:20260124T184500
DTSTAMP:20260421T192856
CREATED:20251205T143112Z
LAST-MODIFIED:20251205T143322Z
UID:55409-1769272200-1769280300@www.se-ma.ch
SUMMARY:Begegnungsmosaik 2026
DESCRIPTION:Gin-Erlebnis bei Thomas Bohl \nAnmeldung: bis Dienstag\, 11. Januar\, Teilnehmerzahl begrenzt\, Ort: Drogerie Bohl\, Bahnhofstrasse 16\, Flawil
URL:https://www.se-ma.ch/event/begegnungsmosaik-2026-8/
LOCATION:St. Gallen
CATEGORIES:Anlässe und Veranstaltungen
END:VEVENT
BEGIN:VEVENT
DTSTART;TZID=Europe/Zurich:20260124T173000
DTEND;TZID=Europe/Zurich:20260124T173000
DTSTAMP:20260421T192856
CREATED:20251024T094635Z
LAST-MODIFIED:20251024T094635Z
UID:54594-1769275800-1769275800@www.se-ma.ch
SUMMARY:Degersheim: Eucharistiefeier
DESCRIPTION:
URL:https://www.se-ma.ch/event/degersheim-eucharistiefeier-56/
LOCATION:St. Jakobuskirche Degersheim\, Bergstrasse 10\, Degersheim\, 9113\, Schweiz
END:VEVENT
BEGIN:VEVENT
DTSTART;TZID=Europe/Zurich:20260124T173000
DTEND;TZID=Europe/Zurich:20260124T173000
DTSTAMP:20260421T192856
CREATED:20260106T152256Z
LAST-MODIFIED:20260106T152256Z
UID:55907-1769275800-1769275800@www.se-ma.ch
SUMMARY:Flawil: Eucharistiefeier in Portugiesisch
DESCRIPTION:
URL:https://www.se-ma.ch/event/flawil-eucharistiefeier-in-portugiesisch-32/
LOCATION:Kapelle St. Laurentius Flawil\, Enzenbühlstrasse 20\, Flawil\, 9230\, Schweiz
CATEGORIES:Gottesdienste
END:VEVENT
END:VCALENDAR