BEGIN:VCALENDAR
VERSION:2.0
PRODID:-//Seelsorgeeinheit Magdenau - ECPv6.15.20//NONSGML v1.0//EN
CALSCALE:GREGORIAN
METHOD:PUBLISH
X-WR-CALNAME:Seelsorgeeinheit Magdenau
X-ORIGINAL-URL:https://www.se-ma.ch
X-WR-CALDESC:Veranstaltungen für Seelsorgeeinheit Magdenau
REFRESH-INTERVAL;VALUE=DURATION:PT1H
X-Robots-Tag:noindex
X-PUBLISHED-TTL:PT1H
BEGIN:VTIMEZONE
TZID:Europe/Zurich
BEGIN:DAYLIGHT
TZOFFSETFROM:+0100
TZOFFSETTO:+0200
TZNAME:CEST
DTSTART:20250330T010000
END:DAYLIGHT
BEGIN:STANDARD
TZOFFSETFROM:+0200
TZOFFSETTO:+0100
TZNAME:CET
DTSTART:20251026T010000
END:STANDARD
BEGIN:DAYLIGHT
TZOFFSETFROM:+0100
TZOFFSETTO:+0200
TZNAME:CEST
DTSTART:20260329T010000
END:DAYLIGHT
BEGIN:STANDARD
TZOFFSETFROM:+0200
TZOFFSETTO:+0100
TZNAME:CET
DTSTART:20261025T010000
END:STANDARD
BEGIN:DAYLIGHT
TZOFFSETFROM:+0100
TZOFFSETTO:+0200
TZNAME:CEST
DTSTART:20270328T010000
END:DAYLIGHT
BEGIN:STANDARD
TZOFFSETFROM:+0200
TZOFFSETTO:+0100
TZNAME:CET
DTSTART:20271031T010000
END:STANDARD
END:VTIMEZONE
BEGIN:VEVENT
DTSTART;TZID=Europe/Zurich:20260322T083000
DTEND;TZID=Europe/Zurich:20260322T083000
DTSTAMP:20260421T145716
CREATED:20260106T152020Z
LAST-MODIFIED:20260106T152020Z
UID:55897-1774168200-1774168200@www.se-ma.ch
SUMMARY:Flawil: Eucharistiefeier in Italienisch
DESCRIPTION:
URL:https://www.se-ma.ch/event/flawil-eucharistiefeier-in-italienisch-21/
LOCATION:Kapelle St. Laurentius Flawil\, Enzenbühlstrasse 20\, Flawil\, 9230\, Schweiz
CATEGORIES:Gottesdienste
END:VEVENT
BEGIN:VEVENT
DTSTART;TZID=Europe/Zurich:20260322T084500
DTEND;TZID=Europe/Zurich:20260322T084500
DTSTAMP:20260421T145716
CREATED:20251024T093023Z
LAST-MODIFIED:20251219T082318Z
UID:54570-1774169100-1774169100@www.se-ma.ch
SUMMARY:Wolfertswil: Eucharistiefeier
DESCRIPTION:Versöhnungsfeier mit Standortbestimmung
URL:https://www.se-ma.ch/event/wolfertswil-eucharistiefeier-11/
LOCATION:Kirche Bruder Klaus\, Wolfertswil\, 9116
END:VEVENT
BEGIN:VEVENT
DTSTART;TZID=Europe/Zurich:20260322T101500
DTEND;TZID=Europe/Zurich:20260322T101500
DTSTAMP:20260421T145716
CREATED:20260106T155225Z
LAST-MODIFIED:20260106T155225Z
UID:56019-1774174500-1774174500@www.se-ma.ch
SUMMARY:Flawil: Versöhnungsfeier mit Standortbestimmung\, Eucharistiefeier
DESCRIPTION:
URL:https://www.se-ma.ch/event/flawil-versoehnungsfeier-mit-standortbestimmung-eucharistiefeier/
LOCATION:Kirche St. Laurentius Flawil\, Enzenbühlstrasse 20\, Flawil\, 9230\, Schweiz
CATEGORIES:Gottesdienste
END:VEVENT
BEGIN:VEVENT
DTSTART;TZID=Europe/Zurich:20260322T173000
DTEND;TZID=Europe/Zurich:20260322T173000
DTSTAMP:20260421T145716
CREATED:20251028T133254Z
LAST-MODIFIED:20251028T133258Z
UID:54768-1774200600-1774200600@www.se-ma.ch
SUMMARY:Degersheim: Abendlob zur Fastenzeit
DESCRIPTION:
URL:https://www.se-ma.ch/event/degersheim-abendlob-zur-fastenzeit-10/
LOCATION:St. Jakobuskirche Degersheim\, Bergstrasse 10\, Degersheim\, 9113\, Schweiz
CATEGORIES:Gottesdienste
END:VEVENT
END:VCALENDAR