BEGIN:VCALENDAR
VERSION:2.0
PRODID:-//Seelsorgeeinheit Magdenau - ECPv6.15.20//NONSGML v1.0//EN
CALSCALE:GREGORIAN
METHOD:PUBLISH
X-ORIGINAL-URL:https://www.se-ma.ch
X-WR-CALDESC:Veranstaltungen für Seelsorgeeinheit Magdenau
REFRESH-INTERVAL;VALUE=DURATION:PT1H
X-Robots-Tag:noindex
X-PUBLISHED-TTL:PT1H
BEGIN:VTIMEZONE
TZID:Europe/Zurich
BEGIN:DAYLIGHT
TZOFFSETFROM:+0100
TZOFFSETTO:+0200
TZNAME:CEST
DTSTART:20250330T010000
END:DAYLIGHT
BEGIN:STANDARD
TZOFFSETFROM:+0200
TZOFFSETTO:+0100
TZNAME:CET
DTSTART:20251026T010000
END:STANDARD
BEGIN:DAYLIGHT
TZOFFSETFROM:+0100
TZOFFSETTO:+0200
TZNAME:CEST
DTSTART:20260329T010000
END:DAYLIGHT
BEGIN:STANDARD
TZOFFSETFROM:+0200
TZOFFSETTO:+0100
TZNAME:CET
DTSTART:20261025T010000
END:STANDARD
BEGIN:DAYLIGHT
TZOFFSETFROM:+0100
TZOFFSETTO:+0200
TZNAME:CEST
DTSTART:20270328T010000
END:DAYLIGHT
BEGIN:STANDARD
TZOFFSETFROM:+0200
TZOFFSETTO:+0100
TZNAME:CET
DTSTART:20271031T010000
END:STANDARD
END:VTIMEZONE
BEGIN:VEVENT
DTSTART;TZID=Europe/Zurich:20260403T103000
DTEND;TZID=Europe/Zurich:20260403T103000
DTSTAMP:20260421T134040
CREATED:20260107T071745Z
LAST-MODIFIED:20260107T071745Z
UID:56079-1775212200-1775212200@www.se-ma.ch
SUMMARY:Flawil: Feier zum Karfreitag für Familien
DESCRIPTION:
URL:https://www.se-ma.ch/event/flawil-feier-zum-karfreitag-fuer-familien-3/
LOCATION:Kirche St. Laurentius Flawil\, Enzenbühlstrasse 20\, Flawil\, 9230\, Schweiz
CATEGORIES:Gottesdienste,Kinder und Familien
END:VEVENT
BEGIN:VEVENT
DTSTART;TZID=Europe/Zurich:20260403T150000
DTEND;TZID=Europe/Zurich:20260403T150000
DTSTAMP:20260421T134040
CREATED:20251028T133556Z
LAST-MODIFIED:20251028T133600Z
UID:54773-1775228400-1775228400@www.se-ma.ch
SUMMARY:Degersheim: Feier zum Karfreitag für Familien
DESCRIPTION:mit Karfreitags-Rätschen 14.45 – 14.58 Uhr
URL:https://www.se-ma.ch/event/degersheim-feier-zum-karfreitag-fuer-familien-3/
LOCATION:St. Jakobuskirche Degersheim\, Bergstrasse 10\, Degersheim\, 9113\, Schweiz
CATEGORIES:Gottesdienste,Kinder und Familien
END:VEVENT
BEGIN:VEVENT
DTSTART;TZID=Europe/Zurich:20260403T170000
DTEND;TZID=Europe/Zurich:20260403T170000
DTSTAMP:20260421T134040
CREATED:20251024T093207Z
LAST-MODIFIED:20251024T093207Z
UID:54573-1775235600-1775235600@www.se-ma.ch
SUMMARY:Wolfertswil: SEMA Kreuzweg für Erwachsene an Karfreitag
DESCRIPTION:
URL:https://www.se-ma.ch/event/wolfertswil-sema-kreuzweg-fuer-erwachsene-an-karfreitag/
LOCATION:Kirche Bruder Klaus\, Wolfertswil\, 9116
END:VEVENT
END:VCALENDAR