BEGIN:VCALENDAR
VERSION:2.0
PRODID:-//Seelsorgeeinheit Magdenau - ECPv6.15.20//NONSGML v1.0//EN
CALSCALE:GREGORIAN
METHOD:PUBLISH
X-WR-CALNAME:Seelsorgeeinheit Magdenau
X-ORIGINAL-URL:https://www.se-ma.ch
X-WR-CALDESC:Veranstaltungen für Seelsorgeeinheit Magdenau
REFRESH-INTERVAL;VALUE=DURATION:PT1H
X-Robots-Tag:noindex
X-PUBLISHED-TTL:PT1H
BEGIN:VTIMEZONE
TZID:Europe/Zurich
BEGIN:DAYLIGHT
TZOFFSETFROM:+0100
TZOFFSETTO:+0200
TZNAME:CEST
DTSTART:20250330T010000
END:DAYLIGHT
BEGIN:STANDARD
TZOFFSETFROM:+0200
TZOFFSETTO:+0100
TZNAME:CET
DTSTART:20251026T010000
END:STANDARD
BEGIN:DAYLIGHT
TZOFFSETFROM:+0100
TZOFFSETTO:+0200
TZNAME:CEST
DTSTART:20260329T010000
END:DAYLIGHT
BEGIN:STANDARD
TZOFFSETFROM:+0200
TZOFFSETTO:+0100
TZNAME:CET
DTSTART:20261025T010000
END:STANDARD
BEGIN:DAYLIGHT
TZOFFSETFROM:+0100
TZOFFSETTO:+0200
TZNAME:CEST
DTSTART:20270328T010000
END:DAYLIGHT
BEGIN:STANDARD
TZOFFSETFROM:+0200
TZOFFSETTO:+0100
TZNAME:CET
DTSTART:20271031T010000
END:STANDARD
END:VTIMEZONE
BEGIN:VEVENT
DTSTART;TZID=Europe/Zurich:20260404T203000
DTEND;TZID=Europe/Zurich:20260404T203000
DTSTAMP:20260421T133711
CREATED:20251028T133825Z
LAST-MODIFIED:20251028T133848Z
UID:54777-1775334600-1775334600@www.se-ma.ch
SUMMARY:Degersheim: Eucharistiefeier Osternacht
DESCRIPTION:Einladungsgottesdienst mit Übergabe der Osterkerze\, anschl. Eiertütschen \nKinder: gemeinsamer Start\, kurzer Impuls am Feuer
URL:https://www.se-ma.ch/event/degersheim-eucharistiefeier-osternacht/
LOCATION:St. Jakobuskirche Degersheim\, Bergstrasse 10\, Degersheim\, 9113\, Schweiz
CATEGORIES:Gottesdienste
END:VEVENT
BEGIN:VEVENT
DTSTART;TZID=Europe/Zurich:20260404T203000
DTEND;TZID=Europe/Zurich:20260404T203000
DTSTAMP:20260421T133711
CREATED:20260107T071940Z
LAST-MODIFIED:20260107T072046Z
UID:56081-1775334600-1775334600@www.se-ma.ch
SUMMARY:Flawil: Osternachtfeier in ökumenischer Zusammenarbeit\, Kommunionfeier
DESCRIPTION:anschliessend Eiertütschen
URL:https://www.se-ma.ch/event/flawil-osternachtfeier-in-oekumenischer-zusammenarbeit-kommunionfeier/
LOCATION:Kirche St. Laurentius Flawil\, Enzenbühlstrasse 20\, Flawil\, 9230\, Schweiz
CATEGORIES:Gottesdienste,Kinder und Familien
END:VEVENT
END:VCALENDAR