BEGIN:VCALENDAR
VERSION:2.0
PRODID:-//Seelsorgeeinheit Magdenau - ECPv6.15.20//NONSGML v1.0//EN
CALSCALE:GREGORIAN
METHOD:PUBLISH
X-ORIGINAL-URL:https://www.se-ma.ch
X-WR-CALDESC:Veranstaltungen für Seelsorgeeinheit Magdenau
REFRESH-INTERVAL;VALUE=DURATION:PT1H
X-Robots-Tag:noindex
X-PUBLISHED-TTL:PT1H
BEGIN:VTIMEZONE
TZID:Europe/Zurich
BEGIN:DAYLIGHT
TZOFFSETFROM:+0100
TZOFFSETTO:+0200
TZNAME:CEST
DTSTART:20250330T010000
END:DAYLIGHT
BEGIN:STANDARD
TZOFFSETFROM:+0200
TZOFFSETTO:+0100
TZNAME:CET
DTSTART:20251026T010000
END:STANDARD
BEGIN:DAYLIGHT
TZOFFSETFROM:+0100
TZOFFSETTO:+0200
TZNAME:CEST
DTSTART:20260329T010000
END:DAYLIGHT
BEGIN:STANDARD
TZOFFSETFROM:+0200
TZOFFSETTO:+0100
TZNAME:CET
DTSTART:20261025T010000
END:STANDARD
BEGIN:DAYLIGHT
TZOFFSETFROM:+0100
TZOFFSETTO:+0200
TZNAME:CEST
DTSTART:20270328T010000
END:DAYLIGHT
BEGIN:STANDARD
TZOFFSETFROM:+0200
TZOFFSETTO:+0100
TZNAME:CET
DTSTART:20271031T010000
END:STANDARD
END:VTIMEZONE
BEGIN:VEVENT
DTSTART;VALUE=DATE:20260412
DTEND;VALUE=DATE:20260418
DTSTAMP:20260421T134117
CREATED:20260319T130234Z
LAST-MODIFIED:20260319T130241Z
UID:56935-1775952000-1776470399@www.se-ma.ch
SUMMARY:Firmweg Flawil-Niederglatt: Firmreise nach Assisi
DESCRIPTION:
URL:https://www.se-ma.ch/event/firmweg-flawil-niederglatt-firmreise-nach-assisi-2/
LOCATION:SG
CATEGORIES:Anlässe und Veranstaltungen
END:VEVENT
BEGIN:VEVENT
DTSTART;TZID=Europe/Zurich:20260415T140000
DTEND;TZID=Europe/Zurich:20260415T163000
DTSTAMP:20260421T134117
CREATED:20251112T063900Z
LAST-MODIFIED:20251112T063900Z
UID:55027-1776261600-1776270600@www.se-ma.ch
SUMMARY:Degersheim: ökum. Seniorennachmittag
DESCRIPTION:Singen mit „Maria und Monika“ \nMiteinander singen verbindet! – Unter musikalischer Begleitung vertraute Lieder singen und Erinnerungen aufleben lassen.
URL:https://www.se-ma.ch/event/degersheim-oekum-seniorennachmittag-6/
LOCATION:Pfarreiheim
CATEGORIES:Anlässe und Veranstaltungen
END:VEVENT
BEGIN:VEVENT
DTSTART;TZID=Europe/Zurich:20260415T143000
DTEND;TZID=Europe/Zurich:20260415T163000
DTSTAMP:20260421T134117
CREATED:20260319T130802Z
LAST-MODIFIED:20260319T130802Z
UID:56941-1776263400-1776270600@www.se-ma.ch
SUMMARY:Flawil: SEMAplus - Seniorennachmittag
DESCRIPTION:Weisch no? – Ein Blick zurück!
URL:https://www.se-ma.ch/event/flawil-semaplus-seniorennachmittag-2/
LOCATION:Pfarreizentrum Flawil\, Enzenbühlstrasse 16\, Flawil\, 9230\, Schweiz
END:VEVENT
END:VCALENDAR