BEGIN:VCALENDAR
VERSION:2.0
PRODID:-//Seelsorgeeinheit Magdenau - ECPv6.15.20//NONSGML v1.0//EN
CALSCALE:GREGORIAN
METHOD:PUBLISH
X-ORIGINAL-URL:https://www.se-ma.ch
X-WR-CALDESC:Veranstaltungen für Seelsorgeeinheit Magdenau
REFRESH-INTERVAL;VALUE=DURATION:PT1H
X-Robots-Tag:noindex
X-PUBLISHED-TTL:PT1H
BEGIN:VTIMEZONE
TZID:Europe/Zurich
BEGIN:DAYLIGHT
TZOFFSETFROM:+0100
TZOFFSETTO:+0200
TZNAME:CEST
DTSTART:20250330T010000
END:DAYLIGHT
BEGIN:STANDARD
TZOFFSETFROM:+0200
TZOFFSETTO:+0100
TZNAME:CET
DTSTART:20251026T010000
END:STANDARD
BEGIN:DAYLIGHT
TZOFFSETFROM:+0100
TZOFFSETTO:+0200
TZNAME:CEST
DTSTART:20260329T010000
END:DAYLIGHT
BEGIN:STANDARD
TZOFFSETFROM:+0200
TZOFFSETTO:+0100
TZNAME:CET
DTSTART:20261025T010000
END:STANDARD
BEGIN:DAYLIGHT
TZOFFSETFROM:+0100
TZOFFSETTO:+0200
TZNAME:CEST
DTSTART:20270328T010000
END:DAYLIGHT
BEGIN:STANDARD
TZOFFSETFROM:+0200
TZOFFSETTO:+0100
TZNAME:CET
DTSTART:20271031T010000
END:STANDARD
END:VTIMEZONE
BEGIN:VEVENT
DTSTART;TZID=Europe/Zurich:20260530T093000
DTEND;TZID=Europe/Zurich:20260530T093000
DTSTAMP:20260421T145842
CREATED:20251209T101739Z
LAST-MODIFIED:20251209T101739Z
UID:55488-1780133400-1780133400@www.se-ma.ch
SUMMARY:Flawil: ökumenische Chinderfiir - in der kath. Kirche
DESCRIPTION:9.30 bis 10 Uhr – gemeinsam\, mit allen Sinnen\, den christlichen Glauben entdecken und erleben. Kinder im Vorschulalter und ihre erwachsenen Begleitpersonen machen sich während einer halben Stunde mit Musik und einer Geschichte auf den Weg\, Gottes Wirken im Kleinen und Grossen zu erfahren. Kinder ab 3 Jahre dürfen auch alleine teilnehmen.\n10 bis 11 Uhr – Kreativ-sein\, Spiel\, Spass und ein feiner Znüni. \nDie beiden Angebote können auch unabhängig voneinander besucht werden. \nDaten ökum. Chinderfiir
URL:https://www.se-ma.ch/event/flawil-oekumenische-chinderfiir-in-der-kath-kirche-2/
LOCATION:Kirche St. Laurentius Flawil\, Enzenbühlstrasse 20\, Flawil\, 9230\, Schweiz
CATEGORIES:Kinder und Familien
END:VEVENT
BEGIN:VEVENT
DTSTART;TZID=Europe/Zurich:20260530T173000
DTEND;TZID=Europe/Zurich:20260530T183000
DTSTAMP:20260421T145842
CREATED:20260311T100829Z
LAST-MODIFIED:20260311T100829Z
UID:56811-1780162200-1780165800@www.se-ma.ch
SUMMARY:Degersheim: Eucharistiefeier
DESCRIPTION:mit Miniaufnahmen
URL:https://www.se-ma.ch/event/degersheim-eucharistiefeier-58/
LOCATION:Jakobuskirche Degersheim\, Bergstrasse 10\, Degersheim\, 9113\, Schweiz
CATEGORIES:Gottesdienste
END:VEVENT
END:VCALENDAR