BEGIN:VCALENDAR
VERSION:2.0
PRODID:-//Seelsorgeeinheit Magdenau - ECPv6.15.20//NONSGML v1.0//EN
CALSCALE:GREGORIAN
METHOD:PUBLISH
X-ORIGINAL-URL:https://www.se-ma.ch
X-WR-CALDESC:Veranstaltungen für Seelsorgeeinheit Magdenau
REFRESH-INTERVAL;VALUE=DURATION:PT1H
X-Robots-Tag:noindex
X-PUBLISHED-TTL:PT1H
BEGIN:VTIMEZONE
TZID:Europe/Zurich
BEGIN:DAYLIGHT
TZOFFSETFROM:+0100
TZOFFSETTO:+0200
TZNAME:CEST
DTSTART:20250330T010000
END:DAYLIGHT
BEGIN:STANDARD
TZOFFSETFROM:+0200
TZOFFSETTO:+0100
TZNAME:CET
DTSTART:20251026T010000
END:STANDARD
BEGIN:DAYLIGHT
TZOFFSETFROM:+0100
TZOFFSETTO:+0200
TZNAME:CEST
DTSTART:20260329T010000
END:DAYLIGHT
BEGIN:STANDARD
TZOFFSETFROM:+0200
TZOFFSETTO:+0100
TZNAME:CET
DTSTART:20261025T010000
END:STANDARD
BEGIN:DAYLIGHT
TZOFFSETFROM:+0100
TZOFFSETTO:+0200
TZNAME:CEST
DTSTART:20270328T010000
END:DAYLIGHT
BEGIN:STANDARD
TZOFFSETFROM:+0200
TZOFFSETTO:+0100
TZNAME:CET
DTSTART:20271031T010000
END:STANDARD
END:VTIMEZONE
BEGIN:VEVENT
DTSTART;TZID=Europe/Zurich:20260603T080000
DTEND;TZID=Europe/Zurich:20260603T203000
DTSTAMP:20260421T163704
CREATED:20251112T065028Z
LAST-MODIFIED:20251112T065028Z
UID:55036-1780473600-1780518600@www.se-ma.ch
SUMMARY:Degersheim: ökum. Seniorenausflug ins Emmental BE
DESCRIPTION:Tagesausflug ins Emmental BE \nCarchauffeur: Hans Martin Enz von GROSS-Reisen\n08.00 Uhr Abfahrt ab Bahnhof Degersheim\n08.05 Uhr Abfahrt ab „alte Post“ Wolfertswil \nAnmeldung bis Mittwoch\, 20. Mai 2026 an:\nSilvia Sauder\, Hintere Dorfstrasse 2\, 9113 Degersheim
URL:https://www.se-ma.ch/event/degersheim-oekum-seniorenausflug-ins-emmental-be/
LOCATION:Emmental BE
CATEGORIES:Anlässe und Veranstaltungen
END:VEVENT
END:VCALENDAR