BEGIN:VCALENDAR
VERSION:2.0
PRODID:-//Seelsorgeeinheit Magdenau - ECPv6.15.20//NONSGML v1.0//EN
CALSCALE:GREGORIAN
METHOD:PUBLISH
X-WR-CALNAME:Seelsorgeeinheit Magdenau
X-ORIGINAL-URL:https://www.se-ma.ch
X-WR-CALDESC:Veranstaltungen für Seelsorgeeinheit Magdenau
REFRESH-INTERVAL;VALUE=DURATION:PT1H
X-Robots-Tag:noindex
X-PUBLISHED-TTL:PT1H
BEGIN:VTIMEZONE
TZID:Europe/Zurich
BEGIN:DAYLIGHT
TZOFFSETFROM:+0100
TZOFFSETTO:+0200
TZNAME:CEST
DTSTART:20250330T010000
END:DAYLIGHT
BEGIN:STANDARD
TZOFFSETFROM:+0200
TZOFFSETTO:+0100
TZNAME:CET
DTSTART:20251026T010000
END:STANDARD
BEGIN:DAYLIGHT
TZOFFSETFROM:+0100
TZOFFSETTO:+0200
TZNAME:CEST
DTSTART:20260329T010000
END:DAYLIGHT
BEGIN:STANDARD
TZOFFSETFROM:+0200
TZOFFSETTO:+0100
TZNAME:CET
DTSTART:20261025T010000
END:STANDARD
BEGIN:DAYLIGHT
TZOFFSETFROM:+0100
TZOFFSETTO:+0200
TZNAME:CEST
DTSTART:20270328T010000
END:DAYLIGHT
BEGIN:STANDARD
TZOFFSETFROM:+0200
TZOFFSETTO:+0100
TZNAME:CET
DTSTART:20271031T010000
END:STANDARD
END:VTIMEZONE
BEGIN:VEVENT
DTSTART;TZID=Europe/Zurich:20260823T084500
DTEND;TZID=Europe/Zurich:20260823T084500
DTSTAMP:20260421T192900
CREATED:20251104T141417Z
LAST-MODIFIED:20251219T090340Z
UID:54932-1787474700-1787474700@www.se-ma.ch
SUMMARY:Wolfertswil: Eucharistiefeier mit Albert Schmucki
DESCRIPTION:
URL:https://www.se-ma.ch/event/wolfertswil-eucharistiefeier-mit-albert-schmucki/
LOCATION:Bruder Klaus Kirche Wolfertswil\, Wolfertswil\, 9116 \, Schweiz
CATEGORIES:Gottesdienste
END:VEVENT
BEGIN:VEVENT
DTSTART;TZID=Europe/Zurich:20260823T101500
DTEND;TZID=Europe/Zurich:20260823T101500
DTSTAMP:20260421T192900
CREATED:20260107T072823Z
LAST-MODIFIED:20260107T072823Z
UID:56089-1787480100-1787480100@www.se-ma.ch
SUMMARY:Flawil: Eucharistiefeier
DESCRIPTION:
URL:https://www.se-ma.ch/event/flawil-eucharistiefeier-50/
LOCATION:Kirche St. Laurentius Flawil\, Enzenbühlstrasse 20\, Flawil\, 9230\, Schweiz
CATEGORIES:Gottesdienste
END:VEVENT
END:VCALENDAR