BEGIN:VCALENDAR
VERSION:2.0
PRODID:-//Seelsorgeeinheit Magdenau - ECPv6.15.20//NONSGML v1.0//EN
CALSCALE:GREGORIAN
METHOD:PUBLISH
X-ORIGINAL-URL:https://www.se-ma.ch
X-WR-CALDESC:Veranstaltungen für Seelsorgeeinheit Magdenau
REFRESH-INTERVAL;VALUE=DURATION:PT1H
X-Robots-Tag:noindex
X-PUBLISHED-TTL:PT1H
BEGIN:VTIMEZONE
TZID:Europe/Zurich
BEGIN:DAYLIGHT
TZOFFSETFROM:+0100
TZOFFSETTO:+0200
TZNAME:CEST
DTSTART:20250330T010000
END:DAYLIGHT
BEGIN:STANDARD
TZOFFSETFROM:+0200
TZOFFSETTO:+0100
TZNAME:CET
DTSTART:20251026T010000
END:STANDARD
BEGIN:DAYLIGHT
TZOFFSETFROM:+0100
TZOFFSETTO:+0200
TZNAME:CEST
DTSTART:20260329T010000
END:DAYLIGHT
BEGIN:STANDARD
TZOFFSETFROM:+0200
TZOFFSETTO:+0100
TZNAME:CET
DTSTART:20261025T010000
END:STANDARD
BEGIN:DAYLIGHT
TZOFFSETFROM:+0100
TZOFFSETTO:+0200
TZNAME:CEST
DTSTART:20270328T010000
END:DAYLIGHT
BEGIN:STANDARD
TZOFFSETFROM:+0200
TZOFFSETTO:+0100
TZNAME:CET
DTSTART:20271031T010000
END:STANDARD
END:VTIMEZONE
BEGIN:VEVENT
DTSTART;VALUE=DATE:20261121
DTEND;VALUE=DATE:20261122
DTSTAMP:20260422T001026
CREATED:20260211T075349Z
LAST-MODIFIED:20260211T075349Z
UID:56508-1795219200-1795305599@www.se-ma.ch
SUMMARY:Kreativ-Atelier zum Ferdinand-Gehr-Jahr
DESCRIPTION:mit der Kunstvermittlerin Daniela Mittelholzer
URL:https://www.se-ma.ch/event/kreativ-atelier-zum-ferdinand-gehr-jahr/
LOCATION:Felix + Regula Kirche Niederglatt\, Niederglatt\, 9240\, Schweiz
CATEGORIES:Anlässe und Veranstaltungen
ORGANIZER;CN="Pfarreigremium Niederglatt":MAILTO:sekretariat-flawil@se-ma.ch
END:VEVENT
END:VCALENDAR