BEGIN:VCALENDAR
VERSION:2.0
PRODID:-//Seelsorgeeinheit Magdenau - ECPv6.15.20//NONSGML v1.0//EN
CALSCALE:GREGORIAN
METHOD:PUBLISH
X-WR-CALNAME:Seelsorgeeinheit Magdenau
X-ORIGINAL-URL:https://www.se-ma.ch
X-WR-CALDESC:Veranstaltungen für Seelsorgeeinheit Magdenau
REFRESH-INTERVAL;VALUE=DURATION:PT1H
X-Robots-Tag:noindex
X-PUBLISHED-TTL:PT1H
BEGIN:VTIMEZONE
TZID:Europe/Zurich
BEGIN:DAYLIGHT
TZOFFSETFROM:+0100
TZOFFSETTO:+0200
TZNAME:CEST
DTSTART:20250330T010000
END:DAYLIGHT
BEGIN:STANDARD
TZOFFSETFROM:+0200
TZOFFSETTO:+0100
TZNAME:CET
DTSTART:20251026T010000
END:STANDARD
BEGIN:DAYLIGHT
TZOFFSETFROM:+0100
TZOFFSETTO:+0200
TZNAME:CEST
DTSTART:20260329T010000
END:DAYLIGHT
BEGIN:STANDARD
TZOFFSETFROM:+0200
TZOFFSETTO:+0100
TZNAME:CET
DTSTART:20261025T010000
END:STANDARD
BEGIN:DAYLIGHT
TZOFFSETFROM:+0100
TZOFFSETTO:+0200
TZNAME:CEST
DTSTART:20270328T010000
END:DAYLIGHT
BEGIN:STANDARD
TZOFFSETFROM:+0200
TZOFFSETTO:+0100
TZNAME:CET
DTSTART:20271031T010000
END:STANDARD
END:VTIMEZONE
BEGIN:VEVENT
DTSTART;TZID=Europe/Zurich:20261001T150000
DTEND;TZID=Europe/Zurich:20261001T163000
DTSTAMP:20260422T120443
CREATED:20251203T081642Z
LAST-MODIFIED:20251203T081642Z
UID:55379-1790866800-1790872200@www.se-ma.ch
SUMMARY:Trauercafé
DESCRIPTION:Das Trauercafé bietet Angehörigen die Möglichkeit\, über das Erlebte zu sprechen und sich mit anderen Betroffenen auszutauschen. Es ist keine Anmeldung nötig. \nHomepage Ökum. Hospizgruppe Flawil
URL:https://www.se-ma.ch/event/trauercafe-39/
LOCATION:Haus 5egg\, Bahnhofstrasse 33\, Flawil\, St. Gallen\, 9230\, Schweiz
CATEGORIES:Anlässe und Veranstaltungen
END:VEVENT
BEGIN:VEVENT
DTSTART;TZID=Europe/Zurich:20261002T183000
DTEND;TZID=Europe/Zurich:20261002T200000
DTSTAMP:20260422T120443
CREATED:20251217T102156Z
LAST-MODIFIED:20251217T102156Z
UID:55612-1790965800-1790971200@www.se-ma.ch
SUMMARY:Degersheim: Zämägang
DESCRIPTION:für einander da sein \nzusammen statt alleine \nHast du Lust\, mit mir und hoffentlich anderen Menschen zusammen zu sein? Dann komm einfach mit. \nVielleicht kennst du Menschen\, denen das freundliche und interessierte Miteinander gut tun würde. Mache sie aufmerksam auf dieses Angebot oder bring sie gleich selbst mit! \nEs braucht keine Anmeldung! \nTreffpunkt beim Parkplatz Föhrenwäldli Degersheim! \nIch freue mich auf dich! \nSilvan Hollenstein\, Seelsorger\, Tel. 079 743 73 89
URL:https://www.se-ma.ch/event/degersheim-zaemaegang-33/
LOCATION:Föhrenwäldli\, Berg 1\, Degersheim\, 9113 \, Schweiz
CATEGORIES:Anlässe und Veranstaltungen
END:VEVENT
BEGIN:VEVENT
DTSTART;TZID=Europe/Zurich:20261003T173000
DTEND;TZID=Europe/Zurich:20261003T183000
DTSTAMP:20260422T120443
CREATED:20260318T104607Z
LAST-MODIFIED:20260318T104607Z
UID:56928-1791048600-1791052200@www.se-ma.ch
SUMMARY:Degersheim: Eucharistiefeier
DESCRIPTION:
URL:https://www.se-ma.ch/event/degersheim-eucharistiefeier-66/
LOCATION:Jakobuskirche Degersheim\, Bergstrasse 10\, Degersheim\, 9113\, Schweiz
CATEGORIES:Gottesdienste
END:VEVENT
BEGIN:VEVENT
DTSTART;TZID=Europe/Zurich:20261004T093000
DTEND;TZID=Europe/Zurich:20261004T093000
DTSTAMP:20260422T120443
CREATED:20260106T153255Z
LAST-MODIFIED:20260106T153255Z
UID:55963-1791106200-1791106200@www.se-ma.ch
SUMMARY:Flawil: Eucharistiefeier in Spanisch
DESCRIPTION:ab 9.00 Uhr Beichtgelegenheit
URL:https://www.se-ma.ch/event/flawil-eucharistiefeier-in-spanisch-66/
LOCATION:Kapelle St. Laurentius Flawil\, Enzenbühlstrasse 20\, Flawil\, 9230\, Schweiz
CATEGORIES:Gottesdienste
END:VEVENT
BEGIN:VEVENT
DTSTART;TZID=Europe/Zurich:20261010T173000
DTEND;TZID=Europe/Zurich:20261010T173000
DTSTAMP:20260422T120443
CREATED:20260106T152818Z
LAST-MODIFIED:20260106T152818Z
UID:55935-1791653400-1791653400@www.se-ma.ch
SUMMARY:Flawil: Eucharistiefeier in Portugiesisch
DESCRIPTION:
URL:https://www.se-ma.ch/event/flawil-eucharistiefeier-in-portugiesisch-46/
LOCATION:Kapelle St. Laurentius Flawil\, Enzenbühlstrasse 20\, Flawil\, 9230\, Schweiz
CATEGORIES:Gottesdienste
END:VEVENT
BEGIN:VEVENT
DTSTART;TZID=Europe/Zurich:20261010T173000
DTEND;TZID=Europe/Zurich:20261010T183000
DTSTAMP:20260422T120443
CREATED:20260325T104813Z
LAST-MODIFIED:20260325T104813Z
UID:56993-1791653400-1791657000@www.se-ma.ch
SUMMARY:Degersheim: Gottesdienst
DESCRIPTION:
URL:https://www.se-ma.ch/event/degersheim-gottesdienst-2/
LOCATION:Jakobuskirche Degersheim\, Bergstrasse 10\, Degersheim\, 9113\, Schweiz
CATEGORIES:Gottesdienste
END:VEVENT
BEGIN:VEVENT
DTSTART;TZID=Europe/Zurich:20261011T090000
DTEND;TZID=Europe/Zurich:20261011T090000
DTSTAMP:20260422T120443
CREATED:20260106T151616Z
LAST-MODIFIED:20260106T151616Z
UID:55873-1791709200-1791709200@www.se-ma.ch
SUMMARY:Flawil: Eucharistiefeier in Italienisch
DESCRIPTION:
URL:https://www.se-ma.ch/event/flawil-eucharistiefeier-in-italienisch-9/
LOCATION:Kapelle St. Laurentius Flawil\, Enzenbühlstrasse 20\, Flawil\, 9230\, Schweiz
CATEGORIES:Gottesdienste
END:VEVENT
BEGIN:VEVENT
DTSTART;TZID=Europe/Zurich:20261017T173000
DTEND;TZID=Europe/Zurich:20261017T183000
DTSTAMP:20260422T120443
CREATED:20260325T104933Z
LAST-MODIFIED:20260325T104933Z
UID:56995-1792258200-1792261800@www.se-ma.ch
SUMMARY:Degersheim: Eucharistiefeier Salbungs-Gottesdienst
DESCRIPTION:
URL:https://www.se-ma.ch/event/degersheim-eucharistiefeier-salbungs-gottesdienst/
LOCATION:Jakobuskirche Degersheim\, Bergstrasse 10\, Degersheim\, 9113\, Schweiz
CATEGORIES:Gottesdienste
END:VEVENT
BEGIN:VEVENT
DTSTART;TZID=Europe/Zurich:20261018T084500
DTEND;TZID=Europe/Zurich:20261018T084500
DTSTAMP:20260422T120443
CREATED:20260317T154043Z
LAST-MODIFIED:20260317T154043Z
UID:56884-1792313100-1792313100@www.se-ma.ch
SUMMARY:Wolfertswil: Salbungsgottesdienst
DESCRIPTION:Ecuharistiefeier
URL:https://www.se-ma.ch/event/wolfertswil-salbungsgottesdienst/
LOCATION:Bruder Klaus Kirche Wolfertswil\, Wolfertswil\, 9116 \, Schweiz
CATEGORIES:Gottesdienste
END:VEVENT
BEGIN:VEVENT
DTSTART;TZID=Europe/Zurich:20261018T093000
DTEND;TZID=Europe/Zurich:20261018T093000
DTSTAMP:20260422T120443
CREATED:20260106T153942Z
LAST-MODIFIED:20260106T153942Z
UID:55987-1792315800-1792315800@www.se-ma.ch
SUMMARY:Flawil: Eucharistiefeier in Spanisch
DESCRIPTION:
URL:https://www.se-ma.ch/event/flawil-eucharistiefeier-in-spanisch-78/
LOCATION:Kapelle St. Laurentius Flawil\, Enzenbühlstrasse 20\, Flawil\, 9230\, Schweiz
CATEGORIES:Gottesdienste
END:VEVENT
BEGIN:VEVENT
DTSTART;TZID=Europe/Zurich:20261021T114500
DTEND;TZID=Europe/Zurich:20261021T140000
DTSTAMP:20260422T120443
CREATED:20251031T093732Z
LAST-MODIFIED:20251031T093732Z
UID:54868-1792583100-1792591200@www.se-ma.ch
SUMMARY:Degersheim: zämä ässä
DESCRIPTION:Wir freuen uns über alle\, die Lust haben\, gemeinsam zu essen\, zu geniessen und zu plaudern. Ein bunt zusammengewürfeltes Küchenteam kocht und serviert speziell für Sie! Der Preis beträgt Fr. 10.00. Bitte geben Sie bei der Anmeldung an\, falls Sie vegetarisch essen möchten! Anmeldungen bitte bis spätestens am Freitag bis 11.00 Uhr\, vor dem „zämä ässä“ an:\nTel. 071 371 10 17 oder per Mail: hc.am-esobfsctd-7d8d5c@miehsreged-tairaterkes
URL:https://www.se-ma.ch/event/degersheim-zaemae-aessae-31/
LOCATION:Pfarreiheim
CATEGORIES:Anlässe und Veranstaltungen
END:VEVENT
BEGIN:VEVENT
DTSTART;TZID=Europe/Zurich:20261022T190000
DTEND;TZID=Europe/Zurich:20261022T200000
DTSTAMP:20260422T120443
CREATED:20251202T110105Z
LAST-MODIFIED:20251202T110105Z
UID:55317-1792695600-1792699200@www.se-ma.ch
SUMMARY:Degersheim: Friedensgebet
DESCRIPTION:Wir beten für den Frieden in unserer Welt.
URL:https://www.se-ma.ch/event/degersheim-friedensgebet-36/
LOCATION:evang. Kirche Degersheim\, Steineggstrasse 10\, Degersheim\, 9113
CATEGORIES:Anlässe und Veranstaltungen
END:VEVENT
BEGIN:VEVENT
DTSTART;TZID=Europe/Zurich:20261024T173000
DTEND;TZID=Europe/Zurich:20261024T173000
DTSTAMP:20260422T120443
CREATED:20260106T152832Z
LAST-MODIFIED:20260106T152832Z
UID:55937-1792863000-1792863000@www.se-ma.ch
SUMMARY:Flawil: Eucharistiefeier in Portugiesisch
DESCRIPTION:
URL:https://www.se-ma.ch/event/flawil-eucharistiefeier-in-portugiesisch-47/
LOCATION:Kapelle St. Laurentius Flawil\, Enzenbühlstrasse 20\, Flawil\, 9230\, Schweiz
CATEGORIES:Gottesdienste
END:VEVENT
BEGIN:VEVENT
DTSTART;TZID=Europe/Zurich:20261024T173000
DTEND;TZID=Europe/Zurich:20261024T183000
DTSTAMP:20260422T120443
CREATED:20260325T105035Z
LAST-MODIFIED:20260325T105035Z
UID:56997-1792863000-1792866600@www.se-ma.ch
SUMMARY:Degersheim: Kommunionfeier
DESCRIPTION:
URL:https://www.se-ma.ch/event/degersheim-kommunionfeier-44/
LOCATION:Jakobuskirche Degersheim\, Bergstrasse 10\, Degersheim\, 9113\, Schweiz
CATEGORIES:Gottesdienste
END:VEVENT
BEGIN:VEVENT
DTSTART;TZID=Europe/Zurich:20261025T083000
DTEND;TZID=Europe/Zurich:20261025T083000
DTSTAMP:20260422T120443
CREATED:20260106T151830Z
LAST-MODIFIED:20260106T151830Z
UID:55885-1792917000-1792917000@www.se-ma.ch
SUMMARY:Flawil: Eucharistiefeier in Italienisch
DESCRIPTION:
URL:https://www.se-ma.ch/event/flawil-eucharistiefeier-in-italienisch-15/
LOCATION:Kapelle St. Laurentius Flawil\, Enzenbühlstrasse 20\, Flawil\, 9230\, Schweiz
CATEGORIES:Gottesdienste
END:VEVENT
BEGIN:VEVENT
DTSTART;TZID=Europe/Zurich:20261029T193000
DTEND;TZID=Europe/Zurich:20261029T210000
DTSTAMP:20260422T120443
CREATED:20260421T135713Z
LAST-MODIFIED:20260421T135713Z
UID:57360-1793302200-1793307600@www.se-ma.ch
SUMMARY:Degersheim: Eucharistische Anbetung
DESCRIPTION:In der stillen Anbetung vor dem Allerheiligsten sind wir eingeladen\, vor Gott zur Ruhe zu kommen\, innezuhalten und neue Kraft aus seiner Gegenwart zu schöpfen. \nIn der Stille dürfen wir verweilen\, ihm unser Herz öffnen und alles\, was uns belastet\, in die Hände Jesu legen. \nFreies Kommen und Gehen ist jederzeit möglich.
URL:https://www.se-ma.ch/event/degersheim-eucharistische-anbetung-4/
LOCATION:Jakobuskirche Kapelle Degersheim\, Bergstrasse 10\, Degersheim\, St. Gallen\, 9113\, Schweiz
CATEGORIES:Anlässe und Veranstaltungen
END:VEVENT
BEGIN:VEVENT
DTSTART;TZID=Europe/Zurich:20261101T093000
DTEND;TZID=Europe/Zurich:20261101T093000
DTSTAMP:20260422T120443
CREATED:20260106T153413Z
LAST-MODIFIED:20260106T153413Z
UID:55965-1793525400-1793525400@www.se-ma.ch
SUMMARY:Flawil: Eucharistiefeier in Spanisch
DESCRIPTION:ab 9.00 Uhr Beichtgelegenheit
URL:https://www.se-ma.ch/event/flawil-eucharistiefeier-in-spanisch-67/
LOCATION:Kapelle St. Laurentius Flawil\, Enzenbühlstrasse 20\, Flawil\, 9230\, Schweiz
CATEGORIES:Gottesdienste
END:VEVENT
BEGIN:VEVENT
DTSTART;TZID=Europe/Zurich:20261101T101500
DTEND;TZID=Europe/Zurich:20261101T113000
DTSTAMP:20260422T120443
CREATED:20260325T105301Z
LAST-MODIFIED:20260325T105301Z
UID:56999-1793528100-1793532600@www.se-ma.ch
SUMMARY:Degersheim: Gottesdienst zu Allerheiligen und Totengedenkfeier
DESCRIPTION:
URL:https://www.se-ma.ch/event/degersheim-gottesdienst-zu-allerheiligen-und-totengedenkfeier-2/
LOCATION:Jakobuskirche Degersheim\, Bergstrasse 10\, Degersheim\, 9113\, Schweiz
CATEGORIES:Gottesdienste
END:VEVENT
BEGIN:VEVENT
DTSTART;TZID=Europe/Zurich:20261101T130000
DTEND;TZID=Europe/Zurich:20261101T130000
DTSTAMP:20260422T120443
CREATED:20260317T154149Z
LAST-MODIFIED:20260317T154149Z
UID:56887-1793538000-1793538000@www.se-ma.ch
SUMMARY:Wolfertswil: Gottesdienst zu Allerheiligen mit Totengedenken
DESCRIPTION:
URL:https://www.se-ma.ch/event/wolfertswil-gottesdienst-zu-allerheiligen-mit-totengedenken/
LOCATION:Bruder Klaus Kirche Wolfertswil\, Wolfertswil\, 9116 \, Schweiz
CATEGORIES:Gottesdienste
END:VEVENT
BEGIN:VEVENT
DTSTART;TZID=Europe/Zurich:20261103T193000
DTEND;TZID=Europe/Zurich:20261103T193000
DTSTAMP:20260422T120443
CREATED:20260113T095206Z
LAST-MODIFIED:20260113T095210Z
UID:56180-1793734200-1793734200@www.se-ma.ch
SUMMARY:IMPULSraum
DESCRIPTION:
URL:https://www.se-ma.ch/event/impulsraum-4/
LOCATION:Bruder Klaus Kirche Wolfertswil\, Wolfertswil\, 9116 \, Schweiz
CATEGORIES:Anlässe und Veranstaltungen
END:VEVENT
BEGIN:VEVENT
DTSTART;TZID=Europe/Zurich:20261104T140000
DTEND;TZID=Europe/Zurich:20261104T163000
DTSTAMP:20260422T120443
CREATED:20251112T064305Z
LAST-MODIFIED:20251112T064305Z
UID:55032-1793800800-1793809800@www.se-ma.ch
SUMMARY:Degersheim: ökum. Seniorennachmittag
DESCRIPTION:Spielen nach Herzenslust \nEin Nachmittag für alle Spielfreudigen
URL:https://www.se-ma.ch/event/degersheim-oekum-seniorennachmittag-8/
LOCATION:Pfarreiheim
CATEGORIES:Anlässe und Veranstaltungen
END:VEVENT
BEGIN:VEVENT
DTSTART;TZID=Europe/Zurich:20261105T150000
DTEND;TZID=Europe/Zurich:20261105T163000
DTSTAMP:20260422T120443
CREATED:20251203T081655Z
LAST-MODIFIED:20251203T081655Z
UID:55381-1793890800-1793896200@www.se-ma.ch
SUMMARY:Trauercafé
DESCRIPTION:Das Trauercafé bietet Angehörigen die Möglichkeit\, über das Erlebte zu sprechen und sich mit anderen Betroffenen auszutauschen. Es ist keine Anmeldung nötig. \nHomepage Ökum. Hospizgruppe Flawil
URL:https://www.se-ma.ch/event/trauercafe-40/
LOCATION:Haus 5egg\, Bahnhofstrasse 33\, Flawil\, St. Gallen\, 9230\, Schweiz
CATEGORIES:Anlässe und Veranstaltungen
END:VEVENT
BEGIN:VEVENT
DTSTART;TZID=Europe/Zurich:20261105T193000
DTEND;TZID=Europe/Zurich:20261105T210000
DTSTAMP:20260422T120443
CREATED:20260421T135846Z
LAST-MODIFIED:20260421T135846Z
UID:57362-1793907000-1793912400@www.se-ma.ch
SUMMARY:Degersheim: Eucharistische Anbetung
DESCRIPTION:In der stillen Anbetung vor dem Allerheiligsten sind wir eingeladen\, vor Gott zur Ruhe zu kommen\, innezuhalten und neue Kraft aus seiner Gegenwart zu schöpfen. \nIn der Stille dürfen wir verweilen\, ihm unser Herz öffnen und alles\, was uns belastet\, in die Hände Jesu legen. \nFreies Kommen und Gehen ist jederzeit möglich.
URL:https://www.se-ma.ch/event/degersheim-eucharistische-anbetung-5/
LOCATION:Jakobuskirche Kapelle Degersheim\, Bergstrasse 10\, Degersheim\, St. Gallen\, 9113\, Schweiz
CATEGORIES:Anlässe und Veranstaltungen
END:VEVENT
BEGIN:VEVENT
DTSTART;TZID=Europe/Zurich:20261106T183000
DTEND;TZID=Europe/Zurich:20261106T200000
DTSTAMP:20260422T120443
CREATED:20251217T102301Z
LAST-MODIFIED:20251217T102301Z
UID:55614-1793989800-1793995200@www.se-ma.ch
SUMMARY:Degersheim: Zämägang
DESCRIPTION:für einander da sein \nzusammen statt alleine \nHast du Lust\, mit mir und hoffentlich anderen Menschen zusammen zu sein? Dann komm einfach mit. \nVielleicht kennst du Menschen\, denen das freundliche und interessierte Miteinander gut tun würde. Mache sie aufmerksam auf dieses Angebot oder bring sie gleich selbst mit! \nEs braucht keine Anmeldung! \nTreffpunkt beim Parkplatz Föhrenwäldli Degersheim! \nIch freue mich auf dich! \nSilvan Hollenstein\, Seelsorger\, Tel. 079 743 73 89
URL:https://www.se-ma.ch/event/degersheim-zaemaegang-34/
LOCATION:Föhrenwäldli\, Berg 1\, Degersheim\, 9113 \, Schweiz
CATEGORIES:Anlässe und Veranstaltungen
END:VEVENT
BEGIN:VEVENT
DTSTART;TZID=Europe/Zurich:20261107T173000
DTEND;TZID=Europe/Zurich:20261107T183000
DTSTAMP:20260422T120443
CREATED:20260325T105358Z
LAST-MODIFIED:20260325T105358Z
UID:57001-1794072600-1794076200@www.se-ma.ch
SUMMARY:Degersheim: Eucharistiefeier
DESCRIPTION:
URL:https://www.se-ma.ch/event/degersheim-eucharistiefeier-67/
LOCATION:Jakobuskirche Degersheim\, Bergstrasse 10\, Degersheim\, 9113\, Schweiz
CATEGORIES:Gottesdienste
END:VEVENT
BEGIN:VEVENT
DTSTART;TZID=Europe/Zurich:20261108T084500
DTEND;TZID=Europe/Zurich:20261108T084500
DTSTAMP:20260422T120443
CREATED:20260414T113628Z
LAST-MODIFIED:20260414T113631Z
UID:57194-1794127500-1794127500@www.se-ma.ch
SUMMARY:Wolfertswil: Kommunionfeier
DESCRIPTION:
URL:https://www.se-ma.ch/event/wolfertswil-kommunionfeier-15/
LOCATION:Bruder Klaus Kirche Wolfertswil\, Wolfertswil\, 9116 \, Schweiz
CATEGORIES:Gottesdienste
END:VEVENT
BEGIN:VEVENT
DTSTART;TZID=Europe/Zurich:20261108T090000
DTEND;TZID=Europe/Zurich:20261108T090000
DTSTAMP:20260422T120443
CREATED:20260106T151634Z
LAST-MODIFIED:20260106T151634Z
UID:55875-1794128400-1794128400@www.se-ma.ch
SUMMARY:Flawil: Eucharistiefeier in Italienisch
DESCRIPTION:
URL:https://www.se-ma.ch/event/flawil-eucharistiefeier-in-italienisch-10/
LOCATION:Kapelle St. Laurentius Flawil\, Enzenbühlstrasse 20\, Flawil\, 9230\, Schweiz
CATEGORIES:Gottesdienste
END:VEVENT
BEGIN:VEVENT
DTSTART;TZID=Europe/Zurich:20261111T114500
DTEND;TZID=Europe/Zurich:20261111T140000
DTSTAMP:20260422T120443
CREATED:20251031T093839Z
LAST-MODIFIED:20251031T093839Z
UID:54870-1794397500-1794405600@www.se-ma.ch
SUMMARY:Degersheim: zämä ässä
DESCRIPTION:Wir freuen uns über alle\, die Lust haben\, gemeinsam zu essen\, zu geniessen und zu plaudern. Ein bunt zusammengewürfeltes Küchenteam kocht und serviert speziell für Sie! Der Preis beträgt Fr. 10.00. Bitte geben Sie bei der Anmeldung an\, falls Sie vegetarisch essen möchten! Anmeldungen bitte bis spätestens am Freitag bis 11.00 Uhr\, vor dem „zämä ässä“ an:\nTel. 071 371 10 17 oder per Mail: hc.am-esobfsctd-2e79fa@miehsreged-tairaterkes
URL:https://www.se-ma.ch/event/degersheim-zaemae-aessae-32/
LOCATION:Pfarreiheim
CATEGORIES:Anlässe und Veranstaltungen
END:VEVENT
BEGIN:VEVENT
DTSTART;TZID=Europe/Zurich:20261112T190000
DTEND;TZID=Europe/Zurich:20261112T200000
DTSTAMP:20260422T120443
CREATED:20251202T110222Z
LAST-MODIFIED:20251202T110222Z
UID:55320-1794510000-1794513600@www.se-ma.ch
SUMMARY:Degersheim: Friedensgebet
DESCRIPTION:Wir beten für den Frieden in unserer Welt.
URL:https://www.se-ma.ch/event/degersheim-friedensgebet-37/
LOCATION:Jakobuskirche Kapelle Degersheim\, Bergstrasse 10\, Degersheim\, St. Gallen\, 9113\, Schweiz
CATEGORIES:Anlässe und Veranstaltungen
END:VEVENT
BEGIN:VEVENT
DTSTART;TZID=Europe/Zurich:20261114T100000
DTEND;TZID=Europe/Zurich:20261114T100000
DTSTAMP:20260422T120443
CREATED:20251114T093052Z
LAST-MODIFIED:20251114T093057Z
UID:55085-1794650400-1794650400@www.se-ma.ch
SUMMARY:Degersheim: ökum. Chinderchile
DESCRIPTION:Die Gestaltung des Programms ist auf die Fähigkeiten von Kindern im Alter von 3 – 6 Jahren mit ihren Begleitpersonen ausgerichtet. \nGeschwister sind herzlich willkommen. \nIm Anschluss an die Feier geniessen wir das gemütliche Zusammensein im ref. Kirchgemeindehaus.
URL:https://www.se-ma.ch/event/degersheim-oekum-chinderchile-18/
LOCATION:evang. Kirchgemeindehaus Degersheim\, Steineggstrasse 12\, Degersheim\, 9113\, Schweiz
CATEGORIES:Gottesdienste,Kinder und Familien
END:VEVENT
END:VCALENDAR