BEGIN:VCALENDAR
VERSION:2.0
PRODID:-//Seelsorgeeinheit Magdenau - ECPv6.15.20//NONSGML v1.0//EN
CALSCALE:GREGORIAN
METHOD:PUBLISH
X-ORIGINAL-URL:https://www.se-ma.ch
X-WR-CALDESC:Veranstaltungen für Seelsorgeeinheit Magdenau
REFRESH-INTERVAL;VALUE=DURATION:PT1H
X-Robots-Tag:noindex
X-PUBLISHED-TTL:PT1H
BEGIN:VTIMEZONE
TZID:Europe/Zurich
BEGIN:DAYLIGHT
TZOFFSETFROM:+0100
TZOFFSETTO:+0200
TZNAME:CEST
DTSTART:20250330T010000
END:DAYLIGHT
BEGIN:STANDARD
TZOFFSETFROM:+0200
TZOFFSETTO:+0100
TZNAME:CET
DTSTART:20251026T010000
END:STANDARD
BEGIN:DAYLIGHT
TZOFFSETFROM:+0100
TZOFFSETTO:+0200
TZNAME:CEST
DTSTART:20260329T010000
END:DAYLIGHT
BEGIN:STANDARD
TZOFFSETFROM:+0200
TZOFFSETTO:+0100
TZNAME:CET
DTSTART:20261025T010000
END:STANDARD
BEGIN:DAYLIGHT
TZOFFSETFROM:+0100
TZOFFSETTO:+0200
TZNAME:CEST
DTSTART:20270328T010000
END:DAYLIGHT
BEGIN:STANDARD
TZOFFSETFROM:+0200
TZOFFSETTO:+0100
TZNAME:CET
DTSTART:20271031T010000
END:STANDARD
END:VTIMEZONE
BEGIN:VEVENT
DTSTART;TZID=Europe/Zurich:20260627T173000
DTEND;TZID=Europe/Zurich:20260627T173000
DTSTAMP:20260421T223348
CREATED:20260106T152714Z
LAST-MODIFIED:20260106T152714Z
UID:55927-1782581400-1782581400@www.se-ma.ch
SUMMARY:Flawil: Eucharistiefeier in Portugiesisch
DESCRIPTION:
URL:https://www.se-ma.ch/event/flawil-eucharistiefeier-in-portugiesisch-42/
LOCATION:Kapelle St. Laurentius Flawil\, Enzenbühlstrasse 20\, Flawil\, 9230\, Schweiz
CATEGORIES:Gottesdienste
END:VEVENT
BEGIN:VEVENT
DTSTART;TZID=Europe/Zurich:20260628T083000
DTEND;TZID=Europe/Zurich:20260628T083000
DTSTAMP:20260421T223348
CREATED:20260106T151923Z
LAST-MODIFIED:20260106T151923Z
UID:55891-1782635400-1782635400@www.se-ma.ch
SUMMARY:Flawil: Eucharistiefeier in Italienisch
DESCRIPTION:
URL:https://www.se-ma.ch/event/flawil-eucharistiefeier-in-italienisch-18/
LOCATION:Kapelle St. Laurentius Flawil\, Enzenbühlstrasse 20\, Flawil\, 9230\, Schweiz
CATEGORIES:Gottesdienste
END:VEVENT
BEGIN:VEVENT
DTSTART;TZID=Europe/Zurich:20260628T084500
DTEND;TZID=Europe/Zurich:20260628T084500
DTSTAMP:20260421T223348
CREATED:20251104T140000Z
LAST-MODIFIED:20251104T140155Z
UID:54911-1782636300-1782636300@www.se-ma.ch
SUMMARY:Wolfertswil: Eucharistiefeier
DESCRIPTION:
URL:https://www.se-ma.ch/event/wolfertswil-eucharistiefeier-13/
LOCATION:Bruder Klaus Kirche Wolfertswil\, Wolfertswil\, 9116 \, Schweiz
CATEGORIES:Gottesdienste
END:VEVENT
BEGIN:VEVENT
DTSTART;TZID=Europe/Zurich:20260628T101500
DTEND;TZID=Europe/Zurich:20260628T101500
DTSTAMP:20260421T223348
CREATED:20260107T065052Z
LAST-MODIFIED:20260107T065059Z
UID:56055-1782641700-1782641700@www.se-ma.ch
SUMMARY:Flawil: Kommunionfeier
DESCRIPTION:
URL:https://www.se-ma.ch/event/flawil-kommunionfeier-39/
LOCATION:Kirche St. Laurentius Flawil\, Enzenbühlstrasse 20\, Flawil\, 9230\, Schweiz
CATEGORIES:Gottesdienste
END:VEVENT
BEGIN:VEVENT
DTSTART;TZID=Europe/Zurich:20260628T101500
DTEND;TZID=Europe/Zurich:20260628T113000
DTSTAMP:20260421T223348
CREATED:20260318T101845Z
LAST-MODIFIED:20260318T101845Z
UID:56894-1782641700-1782646200@www.se-ma.ch
SUMMARY:Degersheim: Eucharistiefeier Jakobusfest
DESCRIPTION:mit Kirchenchören Degersheim und Flawil
URL:https://www.se-ma.ch/event/degersheim-eucharistiefeier-jakobusfest/
LOCATION:Jakobuskirche Degersheim\, Bergstrasse 10\, Degersheim\, 9113\, Schweiz
CATEGORIES:Gottesdienste
END:VEVENT
BEGIN:VEVENT
DTSTART;TZID=Europe/Zurich:20260629T193000
DTEND;TZID=Europe/Zurich:20260629T203000
DTSTAMP:20260421T223348
CREATED:20251125T101604Z
LAST-MODIFIED:20251125T101604Z
UID:55213-1782761400-1782765000@www.se-ma.ch
SUMMARY:Degersheim: Schweigemeditation
DESCRIPTION:Im Chorraum der Kath. Kirche St. Jakobus werden wir gemeinsam meditieren. Alle Interessierten\, unabhängig von Konfession oder Kirchennähe\, sind dazu herzlich eingeladen. \nFür Auskünfte steht Walter Germann gerne zur Verfügung: T 071 371 29 38.
URL:https://www.se-ma.ch/event/degersheim-schweigemeditation-103/
LOCATION:Jakobuskirche Degersheim\, Bergstrasse 10\, Degersheim\, 9113\, Schweiz
CATEGORIES:Anlässe und Veranstaltungen
END:VEVENT
BEGIN:VEVENT
DTSTART;TZID=Europe/Zurich:20260702T150000
DTEND;TZID=Europe/Zurich:20260702T163000
DTSTAMP:20260421T223348
CREATED:20251203T081559Z
LAST-MODIFIED:20251203T081559Z
UID:55375-1783004400-1783009800@www.se-ma.ch
SUMMARY:Trauercafé
DESCRIPTION:Das Trauercafé bietet Angehörigen die Möglichkeit\, über das Erlebte zu sprechen und sich mit anderen Betroffenen auszutauschen. Es ist keine Anmeldung nötig. \nHomepage Ökum. Hospizgruppe Flawil
URL:https://www.se-ma.ch/event/trauercafe-37/
LOCATION:Haus 5egg\, Bahnhofstrasse 33\, Flawil\, St. Gallen\, 9230\, Schweiz
CATEGORIES:Anlässe und Veranstaltungen
END:VEVENT
BEGIN:VEVENT
DTSTART;TZID=Europe/Zurich:20260702T190000
DTEND;TZID=Europe/Zurich:20260702T190000
DTSTAMP:20260421T223348
CREATED:20251208T134404Z
LAST-MODIFIED:20251208T134404Z
UID:55459-1783018800-1783018800@www.se-ma.ch
SUMMARY:Flawiler Friedensgebet
DESCRIPTION:In Flawil treffen sich Angehörige verschiedener Konfessionen zum Friedensgebet im Meditationsraum der ref. Kirche \nDaten Friedensgebet Flawil
URL:https://www.se-ma.ch/event/flawiler-friedensgebet-67/
LOCATION:Ref. Kirche Feld\, Flawil\, 9230\, Schweiz
CATEGORIES:Anlässe und Veranstaltungen,Gottesdienste
END:VEVENT
BEGIN:VEVENT
DTSTART;TZID=Europe/Zurich:20260704T173000
DTEND;TZID=Europe/Zurich:20260704T183000
DTSTAMP:20260421T223348
CREATED:20260318T102021Z
LAST-MODIFIED:20260318T102021Z
UID:56897-1783186200-1783189800@www.se-ma.ch
SUMMARY:Degersheim: Kommunionfeier
DESCRIPTION:
URL:https://www.se-ma.ch/event/degersheim-kommunionfeier-39/
LOCATION:Jakobuskirche Degersheim\, Bergstrasse 10\, Degersheim\, 9113\, Schweiz
CATEGORIES:Gottesdienste
END:VEVENT
BEGIN:VEVENT
DTSTART;TZID=Europe/Zurich:20260705T084500
DTEND;TZID=Europe/Zurich:20260705T084500
DTSTAMP:20260421T223348
CREATED:20260107T080949Z
LAST-MODIFIED:20260107T080949Z
UID:56120-1783241100-1783241100@www.se-ma.ch
SUMMARY:Niederglatt: Kommunionfeier
DESCRIPTION:
URL:https://www.se-ma.ch/event/niederglatt-kommunionfeier-18/
LOCATION:Felix + Regula Kirche Niederglatt\, Niederglatt\, 9240\, Schweiz
CATEGORIES:Gottesdienste
END:VEVENT
BEGIN:VEVENT
DTSTART;TZID=Europe/Zurich:20260705T101500
DTEND;TZID=Europe/Zurich:20260705T101500
DTSTAMP:20260421T223348
CREATED:20260107T065117Z
LAST-MODIFIED:20260107T065117Z
UID:56057-1783246500-1783246500@www.se-ma.ch
SUMMARY:Flawil: Kommunionfeier
DESCRIPTION:
URL:https://www.se-ma.ch/event/flawil-kommunionfeier-40/
LOCATION:Kirche St. Laurentius Flawil\, Enzenbühlstrasse 20\, Flawil\, 9230\, Schweiz
CATEGORIES:Gottesdienste
END:VEVENT
BEGIN:VEVENT
DTSTART;TZID=Europe/Zurich:20260708T113000
DTEND;TZID=Europe/Zurich:20260708T113000
DTSTAMP:20260421T223348
CREATED:20260319T131403Z
LAST-MODIFIED:20260319T131403Z
UID:56951-1783510200-1783510200@www.se-ma.ch
SUMMARY:Flawil: SEMAplus - Seniorennachmittag
DESCRIPTION:Bräteln im Pfarrgarten
URL:https://www.se-ma.ch/event/flawil-semaplus-seniorennachmittag-6/
LOCATION:Pfarreizentrum Flawil\, Enzenbühlstrasse 16\, Flawil\, 9230\, Schweiz
CATEGORIES:Anlässe und Veranstaltungen
END:VEVENT
BEGIN:VEVENT
DTSTART;TZID=Europe/Zurich:20260505T140000
DTEND;TZID=Europe/Zurich:20260505T140000
DTSTAMP:20260421T223348
CREATED:20260319T131507Z
LAST-MODIFIED:20260319T131507Z
UID:56953-1777989600-1777989600@www.se-ma.ch
SUMMARY:Flawil: SEMAplus - Seniorennachmittag ökumenisch
DESCRIPTION:Vortrag über die Einsamkeit im Alter
URL:https://www.se-ma.ch/event/flawil-semaplus-seniorennachmittag-oekumenisch-2/
LOCATION:Lindensaal\, Lindenstrasse 6b\, Flawil\, 9230
CATEGORIES:Anlässe und Veranstaltungen
END:VEVENT
BEGIN:VEVENT
DTSTART;TZID=Europe/Zurich:20260711T173000
DTEND;TZID=Europe/Zurich:20260711T173000
DTSTAMP:20260421T223348
CREATED:20260106T152730Z
LAST-MODIFIED:20260106T152730Z
UID:55929-1783791000-1783791000@www.se-ma.ch
SUMMARY:Flawil: Eucharistiefeier in Portugiesisch
DESCRIPTION:
URL:https://www.se-ma.ch/event/flawil-eucharistiefeier-in-portugiesisch-43/
LOCATION:Kapelle St. Laurentius Flawil\, Enzenbühlstrasse 20\, Flawil\, 9230\, Schweiz
CATEGORIES:Gottesdienste
END:VEVENT
BEGIN:VEVENT
DTSTART;TZID=Europe/Zurich:20260711T173000
DTEND;TZID=Europe/Zurich:20260711T183000
DTSTAMP:20260421T223348
CREATED:20260318T102201Z
LAST-MODIFIED:20260318T102201Z
UID:56899-1783791000-1783794600@www.se-ma.ch
SUMMARY:Degersheim: Kommunionfeier
DESCRIPTION:
URL:https://www.se-ma.ch/event/degersheim-kommunionfeier-40/
LOCATION:Jakobuskirche Degersheim\, Bergstrasse 10\, Degersheim\, 9113\, Schweiz
CATEGORIES:Gottesdienste
END:VEVENT
BEGIN:VEVENT
DTSTART;TZID=Europe/Zurich:20260712T084500
DTEND;TZID=Europe/Zurich:20260712T084500
DTSTAMP:20260421T223348
CREATED:20251104T141040Z
LAST-MODIFIED:20251104T141043Z
UID:54925-1783845900-1783845900@www.se-ma.ch
SUMMARY:Wolfertswil: Kommunionfeier
DESCRIPTION:
URL:https://www.se-ma.ch/event/wolfertswil-kommunionfeier-14/
LOCATION:Bruder Klaus Kirche Wolfertswil\, Wolfertswil\, 9116 \, Schweiz
CATEGORIES:Gottesdienste
END:VEVENT
BEGIN:VEVENT
DTSTART;TZID=Europe/Zurich:20260712T090000
DTEND;TZID=Europe/Zurich:20260712T090000
DTSTAMP:20260421T223348
CREATED:20260106T151534Z
LAST-MODIFIED:20260106T151534Z
UID:55869-1783846800-1783846800@www.se-ma.ch
SUMMARY:Flawil: Eucharistiefeier in Italienisch
DESCRIPTION:
URL:https://www.se-ma.ch/event/flawil-eucharistiefeier-in-italienisch-7/
LOCATION:Kapelle St. Laurentius Flawil\, Enzenbühlstrasse 20\, Flawil\, 9230\, Schweiz
CATEGORIES:Gottesdienste
END:VEVENT
BEGIN:VEVENT
DTSTART;TZID=Europe/Zurich:20260718T173000
DTEND;TZID=Europe/Zurich:20260718T183000
DTSTAMP:20260421T223348
CREATED:20260318T102333Z
LAST-MODIFIED:20260318T102333Z
UID:56901-1784395800-1784399400@www.se-ma.ch
SUMMARY:Degersheim: Eucharistiefeier
DESCRIPTION:mit Abt Emmanuel
URL:https://www.se-ma.ch/event/degersheim-eucharistiefeier-61/
LOCATION:Jakobuskirche Degersheim\, Bergstrasse 10\, Degersheim\, 9113\, Schweiz
CATEGORIES:Gottesdienste
END:VEVENT
BEGIN:VEVENT
DTSTART;TZID=Europe/Zurich:20260719T084500
DTEND;TZID=Europe/Zurich:20260719T084500
DTSTAMP:20260421T223348
CREATED:20260107T081016Z
LAST-MODIFIED:20260107T081029Z
UID:56122-1784450700-1784450700@www.se-ma.ch
SUMMARY:Niederglatt: Eucharistiefeier
DESCRIPTION:
URL:https://www.se-ma.ch/event/niederglatt-eucharistiefeier-25/
LOCATION:Felix + Regula Kirche Niederglatt\, Niederglatt\, 9240\, Schweiz
CATEGORIES:Gottesdienste
END:VEVENT
BEGIN:VEVENT
DTSTART;TZID=Europe/Zurich:20260719T101500
DTEND;TZID=Europe/Zurich:20260719T101500
DTSTAMP:20260421T223348
CREATED:20260106T155623Z
LAST-MODIFIED:20260106T155623Z
UID:56031-1784456100-1784456100@www.se-ma.ch
SUMMARY:Flawil: Eucharistiefeier
DESCRIPTION:
URL:https://www.se-ma.ch/event/flawil-eucharistiefeier-48/
LOCATION:Kirche St. Laurentius Flawil\, Enzenbühlstrasse 20\, Flawil\, 9230\, Schweiz
CATEGORIES:Gottesdienste
END:VEVENT
BEGIN:VEVENT
DTSTART;TZID=Europe/Zurich:20260725T173000
DTEND;TZID=Europe/Zurich:20260725T183000
DTSTAMP:20260421T223348
CREATED:20260318T102454Z
LAST-MODIFIED:20260318T102454Z
UID:56904-1785000600-1785004200@www.se-ma.ch
SUMMARY:Degersheim: Eucharistiefeier
DESCRIPTION:
URL:https://www.se-ma.ch/event/degersheim-eucharistiefeier-62/
LOCATION:Jakobuskirche Degersheim\, Bergstrasse 10\, Degersheim\, 9113\, Schweiz
CATEGORIES:Gottesdienste
END:VEVENT
BEGIN:VEVENT
DTSTART;TZID=Europe/Zurich:20260726T083000
DTEND;TZID=Europe/Zurich:20260726T083000
DTSTAMP:20260421T223348
CREATED:20260106T151907Z
LAST-MODIFIED:20260106T151907Z
UID:55889-1785054600-1785054600@www.se-ma.ch
SUMMARY:Flawil: Eucharistiefeier in Italienisch
DESCRIPTION:
URL:https://www.se-ma.ch/event/flawil-eucharistiefeier-in-italienisch-17/
LOCATION:Kapelle St. Laurentius Flawil\, Enzenbühlstrasse 20\, Flawil\, 9230\, Schweiz
CATEGORIES:Gottesdienste
END:VEVENT
BEGIN:VEVENT
DTSTART;TZID=Europe/Zurich:20260726T084500
DTEND;TZID=Europe/Zurich:20260726T084500
DTSTAMP:20260421T223348
CREATED:20251104T141135Z
LAST-MODIFIED:20251104T141139Z
UID:54927-1785055500-1785055500@www.se-ma.ch
SUMMARY:Wolfertswil: Eucharistiefeier
DESCRIPTION:
URL:https://www.se-ma.ch/event/wolfertswil-eucharistiefeier-14/
LOCATION:Bruder Klaus Kirche Wolfertswil\, Wolfertswil\, 9116 \, Schweiz
CATEGORIES:Gottesdienste
END:VEVENT
BEGIN:VEVENT
DTSTART;TZID=Europe/Zurich:20260726T101500
DTEND;TZID=Europe/Zurich:20260726T101500
DTSTAMP:20260421T223348
CREATED:20260106T155639Z
LAST-MODIFIED:20260106T155639Z
UID:56033-1785060900-1785060900@www.se-ma.ch
SUMMARY:Flawil: Eucharistiefeier
DESCRIPTION:
URL:https://www.se-ma.ch/event/flawil-eucharistiefeier-49/
LOCATION:Kirche St. Laurentius Flawil\, Enzenbühlstrasse 20\, Flawil\, 9230\, Schweiz
CATEGORIES:Gottesdienste
END:VEVENT
BEGIN:VEVENT
DTSTART;TZID=Europe/Zurich:20260801T173000
DTEND;TZID=Europe/Zurich:20260801T183000
DTSTAMP:20260421T223348
CREATED:20260318T102623Z
LAST-MODIFIED:20260318T102623Z
UID:56906-1785605400-1785609000@www.se-ma.ch
SUMMARY:Degersheim: Kommunionfeier
DESCRIPTION:
URL:https://www.se-ma.ch/event/degersheim-kommunionfeier-41/
LOCATION:Jakobuskirche Degersheim\, Bergstrasse 10\, Degersheim\, 9113\, Schweiz
CATEGORIES:Gottesdienste
END:VEVENT
BEGIN:VEVENT
DTSTART;TZID=Europe/Zurich:20260802T084500
DTEND;TZID=Europe/Zurich:20260802T084500
DTSTAMP:20260421T223348
CREATED:20260107T081046Z
LAST-MODIFIED:20260107T081046Z
UID:56124-1785660300-1785660300@www.se-ma.ch
SUMMARY:Niederglatt: Kommunionfeier
DESCRIPTION:
URL:https://www.se-ma.ch/event/niederglatt-kommunionfeier-19/
LOCATION:Felix + Regula Kirche Niederglatt\, Niederglatt\, 9240\, Schweiz
CATEGORIES:Gottesdienste
END:VEVENT
BEGIN:VEVENT
DTSTART;TZID=Europe/Zurich:20260802T093000
DTEND;TZID=Europe/Zurich:20260802T093000
DTSTAMP:20260421T223348
CREATED:20260106T153227Z
LAST-MODIFIED:20260106T153227Z
UID:55959-1785663000-1785663000@www.se-ma.ch
SUMMARY:Flawil: Eucharistiefeier in Spanisch
DESCRIPTION:ab 9.00 Uhr Beichtgelegenheit
URL:https://www.se-ma.ch/event/flawil-eucharistiefeier-in-spanisch-64/
LOCATION:Kapelle St. Laurentius Flawil\, Enzenbühlstrasse 20\, Flawil\, 9230\, Schweiz
CATEGORIES:Gottesdienste
END:VEVENT
BEGIN:VEVENT
DTSTART;TZID=Europe/Zurich:20260806T193000
DTEND;TZID=Europe/Zurich:20260806T210000
DTSTAMP:20260421T223348
CREATED:20260421T135449Z
LAST-MODIFIED:20260421T135449Z
UID:57356-1786044600-1786050000@www.se-ma.ch
SUMMARY:Degersheim: Eucharistische Anbetung
DESCRIPTION:In der stillen Anbetung vor dem Allerheiligsten sind wir eingeladen\, vor Gott zur Ruhe zu kommen\, innezuhalten und neue Kraft aus seiner Gegenwart zu schöpfen. \nIn der Stille dürfen wir verweilen\, ihm unser Herz öffnen und alles\, was uns belastet\, in die Hände Jesu legen. \nFreies Kommen und Gehen ist jederzeit möglich.
URL:https://www.se-ma.ch/event/degersheim-eucharistische-anbetung-2/
LOCATION:Jakobuskirche Kapelle Degersheim\, Bergstrasse 10\, Degersheim\, St. Gallen\, 9113\, Schweiz
CATEGORIES:Anlässe und Veranstaltungen
END:VEVENT
BEGIN:VEVENT
DTSTART;TZID=Europe/Zurich:20260807T183000
DTEND;TZID=Europe/Zurich:20260807T200000
DTSTAMP:20260421T223348
CREATED:20251217T101938Z
LAST-MODIFIED:20251217T101938Z
UID:55608-1786127400-1786132800@www.se-ma.ch
SUMMARY:Degersheim: Zämägang
DESCRIPTION:für einander da sein \nzusammen statt alleine \nHast du Lust\, mit mir und hoffentlich anderen Menschen zusammen zu sein? Dann komm einfach mit. \nVielleicht kennst du Menschen\, denen das freundliche und interessierte Miteinander gut tun würde. Mache sie aufmerksam auf dieses Angebot oder bring sie gleich selbst mit! \nEs braucht keine Anmeldung! \nTreffpunkt beim Parkplatz Föhrenwäldli Degersheim! \nIch freue mich auf dich! \nSilvan Hollenstein\, Seelsorger\, Tel. 079 743 73 89
URL:https://www.se-ma.ch/event/degersheim-zaemaegang-31/
LOCATION:Föhrenwäldli\, Berg 1\, Degersheim\, 9113 \, Schweiz
CATEGORIES:Anlässe und Veranstaltungen
END:VEVENT
BEGIN:VEVENT
DTSTART;TZID=Europe/Zurich:20260809T084500
DTEND;TZID=Europe/Zurich:20260809T084500
DTSTAMP:20260421T223348
CREATED:20251104T141315Z
LAST-MODIFIED:20251104T141318Z
UID:54929-1786265100-1786265100@www.se-ma.ch
SUMMARY:Wolfertswil: Schulanfangsgottesdienst
DESCRIPTION:Kommunionfeier mit Segnung und Kräutersträusschen
URL:https://www.se-ma.ch/event/wolfertswil-schulanfangsgottesdienst/
LOCATION:Bruder Klaus Kirche Wolfertswil\, Wolfertswil\, 9116 \, Schweiz
CATEGORIES:Gottesdienste
END:VEVENT
END:VCALENDAR