BEGIN:VCALENDAR
VERSION:2.0
PRODID:-//Seelsorgeeinheit Magdenau - ECPv6.15.20//NONSGML v1.0//EN
CALSCALE:GREGORIAN
METHOD:PUBLISH
X-ORIGINAL-URL:https://www.se-ma.ch
X-WR-CALDESC:Veranstaltungen für Seelsorgeeinheit Magdenau
REFRESH-INTERVAL;VALUE=DURATION:PT1H
X-Robots-Tag:noindex
X-PUBLISHED-TTL:PT1H
BEGIN:VTIMEZONE
TZID:Europe/Zurich
BEGIN:DAYLIGHT
TZOFFSETFROM:+0100
TZOFFSETTO:+0200
TZNAME:CEST
DTSTART:20220327T010000
END:DAYLIGHT
BEGIN:STANDARD
TZOFFSETFROM:+0200
TZOFFSETTO:+0100
TZNAME:CET
DTSTART:20221030T010000
END:STANDARD
BEGIN:DAYLIGHT
TZOFFSETFROM:+0100
TZOFFSETTO:+0200
TZNAME:CEST
DTSTART:20230326T010000
END:DAYLIGHT
BEGIN:STANDARD
TZOFFSETFROM:+0200
TZOFFSETTO:+0100
TZNAME:CET
DTSTART:20231029T010000
END:STANDARD
BEGIN:DAYLIGHT
TZOFFSETFROM:+0100
TZOFFSETTO:+0200
TZNAME:CEST
DTSTART:20240331T010000
END:DAYLIGHT
BEGIN:STANDARD
TZOFFSETFROM:+0200
TZOFFSETTO:+0100
TZNAME:CET
DTSTART:20241027T010000
END:STANDARD
END:VTIMEZONE
BEGIN:VEVENT
DTSTART;TZID=Europe/Zurich:20230601T150000
DTEND;TZID=Europe/Zurich:20230601T163000
DTSTAMP:20260426T030355
CREATED:20230312T163011Z
LAST-MODIFIED:20230312T163011Z
UID:39976-1685631600-1685637000@www.se-ma.ch
SUMMARY:Trauercafé
DESCRIPTION:Das Trauercafé bietet Angehörigen die Möglichkeit\, über das Erlebte zu sprechen und sich mit anderen Betroffenen auszutauschen. Es ist keine Anmeldung nötig. \nHomepage Ökum. Hospizgruppe Flawil
URL:https://www.se-ma.ch/event/trauercafe-3/
LOCATION:Haus 5egg\, Bahnhofstrasse 33\, Flawil\, St. Gallen\, 9230\, Schweiz
CATEGORIES:Anlässe und Veranstaltungen
END:VEVENT
BEGIN:VEVENT
DTSTART;TZID=Europe/Zurich:20230602T183000
DTEND;TZID=Europe/Zurich:20230602T200000
DTSTAMP:20260426T030355
CREATED:20221019T102626Z
LAST-MODIFIED:20230524T070626Z
UID:37141-1685730600-1685736000@www.se-ma.ch
SUMMARY:Degersheim: Zämägang
DESCRIPTION:für einander da sein \nzusammen statt alleine \nHast du Lust\, mit mir und hoffentlich anderen Menschen zusammen zu sein? Dann komm einfach mit. \nVielleicht kennst du Menschen\, denen das freundliche und interessierte Miteinander gut tun würde. Mache sie aufmerksam auf dieses Angebot oder bring sie gleich selbst mit! \nEs braucht keine Anmeldung! \nTreffpunkt beim Parkplatz Föhrenwäldli Degersheim! \nIch freue mich auf dich! \nJeannine Oertle Hälg\, Tel. 071 393 14 16
URL:https://www.se-ma.ch/event/zaemaegang-in-degersheim-16/
LOCATION:Föhrenwäldli\, Berg 1\, Degersheim\, 9113 \, Schweiz
CATEGORIES:Anlässe und Veranstaltungen
END:VEVENT
BEGIN:VEVENT
DTSTART;TZID=Europe/Zurich:20230603T173000
DTEND;TZID=Europe/Zurich:20230603T183000
DTSTAMP:20260426T030355
CREATED:20230104T074509Z
LAST-MODIFIED:20230524T064516Z
UID:38610-1685813400-1685817000@www.se-ma.ch
SUMMARY:Degersheim: Kommunionfeier
DESCRIPTION:
URL:https://www.se-ma.ch/event/kommunionfeier-in-degersheim-21/
LOCATION:Jakobuskirche Degersheim\, Bergstrasse 10\, Degersheim\, 9113\, Schweiz
CATEGORIES:Gottesdienste
END:VEVENT
BEGIN:VEVENT
DTSTART;TZID=Europe/Zurich:20230603T190000
DTEND;TZID=Europe/Zurich:20230603T190000
DTSTAMP:20260426T030355
CREATED:20230512T060358Z
LAST-MODIFIED:20230512T060451Z
UID:41054-1685818800-1685818800@www.se-ma.ch
SUMMARY:Kolpingfamilie Flawil: Vollmondwanderung
DESCRIPTION:Wir freuen uns über die Einladung der Kolpingfamilie Widnau. Für Mitfahrgelegenheiten treffen wir uns um 19.00 Uhr beim Pfarreizentrum. Verpflegung aus dem eigenen Rucksack. Getränke sind besorgt.
URL:https://www.se-ma.ch/event/kolpingfamilie-flawil-vollmondwanderung/
CATEGORIES:Anlässe und Veranstaltungen
END:VEVENT
BEGIN:VEVENT
DTSTART;TZID=Europe/Zurich:20230604T084500
DTEND;TZID=Europe/Zurich:20230604T094500
DTSTAMP:20260426T030355
CREATED:20221220T121853Z
LAST-MODIFIED:20221220T121853Z
UID:38292-1685868300-1685871900@www.se-ma.ch
SUMMARY:Kommunionfeier in Magdenau\, St. Verena
DESCRIPTION:
URL:https://www.se-ma.ch/event/kommunionfeier-in-magdenau-st-verena/
LOCATION:Kirche St. Verena Magdenau\, St. Verena 929\, Wolfertswil\, 9116\, Schweiz
CATEGORIES:Gottesdienste
END:VEVENT
BEGIN:VEVENT
DTSTART;TZID=Europe/Zurich:20230604T093000
DTEND;TZID=Europe/Zurich:20230604T093000
DTSTAMP:20260426T030355
CREATED:20221117T154621Z
LAST-MODIFIED:20230502T123902Z
UID:37560-1685871000-1685871000@www.se-ma.ch
SUMMARY:Flawil: Eucharistiefeier in Spanisch
DESCRIPTION:ab 9.00 Uhr Beichtgelegenheit
URL:https://www.se-ma.ch/event/eucharistiefeier-in-spanisch-in-flawil-7/
LOCATION:Kapelle St. Laurentius Flawil\, Enzenbühlstrasse 20\, Flawil\, 9230\, Schweiz
CATEGORIES:Gottesdienste
END:VEVENT
BEGIN:VEVENT
DTSTART;TZID=Europe/Zurich:20230604T101500
DTEND;TZID=Europe/Zurich:20230604T101500
DTSTAMP:20260426T030355
CREATED:20230106T072108Z
LAST-MODIFIED:20230502T121149Z
UID:38761-1685873700-1685873700@www.se-ma.ch
SUMMARY:Flawil: Kommunionfeier
DESCRIPTION:
URL:https://www.se-ma.ch/event/flawil-kommunionfeier-6/
LOCATION:Kirche St. Laurentius Flawil\, Enzenbühlstrasse 20\, Flawil\, 9230\, Schweiz
CATEGORIES:Gottesdienste
END:VEVENT
BEGIN:VEVENT
DTSTART;TZID=Europe/Zurich:20230605T193000
DTEND;TZID=Europe/Zurich:20230605T203000
DTSTAMP:20260426T030355
CREATED:20230303T094909Z
LAST-MODIFIED:20230524T071615Z
UID:39738-1685993400-1685997000@www.se-ma.ch
SUMMARY:Degersheim: Schweigemeditation
DESCRIPTION:Im Chorraum der Kath. Kirche St. Jakobus werden wir gemeinsam meditieren. Alle Interessierten\, unabhängig von Konfession oder Kirchennähe\, sind dazu herzlich eingeladen. \nFür Auskünfte steht Walter Germann gerne zur Verfügung: T 071 371 29 38.
URL:https://www.se-ma.ch/event/schweigemeditation-in-degersheim-48/
LOCATION:Jakobuskirche Degersheim\, Bergstrasse 10\, Degersheim\, 9113\, Schweiz
CATEGORIES:Anlässe und Veranstaltungen
END:VEVENT
BEGIN:VEVENT
DTSTART;TZID=Europe/Zurich:20230606T143000
DTEND;TZID=Europe/Zurich:20230606T170000
DTSTAMP:20260426T030355
CREATED:20230105T082918Z
LAST-MODIFIED:20230516T071615Z
UID:38697-1686061800-1686070800@www.se-ma.ch
SUMMARY:Flawil: Ökumenischer Seniorennachmittag
DESCRIPTION:„Das Pilgern erdet“\nBeim Pilgern kommt vieles in Gang: körperlich\, geistig und seelisch. Das stundenlange Gehen ermöglicht eine neue «Erdung». Der Alltag beschäftigt vielfach besonders den Kopf. Das Erleben der Natur\, die Gerüche\, die Farben\, der Wind und das Wetter wirken reinigend und bringen den Menschen wieder ins Lot. Besonders intensive Augenblicke auf dem Pilgerweg lassen etwas Himmlisches aufblitzen. Eine Ahnung von all dem werden die Bilder von verschiedenen Jakobswegen zwischen der Ostschweiz und Santiago sowie Finisterre und der live vorgetragene Kommentar des Referenten Josef Schönauer vermitteln. Sein 2021 erschienenes Buch «Pilgern erdet und himmelt» steht im Anschluss an das Referat zum Verkauf und Signieren bereit. \nJahresprogramm 2023
URL:https://www.se-ma.ch/event/flawil-oekumenischer-seniorennachmittag/
LOCATION:Lindensaal\, Lindenstrasse 6b\, Flawil\, 9230
CATEGORIES:Anlässe und Veranstaltungen
END:VEVENT
BEGIN:VEVENT
DTSTART;TZID=Europe/Zurich:20230606T190000
DTEND;TZID=Europe/Zurich:20230606T190000
DTSTAMP:20260426T030355
CREATED:20230512T061548Z
LAST-MODIFIED:20230512T061548Z
UID:41062-1686078000-1686078000@www.se-ma.ch
SUMMARY:Frauengemeinschaft Flawil
DESCRIPTION:Afterwork-Apéro im Rest. Steinbock \nHomepage Frauengemeinschaft
URL:https://www.se-ma.ch/event/frauengemeinschaft-flawil-5/
LOCATION:Restaurant Steinbock\, St. Gallerstrasse 24\, Flawil\, 9230\, Schweiz
CATEGORIES:Anlässe und Veranstaltungen
END:VEVENT
BEGIN:VEVENT
DTSTART;TZID=Europe/Zurich:20230608T190000
DTEND;TZID=Europe/Zurich:20230608T193000
DTSTAMP:20260426T030355
CREATED:20230307T150132Z
LAST-MODIFIED:20230512T084134Z
UID:39819-1686250800-1686252600@www.se-ma.ch
SUMMARY:Flawiler Friedensgebet
DESCRIPTION:In verschiedenen Städten finden Friedensgebete statt. In Flawil treffen sich Angehörige verschiedener Konfessionen zum Friedensgebet im Zwinglisaal der ref. Kirche. \nFlyer Flawiler Friedensgebet
URL:https://www.se-ma.ch/event/flawiler-friedensgebet-27/
LOCATION:Zwinglisaal Flawil\, Lindenstrasse 6B\, Flawil\, SG\, 9230\, Schweiz
CATEGORIES:Anlässe und Veranstaltungen,Gottesdienste
END:VEVENT
BEGIN:VEVENT
DTSTART;TZID=Europe/Zurich:20230610T170000
DTEND;TZID=Europe/Zurich:20230610T170000
DTSTAMP:20260426T030355
CREATED:20230106T073206Z
LAST-MODIFIED:20230512T060610Z
UID:38774-1686416400-1686416400@www.se-ma.ch
SUMMARY:Flawil: Firmung Flawil und Niederglatt
DESCRIPTION:mit Abt Emmanuel
URL:https://www.se-ma.ch/event/flawil-firmung-flawil-und-niederglatt/
LOCATION:Kirche St. Laurentius Flawil\, Enzenbühlstrasse 20\, Flawil\, 9230\, Schweiz
CATEGORIES:Gottesdienste,Kinder und Familien
END:VEVENT
BEGIN:VEVENT
DTSTART;TZID=Europe/Zurich:20230610T173000
DTEND;TZID=Europe/Zurich:20230610T173000
DTSTAMP:20260426T030355
CREATED:20221120T122308Z
LAST-MODIFIED:20230502T123923Z
UID:37690-1686418200-1686418200@www.se-ma.ch
SUMMARY:Flawil: Eucharistiefeier in Portugiesisch
DESCRIPTION:
URL:https://www.se-ma.ch/event/eucharistiefeier-in-portugiesisch-9/
LOCATION:Kapelle St. Laurentius Flawil\, Enzenbühlstrasse 20\, Flawil\, 9230\, Schweiz
CATEGORIES:Gottesdienste
END:VEVENT
BEGIN:VEVENT
DTSTART;TZID=Europe/Zurich:20230610T173000
DTEND;TZID=Europe/Zurich:20230610T183000
DTSTAMP:20260426T030355
CREATED:20230104T074631Z
LAST-MODIFIED:20230524T064611Z
UID:38612-1686418200-1686421800@www.se-ma.ch
SUMMARY:Degersheim: Kommunionfeier
DESCRIPTION:zum Thema: „Was nährt uns wirklich?“
URL:https://www.se-ma.ch/event/kommunionfeier-in-degersheim-22/
LOCATION:Jakobuskirche Degersheim\, Bergstrasse 10\, Degersheim\, 9113\, Schweiz
CATEGORIES:Gottesdienste
END:VEVENT
BEGIN:VEVENT
DTSTART;TZID=Europe/Zurich:20230611T084500
DTEND;TZID=Europe/Zurich:20230611T084500
DTSTAMP:20260426T030355
CREATED:20230106T075144Z
LAST-MODIFIED:20230516T131751Z
UID:38791-1686473100-1686473100@www.se-ma.ch
SUMMARY:Niederglatt: Eucharistiefeier zu Fronleichnam
DESCRIPTION: Was nährt uns wirklich? \nFlyer \n 
URL:https://www.se-ma.ch/event/niederglatt-eucharistiefeier-was-naehrt-uns-wirklich/
LOCATION:Felix + Regula Kirche Niederglatt\, Niederglatt\, 9240\, Schweiz
CATEGORIES:Gottesdienste
END:VEVENT
BEGIN:VEVENT
DTSTART;TZID=Europe/Zurich:20230611T090000
DTEND;TZID=Europe/Zurich:20230611T090000
DTSTAMP:20260426T030355
CREATED:20221120T115347Z
LAST-MODIFIED:20230502T123945Z
UID:37628-1686474000-1686474000@www.se-ma.ch
SUMMARY:Flawil: Eucharistiefeier in Italienisch
DESCRIPTION:
URL:https://www.se-ma.ch/event/eucharistiefeier-in-italienisch-6/
LOCATION:Kapelle St. Laurentius Flawil\, Enzenbühlstrasse 20\, Flawil\, 9230\, Schweiz
CATEGORIES:Gottesdienste
END:VEVENT
BEGIN:VEVENT
DTSTART;TZID=Europe/Zurich:20230611T101500
DTEND;TZID=Europe/Zurich:20230611T101500
DTSTAMP:20260426T030355
CREATED:20230106T073416Z
LAST-MODIFIED:20230502T121058Z
UID:38776-1686478500-1686478500@www.se-ma.ch
SUMMARY:Flawil: Eucharistiefeier - Fronleichnam
DESCRIPTION:Was nährt uns wirklich? \n 
URL:https://www.se-ma.ch/event/flawil-eucharistiefeier-was-naehrt-uns-wirklich/
LOCATION:Kirche St. Laurentius Flawil\, Enzenbühlstrasse 20\, Flawil\, 9230\, Schweiz
CATEGORIES:Gottesdienste
END:VEVENT
BEGIN:VEVENT
DTSTART;TZID=Europe/Zurich:20230612T193000
DTEND;TZID=Europe/Zurich:20230612T203000
DTSTAMP:20260426T030355
CREATED:20230303T095043Z
LAST-MODIFIED:20230524T071652Z
UID:39741-1686598200-1686601800@www.se-ma.ch
SUMMARY:Degersheim: Schweigemeditation
DESCRIPTION:Im Chorraum der Kath. Kirche St. Jakobus werden wir gemeinsam meditieren. Alle Interessierten\, unabhängig von Konfession oder Kirchennähe\, sind dazu herzlich eingeladen. \nFür Auskünfte steht Walter Germann gerne zur Verfügung: T 071 371 29 38.
URL:https://www.se-ma.ch/event/schweigemeditation-in-degersheim-49/
LOCATION:Jakobuskirche Degersheim\, Bergstrasse 10\, Degersheim\, 9113\, Schweiz
CATEGORIES:Anlässe und Veranstaltungen
END:VEVENT
BEGIN:VEVENT
DTSTART;TZID=Europe/Zurich:20230615T113000
DTEND;TZID=Europe/Zurich:20230615T140000
DTSTAMP:20260426T030355
CREATED:20230104T154040Z
LAST-MODIFIED:20230104T154040Z
UID:38669-1686828600-1686837600@www.se-ma.ch
SUMMARY:Mittagstisch in Flawil
DESCRIPTION:Flyer Mittagstisch 2023
URL:https://www.se-ma.ch/event/mittagstisch-in-flawil-5/
LOCATION:Pfarreizentrum Flawil\, Enzenbühlstrasse 16\, Flawil\, 9230\, Schweiz
CATEGORIES:Anlässe und Veranstaltungen
END:VEVENT
BEGIN:VEVENT
DTSTART;VALUE=DATE:20230616
DTEND;VALUE=DATE:20230617
DTSTAMP:20260426T030355
CREATED:20230512T061223Z
LAST-MODIFIED:20230512T061244Z
UID:41059-1686873600-1686959999@www.se-ma.ch
SUMMARY:Frauengemeinschaft Flawil
DESCRIPTION:Vereinsausflug \nHomepage Frauengemeinschaft
URL:https://www.se-ma.ch/event/frauengemeinschaft-flawil-4/
CATEGORIES:Anlässe und Veranstaltungen
END:VEVENT
BEGIN:VEVENT
DTSTART;TZID=Europe/Zurich:20230616T193000
DTEND;TZID=Europe/Zurich:20230616T193000
DTSTAMP:20260426T030355
CREATED:20230510T133943Z
LAST-MODIFIED:20230510T135108Z
UID:41025-1686943800-1686943800@www.se-ma.ch
SUMMARY:FEIERabend - Meh vom Läbe ha
DESCRIPTION:Lebst du dein ganzes Potenzial? \nAusschreibung\nFlyer Feierabend und Anmeldung
URL:https://www.se-ma.ch/event/feierabend-meh-vom-laebe-ha/
LOCATION:Bruder Klaus Kirche Wolfertswil\, Wolfertswil\, 9116 \, Schweiz
CATEGORIES:Anlässe und Veranstaltungen
END:VEVENT
BEGIN:VEVENT
DTSTART;TZID=Europe/Zurich:20230617T093000
DTEND;TZID=Europe/Zurich:20230617T100000
DTSTAMP:20260426T030355
CREATED:20220623T072039Z
LAST-MODIFIED:20220623T072039Z
UID:35286-1686994200-1686996000@www.se-ma.ch
SUMMARY:Chinderfiir - ökumenische Feier in Flawil
DESCRIPTION:  \nDie Chinderfiir richtet sich an Kinder ab 3 Jahren und ihre erwachsenen Begleitpersonen. Während einer halben Stunde machen wir uns mit den Kindern und ihren erwachsenen Begleitpersonen auf den Weg\, den christlichen Glauben mit Musik\, einer Geschichte\, Spiel und Spass zu entdecken. \nFlyer Chinderfiir
URL:https://www.se-ma.ch/event/chinderfiir-oekumenische-feier-in-flawil-6/
LOCATION:Zwinglisaal Flawil\, Lindenstrasse 6B\, Flawil\, SG\, 9230\, Schweiz
CATEGORIES:Gottesdienste,Kinder und Familien
END:VEVENT
BEGIN:VEVENT
DTSTART;TZID=Europe/Zurich:20230617T100000
DTEND;TZID=Europe/Zurich:20230617T120000
DTSTAMP:20260426T030355
CREATED:20220928T061411Z
LAST-MODIFIED:20230524T064713Z
UID:36897-1686996000-1687003200@www.se-ma.ch
SUMMARY:Degesheim: Ökumenische Chinderchile
DESCRIPTION:Die Gestaltung des Programms ist auf die Fähigkeiten von Kindern im Alter von 3 -6 Jahren mit ihren Begleitpersonen ausgerichtet. \nIm Anschluss an die Feier geniessen wir das gemütliche Zusammensein im evang. Kirchgemeindehaus.
URL:https://www.se-ma.ch/event/oekumenische-chinderchile-in-degersheim-5/
LOCATION:evang. Kirchgemeindehaus Degersheim\, Steineggstrasse 12\, Degersheim\, 9113\, Schweiz
CATEGORIES:Kinder und Familien
END:VEVENT
BEGIN:VEVENT
DTSTART;TZID=Europe/Zurich:20230617T110000
DTEND;TZID=Europe/Zurich:20230617T153000
DTSTAMP:20260426T030355
CREATED:20230522T133554Z
LAST-MODIFIED:20230523T065911Z
UID:41373-1686999600-1687015800@www.se-ma.ch
SUMMARY:b'treff-Fest
DESCRIPTION:Das b’treff-Fest bietet für die ganze Bevölkerung Gelegenheit für Begegnungen und Austausch\, für Kulinarisches und Unterhaltung. Für Kinder gibt es ein spezielles Programm mit dem Team der Spielgruppe BitzMeis. Herzliche Einladung! \nInformationen zum Fest
URL:https://www.se-ma.ch/event/btreff-fest-2/
LOCATION:Bahnhofplatz\, Bahnhofplatz 4\, Flawil\, 9230\, Schweiz
CATEGORIES:Anlässe und Veranstaltungen,Kinder und Familien
END:VEVENT
BEGIN:VEVENT
DTSTART;TZID=Europe/Zurich:20230617T180000
DTEND;TZID=Europe/Zurich:20230617T190000
DTSTAMP:20260426T030355
CREATED:20221220T122050Z
LAST-MODIFIED:20221220T122050Z
UID:38294-1687024800-1687028400@www.se-ma.ch
SUMMARY:Spirit am Weiher in Magdenau
DESCRIPTION:
URL:https://www.se-ma.ch/event/spirit-am-weiher-in-magdenau-3/
LOCATION:Magdenauer Weiher\, Magdenau 899\, Wolfertswil\, 9116
CATEGORIES:Gottesdienste
END:VEVENT
BEGIN:VEVENT
DTSTART;TZID=Europe/Zurich:20230618T084500
DTEND;TZID=Europe/Zurich:20230618T094500
DTSTAMP:20260426T030355
CREATED:20221220T122203Z
LAST-MODIFIED:20221220T122349Z
UID:38296-1687077900-1687081500@www.se-ma.ch
SUMMARY:Eucharistiefeier in Magdenau\, St. Verena
DESCRIPTION:
URL:https://www.se-ma.ch/event/eucharistiefeier-in-magdenau-st-verena/
LOCATION:Kirche St. Verena Magdenau\, St. Verena 929\, Wolfertswil\, 9116\, Schweiz
CATEGORIES:Gottesdienste
END:VEVENT
BEGIN:VEVENT
DTSTART;TZID=Europe/Zurich:20230618T101500
DTEND;TZID=Europe/Zurich:20230618T101500
DTSTAMP:20260426T030355
CREATED:20230106T073828Z
LAST-MODIFIED:20230502T120949Z
UID:38778-1687083300-1687083300@www.se-ma.ch
SUMMARY:Flawil: Lagergottesdienst Blauring und Pfadi
DESCRIPTION:
URL:https://www.se-ma.ch/event/flawil-lagergottesdienst-blauring-und-pfadi/
LOCATION:Kirche St. Laurentius Flawil\, Enzenbühlstrasse 20\, Flawil\, 9230\, Schweiz
CATEGORIES:Gottesdienste,Kinder und Familien
END:VEVENT
BEGIN:VEVENT
DTSTART;TZID=Europe/Zurich:20230622T190000
DTEND;TZID=Europe/Zurich:20230622T190000
DTSTAMP:20260426T030355
CREATED:20230307T150026Z
LAST-MODIFIED:20230512T084059Z
UID:39817-1687460400-1687460400@www.se-ma.ch
SUMMARY:Flawiler Friedensgebet
DESCRIPTION:In verschiedenen Städten finden Friedensgebete statt. In Flawil treffen sich Angehörige verschiedener Konfessionen zum Friedensgebet in der meth. Kirche. \nFlyer Flawiler Friedensgebet
URL:https://www.se-ma.ch/event/flawiler-friedensgebet-26/
LOCATION:Evangelisch-methodistische Kirche\, Riedernstrasse 13\, Flawil\, 9230\, Schweiz
CATEGORIES:Anlässe und Veranstaltungen,Gottesdienste
END:VEVENT
BEGIN:VEVENT
DTSTART;TZID=Europe/Zurich:20230622T190000
DTEND;TZID=Europe/Zurich:20230622T193000
DTSTAMP:20260426T030355
CREATED:20230111T112445Z
LAST-MODIFIED:20230524T073040Z
UID:38953-1687460400-1687462200@www.se-ma.ch
SUMMARY:Degersheim: Friedensgebet
DESCRIPTION:
URL:https://www.se-ma.ch/event/friedensgebet-in-degersheim-27/
LOCATION:Jakobuskirche Kapelle Degersheim\, Bergstrasse 10\, Degersheim\, St. Gallen\, 9113\, Schweiz
CATEGORIES:Gottesdienste
END:VEVENT
BEGIN:VEVENT
DTSTART;TZID=Europe/Zurich:20230624T090000
DTEND;TZID=Europe/Zurich:20230624T110000
DTSTAMP:20260426T030355
CREATED:20230216T144307Z
LAST-MODIFIED:20230216T144328Z
UID:39393-1687597200-1687604400@www.se-ma.ch
SUMMARY:Familientreff - Spatzenhöck
DESCRIPTION:Zmorgentisch \nJahresprogamm 2023
URL:https://www.se-ma.ch/event/familientreff-spatzenhoeck-3/
LOCATION:Pfarreizentrum Flawil\, Enzenbühlstrasse 16\, Flawil\, 9230\, Schweiz
CATEGORIES:Kinder und Familien
END:VEVENT
END:VCALENDAR