BEGIN:VCALENDAR
VERSION:2.0
PRODID:-//Seelsorgeeinheit Magdenau - ECPv6.15.20//NONSGML v1.0//EN
CALSCALE:GREGORIAN
METHOD:PUBLISH
X-WR-CALNAME:Seelsorgeeinheit Magdenau
X-ORIGINAL-URL:https://www.se-ma.ch
X-WR-CALDESC:Veranstaltungen für Seelsorgeeinheit Magdenau
REFRESH-INTERVAL;VALUE=DURATION:PT1H
X-Robots-Tag:noindex
X-PUBLISHED-TTL:PT1H
BEGIN:VTIMEZONE
TZID:Europe/Zurich
BEGIN:DAYLIGHT
TZOFFSETFROM:+0100
TZOFFSETTO:+0200
TZNAME:CEST
DTSTART:20220327T010000
END:DAYLIGHT
BEGIN:STANDARD
TZOFFSETFROM:+0200
TZOFFSETTO:+0100
TZNAME:CET
DTSTART:20221030T010000
END:STANDARD
BEGIN:DAYLIGHT
TZOFFSETFROM:+0100
TZOFFSETTO:+0200
TZNAME:CEST
DTSTART:20230326T010000
END:DAYLIGHT
BEGIN:STANDARD
TZOFFSETFROM:+0200
TZOFFSETTO:+0100
TZNAME:CET
DTSTART:20231029T010000
END:STANDARD
BEGIN:DAYLIGHT
TZOFFSETFROM:+0100
TZOFFSETTO:+0200
TZNAME:CEST
DTSTART:20240331T010000
END:DAYLIGHT
BEGIN:STANDARD
TZOFFSETFROM:+0200
TZOFFSETTO:+0100
TZNAME:CET
DTSTART:20241027T010000
END:STANDARD
END:VTIMEZONE
BEGIN:VEVENT
DTSTART;TZID=Europe/Zurich:20230702T084500
DTEND;TZID=Europe/Zurich:20230702T094500
DTSTAMP:20260426T011340
CREATED:20221220T122502Z
LAST-MODIFIED:20221220T122502Z
UID:38299-1688287500-1688291100@www.se-ma.ch
SUMMARY:Kommunionfeier in Magdenau\, St. Verena
DESCRIPTION:
URL:https://www.se-ma.ch/event/kommunionfeier-in-magdenau-st-verena-2/
LOCATION:Kirche St. Verena Magdenau\, St. Verena 929\, Wolfertswil\, 9116\, Schweiz
CATEGORIES:Gottesdienste
END:VEVENT
BEGIN:VEVENT
DTSTART;TZID=Europe/Zurich:20230702T101500
DTEND;TZID=Europe/Zurich:20230702T101500
DTSTAMP:20260426T011340
CREATED:20230502T091208Z
LAST-MODIFIED:20230502T091708Z
UID:40785-1688292900-1688292900@www.se-ma.ch
SUMMARY:Flawil: Kommunionfeier
DESCRIPTION:
URL:https://www.se-ma.ch/event/flawil-kommunionfeier-8/
LOCATION:Kirche St. Laurentius Flawil\, Enzenbühlstrasse 20\, Flawil\, 9230\, Schweiz
CATEGORIES:Gottesdienste
END:VEVENT
BEGIN:VEVENT
DTSTART;TZID=Europe/Zurich:20230702T101500
DTEND;TZID=Europe/Zurich:20230702T113000
DTSTAMP:20260426T011340
CREATED:20230104T074958Z
LAST-MODIFIED:20230524T064931Z
UID:38616-1688292900-1688297400@www.se-ma.ch
SUMMARY:Degersheim: Eucharistiefeier Jakobusfest
DESCRIPTION:Jakobusfest mit dem Kirchenchor Degersheim\, anschliessend sind Sie herzlich zum Apéro eingeladen.
URL:https://www.se-ma.ch/event/eucharistiefeier-jakobusfest-in-degersheim-2/
LOCATION:Jakobuskirche Degersheim\, Bergstrasse 10\, Degersheim\, 9113\, Schweiz
CATEGORIES:Gottesdienste
END:VEVENT
BEGIN:VEVENT
DTSTART;TZID=Europe/Zurich:20230703T193000
DTEND;TZID=Europe/Zurich:20230703T203000
DTSTAMP:20260426T011340
CREATED:20230303T095516Z
LAST-MODIFIED:20230524T071937Z
UID:39748-1688412600-1688416200@www.se-ma.ch
SUMMARY:Degersheim: Schweigemeditation
DESCRIPTION:Im Chorraum der Kath. Kirche St. Jakobus werden wir gemeinsam meditieren. Alle Interessierten\, unabhängig von Konfession oder Kirchennähe\, sind dazu herzlich eingeladen. \nFür Auskünfte steht Walter Germann gerne zur Verfügung: T 071 371 29 38.
URL:https://www.se-ma.ch/event/schweigemeditation-in-degersheim-51/
LOCATION:Jakobuskirche Degersheim\, Bergstrasse 10\, Degersheim\, 9113\, Schweiz
CATEGORIES:Anlässe und Veranstaltungen
END:VEVENT
BEGIN:VEVENT
DTSTART;TZID=Europe/Zurich:20230706T113000
DTEND;TZID=Europe/Zurich:20230706T140000
DTSTAMP:20260426T011340
CREATED:20230104T154127Z
LAST-MODIFIED:20230104T154127Z
UID:38671-1688643000-1688652000@www.se-ma.ch
SUMMARY:Mittagstisch in Flawil
DESCRIPTION:Flyer Mittagstisch 2023
URL:https://www.se-ma.ch/event/mittagstisch-in-flawil-6/
LOCATION:Pfarreizentrum Flawil\, Enzenbühlstrasse 16\, Flawil\, 9230\, Schweiz
CATEGORIES:Anlässe und Veranstaltungen
END:VEVENT
BEGIN:VEVENT
DTSTART;TZID=Europe/Zurich:20230706T150000
DTEND;TZID=Europe/Zurich:20230706T163000
DTSTAMP:20260426T011340
CREATED:20230312T163030Z
LAST-MODIFIED:20230312T163030Z
UID:39978-1688655600-1688661000@www.se-ma.ch
SUMMARY:Trauercafé
DESCRIPTION:Das Trauercafé bietet Angehörigen die Möglichkeit\, über das Erlebte zu sprechen und sich mit anderen Betroffenen auszutauschen. Es ist keine Anmeldung nötig. \nHomepage Ökum. Hospizgruppe Flawil
URL:https://www.se-ma.ch/event/trauercafe-4/
LOCATION:Haus 5egg\, Bahnhofstrasse 33\, Flawil\, St. Gallen\, 9230\, Schweiz
CATEGORIES:Anlässe und Veranstaltungen
END:VEVENT
BEGIN:VEVENT
DTSTART;TZID=Europe/Zurich:20230706T190000
DTEND;TZID=Europe/Zurich:20230706T190000
DTSTAMP:20260426T011340
CREATED:20230307T145835Z
LAST-MODIFIED:20230502T123833Z
UID:39813-1688670000-1688670000@www.se-ma.ch
SUMMARY:Flawiler Friedensgebet
DESCRIPTION:In verschiedenen Städten finden Friedensgebete statt. In Flawil treffen sich Angehörige verschiedener Konfessionen zum Friedensgebet in der Kapelle der katholischen Kirche. \nFlyer Flawiler Friedensgebet
URL:https://www.se-ma.ch/event/flawiler-friedensgebet-24/
LOCATION:Kapelle St. Laurentius Flawil\, Enzenbühlstrasse 20\, Flawil\, 9230\, Schweiz
CATEGORIES:Anlässe und Veranstaltungen,Gottesdienste
END:VEVENT
BEGIN:VEVENT
DTSTART;TZID=Europe/Zurich:20230708T170000
DTEND;TZID=Europe/Zurich:20230708T180000
DTSTAMP:20260426T011340
CREATED:20230104T075141Z
LAST-MODIFIED:20230606T104205Z
UID:38618-1688835600-1688839200@www.se-ma.ch
SUMMARY:Degersheim: Gottesdienscht bi de Lüüt im Café Marion
DESCRIPTION:Am Samstag\, 8. Juli 2023\, um 17.00 Uhr feiern wir einen Gottesdienst im Café Marion. Wir freuen uns auf Ihr Mitfeiern an diesem besonderen Ort. \nSind Sie alli herzlich willkommä! \nSilvan Hollenstein
URL:https://www.se-ma.ch/event/eucharistiefeier-in-degersheim-28/
LOCATION:Café Marion Degersheim\, Hauptstrasse 78\, 9113 Degersheim\, 9113\, Schweiz
CATEGORIES:Gottesdienste
END:VEVENT
BEGIN:VEVENT
DTSTART;TZID=Europe/Zurich:20230708T173000
DTEND;TZID=Europe/Zurich:20230708T173000
DTSTAMP:20260426T011340
CREATED:20221120T122413Z
LAST-MODIFIED:20230502T123734Z
UID:37694-1688837400-1688837400@www.se-ma.ch
SUMMARY:Flawil: Eucharistiefeier in Portugiesisch
DESCRIPTION:
URL:https://www.se-ma.ch/event/eucharistiefeier-in-portugiesisch-11/
LOCATION:Kapelle St. Laurentius Flawil\, Enzenbühlstrasse 20\, Flawil\, 9230\, Schweiz
CATEGORIES:Gottesdienste
END:VEVENT
BEGIN:VEVENT
DTSTART;TZID=Europe/Zurich:20230709T084500
DTEND;TZID=Europe/Zurich:20230709T084500
DTSTAMP:20260426T011340
CREATED:20230502T073950Z
LAST-MODIFIED:20230502T124824Z
UID:40744-1688892300-1688892300@www.se-ma.ch
SUMMARY:Niederglatt: Eucharistiefeier
DESCRIPTION:
URL:https://www.se-ma.ch/event/niederglatt-eucharistiefeier/
LOCATION:Felix + Regula Kirche Niederglatt\, Niederglatt\, 9240\, Schweiz
CATEGORIES:Gottesdienste
END:VEVENT
BEGIN:VEVENT
DTSTART;TZID=Europe/Zurich:20230709T090000
DTEND;TZID=Europe/Zurich:20230709T090000
DTSTAMP:20260426T011340
CREATED:20221120T115505Z
LAST-MODIFIED:20230612T054856Z
UID:37630-1688893200-1688893200@www.se-ma.ch
SUMMARY:Flawil: Eucharistiefeier in Italienisch - fällt aus
DESCRIPTION:
URL:https://www.se-ma.ch/event/eucharistiefeier-in-italienisch-7/
LOCATION:Kapelle St. Laurentius Flawil\, Enzenbühlstrasse 20\, Flawil\, 9230\, Schweiz
CATEGORIES:Gottesdienste
END:VEVENT
BEGIN:VEVENT
DTSTART;TZID=Europe/Zurich:20230709T101500
DTEND;TZID=Europe/Zurich:20230709T101500
DTSTAMP:20260426T011340
CREATED:20230502T091859Z
LAST-MODIFIED:20230502T113240Z
UID:40780-1688897700-1688897700@www.se-ma.ch
SUMMARY:Flawil: Eucharistiefeier
DESCRIPTION:
URL:https://www.se-ma.ch/event/flawil-kommunionfeier-10/
LOCATION:Kirche St. Laurentius Flawil\, Enzenbühlstrasse 20\, Flawil\, 9230\, Schweiz
CATEGORIES:Gottesdienste
END:VEVENT
BEGIN:VEVENT
DTSTART;TZID=Europe/Zurich:20230712T113000
DTEND;TZID=Europe/Zurich:20230712T150000
DTSTAMP:20260426T011340
CREATED:20230105T083126Z
LAST-MODIFIED:20230105T083126Z
UID:38701-1689161400-1689174000@www.se-ma.ch
SUMMARY:Flawil: Seniorennachmittag
DESCRIPTION:Bräteln im Pfarrgarten \nJahresprogramm 2023
URL:https://www.se-ma.ch/event/flawil-seniorennachmittag-8/
LOCATION:Pfarreizentrum Flawil\, Enzenbühlstrasse 16\, Flawil\, 9230\, Schweiz
CATEGORIES:Anlässe und Veranstaltungen
END:VEVENT
BEGIN:VEVENT
DTSTART;TZID=Europe/Zurich:20230713T144500
DTEND;TZID=Europe/Zurich:20230713T164500
DTSTAMP:20260426T011340
CREATED:20230621T061114Z
LAST-MODIFIED:20230621T061114Z
UID:41845-1689259500-1689266700@www.se-ma.ch
SUMMARY:Familientreff - Spatzenhöck
DESCRIPTION:Ferienplausch – Badeplausch \nJahresprogamm 2023
URL:https://www.se-ma.ch/event/familientreff-spatzenhoeck-7/
LOCATION:Sommer im Feld\, Flawil\, 9230\, Schweiz
CATEGORIES:Kinder und Familien
END:VEVENT
BEGIN:VEVENT
DTSTART;TZID=Europe/Zurich:20230715T173000
DTEND;TZID=Europe/Zurich:20230715T183000
DTSTAMP:20260426T011340
CREATED:20230104T075251Z
LAST-MODIFIED:20230524T065125Z
UID:38620-1689442200-1689445800@www.se-ma.ch
SUMMARY:Degersheim: Kommunionfeier
DESCRIPTION:
URL:https://www.se-ma.ch/event/kommunionfeier-in-degersheim-24/
LOCATION:Jakobuskirche Degersheim\, Bergstrasse 10\, Degersheim\, 9113\, Schweiz
CATEGORIES:Gottesdienste
END:VEVENT
BEGIN:VEVENT
DTSTART;TZID=Europe/Zurich:20230716T084500
DTEND;TZID=Europe/Zurich:20230716T084500
DTSTAMP:20260426T011340
CREATED:20221220T122716Z
LAST-MODIFIED:20221220T122838Z
UID:38302-1689497100-1689497100@www.se-ma.ch
SUMMARY:Kommunionfeier in Magdenau\, St. Verena
DESCRIPTION:
URL:https://www.se-ma.ch/event/kommunionfeier-in-magdenau-st-verena-3/
LOCATION:Kirche St. Verena Magdenau\, St. Verena 929\, Wolfertswil\, 9116\, Schweiz
CATEGORIES:Gottesdienste
END:VEVENT
BEGIN:VEVENT
DTSTART;TZID=Europe/Zurich:20230716T101500
DTEND;TZID=Europe/Zurich:20230716T101500
DTSTAMP:20260426T011340
CREATED:20230502T091451Z
LAST-MODIFIED:20230704T094927Z
UID:40789-1689502500-1689502500@www.se-ma.ch
SUMMARY:Flawil: Eucharistiefeier
DESCRIPTION:
URL:https://www.se-ma.ch/event/flawil-kommunionfeier-9/
LOCATION:Kirche St. Laurentius Flawil\, Enzenbühlstrasse 20\, Flawil\, 9230\, Schweiz
CATEGORIES:Gottesdienste
END:VEVENT
BEGIN:VEVENT
DTSTART;TZID=Europe/Zurich:20230722T173000
DTEND;TZID=Europe/Zurich:20230722T183000
DTSTAMP:20260426T011340
CREATED:20230104T075356Z
LAST-MODIFIED:20230524T065220Z
UID:38622-1690047000-1690050600@www.se-ma.ch
SUMMARY:Degersheim: Eucharistiefeier
DESCRIPTION:
URL:https://www.se-ma.ch/event/eucharistiefeier-in-degersheim-34/
LOCATION:Jakobuskirche Degersheim\, Bergstrasse 10\, Degersheim\, 9113\, Schweiz
CATEGORIES:Gottesdienste
END:VEVENT
BEGIN:VEVENT
DTSTART;TZID=Europe/Zurich:20230723T083000
DTEND;TZID=Europe/Zurich:20230723T083000
DTSTAMP:20260426T011340
CREATED:20221120T121016Z
LAST-MODIFIED:20230502T123648Z
UID:37660-1690101000-1690101000@www.se-ma.ch
SUMMARY:Flawil: Eucharistiefeier in Italienisch
DESCRIPTION:
URL:https://www.se-ma.ch/event/eucharistiefeier-in-italienisch-20/
LOCATION:Kapelle St. Laurentius Flawil\, Enzenbühlstrasse 20\, Flawil\, 9230\, Schweiz
CATEGORIES:Gottesdienste
END:VEVENT
BEGIN:VEVENT
DTSTART;TZID=Europe/Zurich:20230723T084500
DTEND;TZID=Europe/Zurich:20230723T084500
DTSTAMP:20260426T011340
CREATED:20230502T074013Z
LAST-MODIFIED:20230502T124844Z
UID:40746-1690101900-1690101900@www.se-ma.ch
SUMMARY:Niederglatt: Eucharistiefeier
DESCRIPTION:
URL:https://www.se-ma.ch/event/niederglatt-eucharistiefeier-2/
LOCATION:Felix + Regula Kirche Niederglatt\, Niederglatt\, 9240\, Schweiz
CATEGORIES:Gottesdienste
END:VEVENT
BEGIN:VEVENT
DTSTART;TZID=Europe/Zurich:20230723T101500
DTEND;TZID=Europe/Zurich:20230723T101500
DTSTAMP:20260426T011340
CREATED:20230106T074231Z
LAST-MODIFIED:20230502T120751Z
UID:38780-1690107300-1690107300@www.se-ma.ch
SUMMARY:Flawil: Eucharistiefeier
DESCRIPTION:
URL:https://www.se-ma.ch/event/flawil-eucharistiefeier/
LOCATION:Kirche St. Laurentius Flawil\, Enzenbühlstrasse 20\, Flawil\, 9230\, Schweiz
CATEGORIES:Gottesdienste
END:VEVENT
BEGIN:VEVENT
DTSTART;TZID=Europe/Zurich:20230729T173000
DTEND;TZID=Europe/Zurich:20230729T183000
DTSTAMP:20260426T011340
CREATED:20230104T075517Z
LAST-MODIFIED:20230524T065311Z
UID:38624-1690651800-1690655400@www.se-ma.ch
SUMMARY:Degersheim: Eucharistiefeier
DESCRIPTION:mit Abt Emmanuel
URL:https://www.se-ma.ch/event/eucharistiefeier-in-degersheim-35/
LOCATION:Jakobuskirche Degersheim\, Bergstrasse 10\, Degersheim\, 9113\, Schweiz
CATEGORIES:Gottesdienste
END:VEVENT
BEGIN:VEVENT
DTSTART;TZID=Europe/Zurich:20230730T084500
DTEND;TZID=Europe/Zurich:20230730T084500
DTSTAMP:20260426T011340
CREATED:20221220T123005Z
LAST-MODIFIED:20221220T123005Z
UID:38305-1690706700-1690706700@www.se-ma.ch
SUMMARY:Eucharistiefeier in Magdenau\, St. Verena
DESCRIPTION:
URL:https://www.se-ma.ch/event/eucharistiefeier-in-magdenau-st-verena-2/
LOCATION:Kirche St. Verena Magdenau\, St. Verena 929\, Wolfertswil\, 9116\, Schweiz
CATEGORIES:Gottesdienste
END:VEVENT
BEGIN:VEVENT
DTSTART;TZID=Europe/Zurich:20230730T101500
DTEND;TZID=Europe/Zurich:20230730T101500
DTSTAMP:20260426T011340
CREATED:20230106T074259Z
LAST-MODIFIED:20230502T120822Z
UID:38782-1690712100-1690712100@www.se-ma.ch
SUMMARY:Flawil: Eucharistiefeier
DESCRIPTION:
URL:https://www.se-ma.ch/event/flawil-eucharistiefeier-2/
LOCATION:Kirche St. Laurentius Flawil\, Enzenbühlstrasse 20\, Flawil\, 9230\, Schweiz
CATEGORIES:Gottesdienste
END:VEVENT
END:VCALENDAR