BEGIN:VCALENDAR
VERSION:2.0
PRODID:-//Seelsorgeeinheit Magdenau - ECPv6.15.20//NONSGML v1.0//EN
CALSCALE:GREGORIAN
METHOD:PUBLISH
X-ORIGINAL-URL:https://www.se-ma.ch
X-WR-CALDESC:Veranstaltungen für Seelsorgeeinheit Magdenau
REFRESH-INTERVAL;VALUE=DURATION:PT1H
X-Robots-Tag:noindex
X-PUBLISHED-TTL:PT1H
BEGIN:VTIMEZONE
TZID:Europe/Zurich
BEGIN:DAYLIGHT
TZOFFSETFROM:+0100
TZOFFSETTO:+0200
TZNAME:CEST
DTSTART:20220327T010000
END:DAYLIGHT
BEGIN:STANDARD
TZOFFSETFROM:+0200
TZOFFSETTO:+0100
TZNAME:CET
DTSTART:20221030T010000
END:STANDARD
BEGIN:DAYLIGHT
TZOFFSETFROM:+0100
TZOFFSETTO:+0200
TZNAME:CEST
DTSTART:20230326T010000
END:DAYLIGHT
BEGIN:STANDARD
TZOFFSETFROM:+0200
TZOFFSETTO:+0100
TZNAME:CET
DTSTART:20231029T010000
END:STANDARD
BEGIN:DAYLIGHT
TZOFFSETFROM:+0100
TZOFFSETTO:+0200
TZNAME:CEST
DTSTART:20240331T010000
END:DAYLIGHT
BEGIN:STANDARD
TZOFFSETFROM:+0200
TZOFFSETTO:+0100
TZNAME:CET
DTSTART:20241027T010000
END:STANDARD
END:VTIMEZONE
BEGIN:VEVENT
DTSTART;VALUE=DATE:20230909
DTEND;VALUE=DATE:20231023
DTSTAMP:20260425T213022
CREATED:20230821T124824Z
LAST-MODIFIED:20230821T125002Z
UID:42389-1694217600-1698019199@www.se-ma.ch
SUMMARY:Niederglatt: Actionbound "Engelzauber"
DESCRIPTION:  \n  \n  \nFlyer Actionbound
URL:https://www.se-ma.ch/event/niederglatt-actionbound-engelzauber/
LOCATION:Felix + Regula Kirche Niederglatt\, Niederglatt\, 9240\, Schweiz
CATEGORIES:Anlässe und Veranstaltungen,Kinder und Familien
END:VEVENT
BEGIN:VEVENT
DTSTART;TZID=Europe/Zurich:20231001T084500
DTEND;TZID=Europe/Zurich:20231001T084500
DTSTAMP:20260425T213022
CREATED:20230502T075354Z
LAST-MODIFIED:20230502T125034Z
UID:40761-1696149900-1696149900@www.se-ma.ch
SUMMARY:Niederglatt: Kommunionfeier zum Erntedank
DESCRIPTION:genug zum Essen\nmit dem Männerchor Alterschwil\, anschliessend sind Sie zum Apéro eingeladen.
URL:https://www.se-ma.ch/event/niederglatt-kommunionfeier-zum-erntedank/
LOCATION:Felix + Regula Kirche Niederglatt\, Niederglatt\, 9240\, Schweiz
CATEGORIES:Gottesdienste
END:VEVENT
BEGIN:VEVENT
DTSTART;TZID=Europe/Zurich:20231001T093000
DTEND;TZID=Europe/Zurich:20231001T093000
DTSTAMP:20260425T213022
CREATED:20221117T154744Z
LAST-MODIFIED:20230502T123219Z
UID:37566-1696152600-1696152600@www.se-ma.ch
SUMMARY:Flawil: Eucharistiefeier in Spanisch
DESCRIPTION:ab 9.00 Uhr Beichtgelegenheit
URL:https://www.se-ma.ch/event/eucharistiefeier-in-spanisch-in-flawil-10/
LOCATION:Kapelle St. Laurentius Flawil\, Enzenbühlstrasse 20\, Flawil\, 9230\, Schweiz
CATEGORIES:Gottesdienste
END:VEVENT
BEGIN:VEVENT
DTSTART;TZID=Europe/Zurich:20231001T101500
DTEND;TZID=Europe/Zurich:20231001T101500
DTSTAMP:20260425T213022
CREATED:20230502T092131Z
LAST-MODIFIED:20230502T092650Z
UID:40799-1696155300-1696155300@www.se-ma.ch
SUMMARY:Flawil: Kommunionfeier
DESCRIPTION:
URL:https://www.se-ma.ch/event/flawil-kommunionfeier-12/
LOCATION:Kirche St. Laurentius Flawil\, Enzenbühlstrasse 20\, Flawil\, 9230\, Schweiz
CATEGORIES:Gottesdienste
END:VEVENT
BEGIN:VEVENT
DTSTART;TZID=Europe/Zurich:20231005T150000
DTEND;TZID=Europe/Zurich:20231005T163000
DTSTAMP:20260425T213022
CREATED:20230312T163207Z
LAST-MODIFIED:20230312T163207Z
UID:39984-1696518000-1696523400@www.se-ma.ch
SUMMARY:Trauercafé
DESCRIPTION:Das Trauercafé bietet Angehörigen die Möglichkeit\, über das Erlebte zu sprechen und sich mit anderen Betroffenen auszutauschen. Es ist keine Anmeldung nötig. \nHomepage Ökum. Hospizgruppe Flawil
URL:https://www.se-ma.ch/event/trauercafe-7/
LOCATION:Haus 5egg\, Bahnhofstrasse 33\, Flawil\, St. Gallen\, 9230\, Schweiz
CATEGORIES:Anlässe und Veranstaltungen
END:VEVENT
BEGIN:VEVENT
DTSTART;TZID=Europe/Zurich:20231006T183000
DTEND;TZID=Europe/Zurich:20231006T200000
DTSTAMP:20260425T213022
CREATED:20230613T091530Z
LAST-MODIFIED:20230613T091530Z
UID:41597-1696617000-1696622400@www.se-ma.ch
SUMMARY:Degersheim: Zämägang
DESCRIPTION:für einander da sein \nzusammen statt alleine \nHast du Lust\, mit mir und hoffentlich anderen Menschen zusammen zu sein? Dann komm einfach mit. \nVielleicht kennst du Menschen\, denen das freundliche und interessierte Miteinander gut tun würde. Mache sie aufmerksam auf dieses Angebot oder bring sie gleich selbst mit! \nEs braucht keine Anmeldung! \nTreffpunkt beim Parkplatz Föhrenwäldli Degersheim! \nIch freue mich auf dich! \nSilvan Hollenstein\, Seelsorger\, Tel. 079 743 73 89
URL:https://www.se-ma.ch/event/degersheim-zaemaegang-3/
LOCATION:Föhrenwäldli\, Berg 1\, Degersheim\, 9113 \, Schweiz
CATEGORIES:Anlässe und Veranstaltungen
END:VEVENT
BEGIN:VEVENT
DTSTART;TZID=Europe/Zurich:20231007T173000
DTEND;TZID=Europe/Zurich:20231007T183000
DTSTAMP:20260425T213022
CREATED:20230517T081550Z
LAST-MODIFIED:20230517T081550Z
UID:41187-1696699800-1696703400@www.se-ma.ch
SUMMARY:Degersheim: Kommunionfeier
DESCRIPTION:
URL:https://www.se-ma.ch/event/degersheim-kommunionfeier-2/
LOCATION:Jakobuskirche Degersheim\, Bergstrasse 10\, Degersheim\, 9113\, Schweiz
CATEGORIES:Gottesdienste
END:VEVENT
BEGIN:VEVENT
DTSTART;TZID=Europe/Zurich:20231008T084500
DTEND;TZID=Europe/Zurich:20231008T084500
DTSTAMP:20260425T213022
CREATED:20221220T124438Z
LAST-MODIFIED:20221220T124438Z
UID:38319-1696754700-1696754700@www.se-ma.ch
SUMMARY:Kommunionfeier in Magdenau\, St. Verena
DESCRIPTION:
URL:https://www.se-ma.ch/event/kommunionfeier-in-magdenau-st-verena-4/
LOCATION:Kirche St. Verena Magdenau\, St. Verena 929\, Wolfertswil\, 9116\, Schweiz
CATEGORIES:Gottesdienste
END:VEVENT
BEGIN:VEVENT
DTSTART;TZID=Europe/Zurich:20231008T090000
DTEND;TZID=Europe/Zurich:20231008T090000
DTSTAMP:20260425T213022
CREATED:20221120T120502Z
LAST-MODIFIED:20230502T123245Z
UID:37644-1696755600-1696755600@www.se-ma.ch
SUMMARY:Flawil: Eucharistiefeier in Italienisch
DESCRIPTION:
URL:https://www.se-ma.ch/event/eucharistiefeier-in-italienisch-12/
LOCATION:Kapelle St. Laurentius Flawil\, Enzenbühlstrasse 20\, Flawil\, 9230\, Schweiz
CATEGORIES:Gottesdienste
END:VEVENT
BEGIN:VEVENT
DTSTART;TZID=Europe/Zurich:20231008T101500
DTEND;TZID=Europe/Zurich:20231008T101500
DTSTAMP:20260425T213022
CREATED:20230502T092209Z
LAST-MODIFIED:20230502T093133Z
UID:40801-1696760100-1696760100@www.se-ma.ch
SUMMARY:Flawil: Kommunionfeier
DESCRIPTION:
URL:https://www.se-ma.ch/event/flawil-kommunionfeier-13/
LOCATION:Kirche St. Laurentius Flawil\, Enzenbühlstrasse 20\, Flawil\, 9230\, Schweiz
CATEGORIES:Gottesdienste
END:VEVENT
BEGIN:VEVENT
DTSTART;TZID=Europe/Zurich:20231011T113000
DTEND;TZID=Europe/Zurich:20231011T113000
DTSTAMP:20260425T213022
CREATED:20230105T082703Z
LAST-MODIFIED:20230904T143616Z
UID:38693-1697023800-1697023800@www.se-ma.ch
SUMMARY:Flawil: Seniorennachmittag
DESCRIPTION:Raclette mit Musik \nJahresprogramm 2023
URL:https://www.se-ma.ch/event/flawil-seniorennachmittag-6/
LOCATION:Pfarreizentrum Flawil\, Enzenbühlstrasse 16\, Flawil\, 9230\, Schweiz
CATEGORIES:Anlässe und Veranstaltungen
END:VEVENT
BEGIN:VEVENT
DTSTART;TZID=Europe/Zurich:20231014T173000
DTEND;TZID=Europe/Zurich:20231014T173000
DTSTAMP:20260425T213022
CREATED:20221120T122607Z
LAST-MODIFIED:20230502T123308Z
UID:37700-1697304600-1697304600@www.se-ma.ch
SUMMARY:Flawil: Eucharistiefeier in Portugiesisch
DESCRIPTION:
URL:https://www.se-ma.ch/event/eucharistiefeier-in-portugiesisch-14/
LOCATION:Kapelle St. Laurentius Flawil\, Enzenbühlstrasse 20\, Flawil\, 9230\, Schweiz
CATEGORIES:Gottesdienste
END:VEVENT
BEGIN:VEVENT
DTSTART;TZID=Europe/Zurich:20231014T173000
DTEND;TZID=Europe/Zurich:20231014T183000
DTSTAMP:20260425T213022
CREATED:20230517T081654Z
LAST-MODIFIED:20230517T081654Z
UID:41190-1697304600-1697308200@www.se-ma.ch
SUMMARY:Degersheim: Eucharistiefeier
DESCRIPTION:
URL:https://www.se-ma.ch/event/degersheim-eucharistiefeier-2/
LOCATION:Jakobuskirche Degersheim\, Bergstrasse 10\, Degersheim\, 9113\, Schweiz
CATEGORIES:Gottesdienste
END:VEVENT
BEGIN:VEVENT
DTSTART;VALUE=DATE:20231015
DTEND;VALUE=DATE:20231016
DTSTAMP:20260425T213022
CREATED:20230907T085211Z
LAST-MODIFIED:20230907T085211Z
UID:42791-1697328000-1697414399@www.se-ma.ch
SUMMARY:Da Sein - Innehalten im Alltag
DESCRIPTION:Einfach da sein und sich mitten im Alltag eine Oase der Ruhe gönnen. Diese Möglichkeit bietet die diesjährigen Exerzitien im Alltag unter der Leitung von Ruth Rohde und Richard Böck. \nInformation und Anmeldung \nAnmeldeschluss: 15. Oktober
URL:https://www.se-ma.ch/event/da-sein-innehalten-im-alltag-2/
LOCATION:Pfarreizentrum Flawil\, Enzenbühlstrasse 16\, Flawil\, 9230\, Schweiz
CATEGORIES:Anlässe und Veranstaltungen
END:VEVENT
BEGIN:VEVENT
DTSTART;TZID=Europe/Zurich:20231015T084500
DTEND;TZID=Europe/Zurich:20231015T084500
DTSTAMP:20260425T213022
CREATED:20230502T074111Z
LAST-MODIFIED:20230502T125059Z
UID:40750-1697359500-1697359500@www.se-ma.ch
SUMMARY:Niederglatt: Eucharistiefeier
DESCRIPTION:
URL:https://www.se-ma.ch/event/niederglatt-eucharistiefeier-4/
LOCATION:Felix + Regula Kirche Niederglatt\, Niederglatt\, 9240\, Schweiz
CATEGORIES:Gottesdienste
END:VEVENT
BEGIN:VEVENT
DTSTART;TZID=Europe/Zurich:20231015T093000
DTEND;TZID=Europe/Zurich:20231015T093000
DTSTAMP:20260425T213022
CREATED:20230525T053806Z
LAST-MODIFIED:20230525T053806Z
UID:41443-1697362200-1697362200@www.se-ma.ch
SUMMARY:Flawil: Eucharistiefeier in Spanisch
DESCRIPTION:
URL:https://www.se-ma.ch/event/flawil-eucharistiefeier-in-spanisch-5/
LOCATION:Kapelle St. Laurentius Flawil\, Enzenbühlstrasse 20\, Flawil\, 9230\, Schweiz
CATEGORIES:Gottesdienste
END:VEVENT
BEGIN:VEVENT
DTSTART;TZID=Europe/Zurich:20231015T101500
DTEND;TZID=Europe/Zurich:20231015T101500
DTSTAMP:20260425T213022
CREATED:20230502T092246Z
LAST-MODIFIED:20230502T093055Z
UID:40803-1697364900-1697364900@www.se-ma.ch
SUMMARY:Flawil: Eucharistiefeier
DESCRIPTION:
URL:https://www.se-ma.ch/event/flawil-eucharistiefeier-5/
LOCATION:Kirche St. Laurentius Flawil\, Enzenbühlstrasse 20\, Flawil\, 9230\, Schweiz
CATEGORIES:Gottesdienste
END:VEVENT
BEGIN:VEVENT
DTSTART;TZID=Europe/Zurich:20231020T150000
DTEND;TZID=Europe/Zurich:20231020T150000
DTSTAMP:20260425T213022
CREATED:20230911T092357Z
LAST-MODIFIED:20230911T092502Z
UID:42830-1697814000-1697814000@www.se-ma.ch
SUMMARY:Flawil: Eucharistiefeier mit Krankensalbung
DESCRIPTION:Anschliessend an den Gottesdienst sind alle herzlich zu Kaffee und Kuchen ins Pfarreizentrum eingeladen. Der Freitagabendgottesdienst um 18.30 Uhr entfällt.
URL:https://www.se-ma.ch/event/flawil-eucharistiefeier-mit-krankensalbung/
LOCATION:Kirche St. Laurentius Flawil\, Enzenbühlstrasse 20\, Flawil\, 9230\, Schweiz
CATEGORIES:Gottesdienste
END:VEVENT
BEGIN:VEVENT
DTSTART;TZID=Europe/Zurich:20231021T100000
DTEND;TZID=Europe/Zurich:20231021T153000
DTSTAMP:20260425T213022
CREATED:20230908T093039Z
LAST-MODIFIED:20230919T060441Z
UID:42817-1697882400-1697902200@www.se-ma.ch
SUMMARY:Degersheim: Familientag
DESCRIPTION:Wir laden Väter/Mütter und ihre Kinder herzlich ein zu einem Tag in der Natur zum Thema Vertrauen. Gemeinsam wollen wir spielen\, kochen\, die Natur erleben\, Vertrauen spüren und erfahren…. \nProgramm:\n10.00 Uhr Eintreffen bei der kath. Kirche Degersheim\, Spiele\, dann gehen wir in den Wald\n11.00 Uhr Gemeinsames Kochen und Essen\n13.00 Uhr Vertrauen – Was heisst das? Gemeinsam Erfahrungen machen\n15.00 Uhr Abschlussfeier \nWeitere Infos und Anmeldung bis 12. Oktober 2023 unter: www.se-ma.ch \nVorbereitungsteam Susanne Ilg\, soz.-kulturelle Animatorin und Jeannine Oertle Hälg\, Seelsorgerin
URL:https://www.se-ma.ch/event/degersheim-familientag/
LOCATION:Jakobuskirche Degersheim\, Bergstrasse 10\, Degersheim\, 9113\, Schweiz
CATEGORIES:Kinder und Familien
END:VEVENT
BEGIN:VEVENT
DTSTART;TZID=Europe/Zurich:20231021T173000
DTEND;TZID=Europe/Zurich:20231021T183000
DTSTAMP:20260425T213022
CREATED:20230517T081804Z
LAST-MODIFIED:20230517T081804Z
UID:41192-1697909400-1697913000@www.se-ma.ch
SUMMARY:Degersheim: Eucharistiefeier
DESCRIPTION:Missio
URL:https://www.se-ma.ch/event/degersheim-eucharistiefeier-3/
LOCATION:Jakobuskirche Degersheim\, Bergstrasse 10\, Degersheim\, 9113\, Schweiz
CATEGORIES:Gottesdienste
END:VEVENT
BEGIN:VEVENT
DTSTART;TZID=Europe/Zurich:20231022T083000
DTEND;TZID=Europe/Zurich:20231022T083000
DTSTAMP:20260425T213022
CREATED:20221120T121129Z
LAST-MODIFIED:20230502T123333Z
UID:37664-1697963400-1697963400@www.se-ma.ch
SUMMARY:Flawil: Eucharistiefeier in Italienisch
DESCRIPTION:
URL:https://www.se-ma.ch/event/eucharistiefeier-in-italienisch-22/
LOCATION:Kapelle St. Laurentius Flawil\, Enzenbühlstrasse 20\, Flawil\, 9230\, Schweiz
CATEGORIES:Gottesdienste
END:VEVENT
BEGIN:VEVENT
DTSTART;TZID=Europe/Zurich:20231022T084500
DTEND;TZID=Europe/Zurich:20231022T084500
DTSTAMP:20260425T213022
CREATED:20221220T124556Z
LAST-MODIFIED:20230926T084941Z
UID:38321-1697964300-1697964300@www.se-ma.ch
SUMMARY:Wolfertswil: Baustellengottesdienst\, Eucharistiefeier in der Kirche Br. Klaus
DESCRIPTION:Eine Sitzgelegenheit nimmt bitte jeder selbst mit\, auch originelle Varianten sind willkommen!
URL:https://www.se-ma.ch/event/eucharistiefeier-in-magdenau-2/
LOCATION:Kirche Bruder Klaus\, Wolfertswil\, 9116
CATEGORIES:Gottesdienste
END:VEVENT
BEGIN:VEVENT
DTSTART;TZID=Europe/Zurich:20231022T101500
DTEND;TZID=Europe/Zurich:20231022T101500
DTSTAMP:20260425T213022
CREATED:20230502T092317Z
LAST-MODIFIED:20230502T093026Z
UID:40805-1697969700-1697969700@www.se-ma.ch
SUMMARY:Flawil: Eucharistiefeier Missio
DESCRIPTION:
URL:https://www.se-ma.ch/event/flawil-eucharistiefeier-missio/
LOCATION:Kirche St. Laurentius Flawil\, Enzenbühlstrasse 20\, Flawil\, 9230\, Schweiz
CATEGORIES:Gottesdienste
END:VEVENT
BEGIN:VEVENT
DTSTART;TZID=Europe/Zurich:20231023T193000
DTEND;TZID=Europe/Zurich:20231023T203000
DTSTAMP:20260425T213022
CREATED:20230822T081436Z
LAST-MODIFIED:20230822T081436Z
UID:42445-1698089400-1698093000@www.se-ma.ch
SUMMARY:Degersheim: Schweigemeditation
DESCRIPTION:Im Chorraum der Kath. Kirche St. Jakobus werden wir gemeinsam meditieren. Alle Interessierten\, unabhängig von Konfession oder Kirchennähe\, sind dazu herzlich eingeladen. \nFür Auskünfte steht Walter Germann gerne zur Verfügung: T 071 371 29 38.
URL:https://www.se-ma.ch/event/degersheim-schweigemeditation-8/
LOCATION:Jakobuskirche Degersheim\, Bergstrasse 10\, Degersheim\, 9113\, Schweiz
CATEGORIES:Anlässe und Veranstaltungen
END:VEVENT
BEGIN:VEVENT
DTSTART;TZID=Europe/Zurich:20231025T120000
DTEND;TZID=Europe/Zurich:20231025T133000
DTSTAMP:20260425T213022
CREATED:20231023T061218Z
LAST-MODIFIED:20231023T061218Z
UID:43616-1698235200-1698240600@www.se-ma.ch
SUMMARY:Jugendarbeit: Mittagstisch in Flawil
DESCRIPTION:Anmeldung und Info bei Ermin Schluep\, Jugendarbeiter 076 581 77 11
URL:https://www.se-ma.ch/event/jugendarbeit-mittagstisch-in-flawil/
LOCATION:Pfarreizentrum Flawil\, Enzenbühlstrasse 16\, Flawil\, 9230\, Schweiz
CATEGORIES:Anlässe und Veranstaltungen,Kinder und Familien
END:VEVENT
BEGIN:VEVENT
DTSTART;TZID=Europe/Zurich:20231025T143000
DTEND;TZID=Europe/Zurich:20231025T163000
DTSTAMP:20260425T213022
CREATED:20221216T080309Z
LAST-MODIFIED:20230905T123054Z
UID:38198-1698244200-1698251400@www.se-ma.ch
SUMMARY:Degersheim: Ökumenischer Seniorennachmittag
DESCRIPTION:Heiteres Theaterstück IM PARK \nDie erfolgreiche Wanderbühne mit dem Seniorentheater St. Gallen gastiert am 25. Oktober im Evang. Kirchgemeindehaus Degersheim. Mit ihrem heiteren Theaterstück über den Sinn des Lebens bringen sie ein Stück bewegten Alltag auf die Bühne. In einem Park mitten in einer Kleinstadt begegnen sich Menschen der älteren Generation\, die unterschiedlicher nicht sein könnten: Da ist die biedere Seniorin mit ihrer lebensklugen Nachbarin\, die umschwärmte Frau\, der unglückliche ehemalige Geschäftsmann\, die stolze Grossmutter wie auch zwei etwas heruntergekommene ältere Typen. Dass da Bewegung ins Spiel kommt\, wenn in dieser Konstellation über den Sinn des Lebens philosophiert wird\, ist geradezu vorprogrammiert. \nZu diesem ökum. Seniorennachmittag sind alle interessierten Pensionierten herzlich eingeladen. Beginn ist um 14.30 Uhr im Evang. Kirchgemeindehaus Degersheim. \nVroni Krämer
URL:https://www.se-ma.ch/event/oekumenischer-seniorennachmittag-in-degersheim-4/
LOCATION:evang. Kirchgemeindehaus Degersheim\, Steineggstrasse 12\, Degersheim\, 9113\, Schweiz
CATEGORIES:Anlässe und Veranstaltungen
END:VEVENT
BEGIN:VEVENT
DTSTART;TZID=Europe/Zurich:20231025T190000
DTEND;TZID=Europe/Zurich:20231025T200000
DTSTAMP:20260425T213022
CREATED:20230712T111817Z
LAST-MODIFIED:20230712T111817Z
UID:42097-1698260400-1698264000@www.se-ma.ch
SUMMARY:Degersheim: Friedensgebet
DESCRIPTION:
URL:https://www.se-ma.ch/event/degersheim-friedensgebet-3/
LOCATION:Jakobuskirche Kapelle Degersheim\, Bergstrasse 10\, Degersheim\, St. Gallen\, 9113\, Schweiz
CATEGORIES:Gottesdienste
END:VEVENT
BEGIN:VEVENT
DTSTART;TZID=Europe/Zurich:20231026T113000
DTEND;TZID=Europe/Zurich:20231026T140000
DTSTAMP:20260425T213022
CREATED:20230104T154228Z
LAST-MODIFIED:20230104T154228Z
UID:38677-1698319800-1698328800@www.se-ma.ch
SUMMARY:Mittagstisch in Flawil
DESCRIPTION:Flyer Mittagstisch 2023
URL:https://www.se-ma.ch/event/mittagstisch-in-flawil-9/
LOCATION:Pfarreizentrum Flawil\, Enzenbühlstrasse 16\, Flawil\, 9230\, Schweiz
CATEGORIES:Anlässe und Veranstaltungen
END:VEVENT
BEGIN:VEVENT
DTSTART;TZID=Europe/Zurich:20231026T190000
DTEND;TZID=Europe/Zurich:20231026T190000
DTSTAMP:20260425T213022
CREATED:20230706T063021Z
LAST-MODIFIED:20230706T063021Z
UID:41989-1698346800-1698346800@www.se-ma.ch
SUMMARY:Flawiler Friedensgebet
DESCRIPTION:In verschiedenen Städten finden Friedensgebete statt. In Flawil treffen sich Angehörige verschiedener Konfessionen zum Friedensgebet im Zwinglisaal der ref.  Kirche. \nDaten Friedensgebet
URL:https://www.se-ma.ch/event/flawiler-friedensgebet-4/
LOCATION:Zwinglisaal Flawil\, Lindenstrasse 6B\, Flawil\, SG\, 9230\, Schweiz
CATEGORIES:Anlässe und Veranstaltungen,Gottesdienste
END:VEVENT
BEGIN:VEVENT
DTSTART;TZID=Europe/Zurich:20231026T200000
DTEND;TZID=Europe/Zurich:20231026T200000
DTSTAMP:20260425T213022
CREATED:20230907T084933Z
LAST-MODIFIED:20230907T085351Z
UID:42786-1698350400-1698350400@www.se-ma.ch
SUMMARY:Da Sein - Innehalten im Alltag
DESCRIPTION:Einfach da sein und sich mitten im Alltag eine Oase der Ruhe gönnen. Diese Möglichkeit bietet die diesjährigen Exerzitien im Alltag unter der Leitung von Ruth Rohde und Richard Böck. \nGruppenabend (Start)
URL:https://www.se-ma.ch/event/da-sein-innehalten-im-alltag/
LOCATION:Pfarreizentrum Flawil\, Enzenbühlstrasse 16\, Flawil\, 9230\, Schweiz
CATEGORIES:Anlässe und Veranstaltungen
END:VEVENT
END:VCALENDAR