BEGIN:VCALENDAR
VERSION:2.0
PRODID:-//Seelsorgeeinheit Magdenau - ECPv6.15.20//NONSGML v1.0//EN
CALSCALE:GREGORIAN
METHOD:PUBLISH
X-WR-CALNAME:Seelsorgeeinheit Magdenau
X-ORIGINAL-URL:https://www.se-ma.ch
X-WR-CALDESC:Veranstaltungen für Seelsorgeeinheit Magdenau
REFRESH-INTERVAL;VALUE=DURATION:PT1H
X-Robots-Tag:noindex
X-PUBLISHED-TTL:PT1H
BEGIN:VTIMEZONE
TZID:Europe/Zurich
BEGIN:DAYLIGHT
TZOFFSETFROM:+0100
TZOFFSETTO:+0200
TZNAME:CEST
DTSTART:20220327T010000
END:DAYLIGHT
BEGIN:STANDARD
TZOFFSETFROM:+0200
TZOFFSETTO:+0100
TZNAME:CET
DTSTART:20221030T010000
END:STANDARD
BEGIN:DAYLIGHT
TZOFFSETFROM:+0100
TZOFFSETTO:+0200
TZNAME:CEST
DTSTART:20230326T010000
END:DAYLIGHT
BEGIN:STANDARD
TZOFFSETFROM:+0200
TZOFFSETTO:+0100
TZNAME:CET
DTSTART:20231029T010000
END:STANDARD
BEGIN:DAYLIGHT
TZOFFSETFROM:+0100
TZOFFSETTO:+0200
TZNAME:CEST
DTSTART:20240331T010000
END:DAYLIGHT
BEGIN:STANDARD
TZOFFSETFROM:+0200
TZOFFSETTO:+0100
TZNAME:CET
DTSTART:20241027T010000
END:STANDARD
END:VTIMEZONE
BEGIN:VEVENT
DTSTART;TZID=Europe/Zurich:20231101T084500
DTEND;TZID=Europe/Zurich:20231101T084500
DTSTAMP:20260425T175908
CREATED:20230502T075758Z
LAST-MODIFIED:20230502T125144Z
UID:40767-1698828300-1698828300@www.se-ma.ch
SUMMARY:Niederglatt: Gottesdienst zu Allerheiligen und Totengedenkfeier
DESCRIPTION:Wo sind die Verstorbenen?
URL:https://www.se-ma.ch/event/niederglatt-gottesdienst-zu-allerheiligen-und-totengedenkfeier/
LOCATION:Felix + Regula Kirche Niederglatt\, Niederglatt\, 9240\, Schweiz
CATEGORIES:Gottesdienste
END:VEVENT
BEGIN:VEVENT
DTSTART;TZID=Europe/Zurich:20231101T101500
DTEND;TZID=Europe/Zurich:20231101T111500
DTSTAMP:20260425T175908
CREATED:20230517T082155Z
LAST-MODIFIED:20230517T082155Z
UID:41197-1698833700-1698837300@www.se-ma.ch
SUMMARY:Degersheim: Gottesdienst zu Allerheiligen und Totengedenkfeier
DESCRIPTION:Zum Thema: Wo sind die Verstorbenen?
URL:https://www.se-ma.ch/event/degersheim-gottesdienst-zu-allerheiligen-und-totengedenkfeier/
LOCATION:Jakobuskirche Degersheim\, Bergstrasse 10\, Degersheim\, 9113\, Schweiz
CATEGORIES:Gottesdienste
END:VEVENT
BEGIN:VEVENT
DTSTART;TZID=Europe/Zurich:20231101T130000
DTEND;TZID=Europe/Zurich:20231101T130000
DTSTAMP:20260425T175908
CREATED:20221220T125028Z
LAST-MODIFIED:20230706T125934Z
UID:38323-1698843600-1698843600@www.se-ma.ch
SUMMARY:Wolfertswil: Allerheiligen u. Totengedenkfeier
DESCRIPTION:auf dem Friedhof
URL:https://www.se-ma.ch/event/allerheiligen-u-totengedenkfeier-in-wolfertswil/
LOCATION:Friedhof Wolfertswil
CATEGORIES:Gottesdienste
END:VEVENT
BEGIN:VEVENT
DTSTART;TZID=Europe/Zurich:20231101T141500
DTEND;TZID=Europe/Zurich:20231101T141500
DTSTAMP:20260425T175908
CREATED:20230502T114617Z
LAST-MODIFIED:20230502T114617Z
UID:40837-1698848100-1698848100@www.se-ma.ch
SUMMARY:Flawil: Gottesdienst zu Allerheiligen und Totengedenkfeier
DESCRIPTION:Wo sind die Verstorbenen? \nmit Kirchenchor
URL:https://www.se-ma.ch/event/flawil-gottesdienst-zu-allerheiligen-und-totengedenkfeier/
LOCATION:Kirche St. Laurentius Flawil\, Enzenbühlstrasse 20\, Flawil\, 9230\, Schweiz
CATEGORIES:Gottesdienste
END:VEVENT
BEGIN:VEVENT
DTSTART;TZID=Europe/Zurich:20231102T150000
DTEND;TZID=Europe/Zurich:20231102T163000
DTSTAMP:20260425T175908
CREATED:20230312T163223Z
LAST-MODIFIED:20230312T163223Z
UID:39987-1698937200-1698942600@www.se-ma.ch
SUMMARY:Trauercafé
DESCRIPTION:Das Trauercafé bietet Angehörigen die Möglichkeit\, über das Erlebte zu sprechen und sich mit anderen Betroffenen auszutauschen. Es ist keine Anmeldung nötig. \nHomepage Ökum. Hospizgruppe Flawil
URL:https://www.se-ma.ch/event/trauercafe-8/
LOCATION:Haus 5egg\, Bahnhofstrasse 33\, Flawil\, St. Gallen\, 9230\, Schweiz
CATEGORIES:Anlässe und Veranstaltungen
END:VEVENT
BEGIN:VEVENT
DTSTART;TZID=Europe/Zurich:20231102T200000
DTEND;TZID=Europe/Zurich:20231102T200000
DTSTAMP:20260425T175908
CREATED:20230907T085420Z
LAST-MODIFIED:20230907T085438Z
UID:42794-1698955200-1698955200@www.se-ma.ch
SUMMARY:Da Sein - Innehalten im Alltag
DESCRIPTION:Einfach da sein und sich mitten im Alltag eine Oase der Ruhe gönnen. Diese Möglichkeit bietet die diesjährigen Exerzitien im Alltag unter der Leitung von Ruth Rohde und Richard Böck. \n2. Gruppenabend
URL:https://www.se-ma.ch/event/da-sein-innehalten-im-alltag-3/
LOCATION:Pfarreizentrum Flawil\, Enzenbühlstrasse 16\, Flawil\, 9230\, Schweiz
CATEGORIES:Anlässe und Veranstaltungen
END:VEVENT
BEGIN:VEVENT
DTSTART;TZID=Europe/Zurich:20231103T183000
DTEND;TZID=Europe/Zurich:20231103T200000
DTSTAMP:20260425T175908
CREATED:20230613T091650Z
LAST-MODIFIED:20230613T091650Z
UID:41599-1699036200-1699041600@www.se-ma.ch
SUMMARY:Degersheim: Zämägang
DESCRIPTION:für einander da sein \nzusammen statt alleine \nHast du Lust\, mit mir und hoffentlich anderen Menschen zusammen zu sein? Dann komm einfach mit. \nVielleicht kennst du Menschen\, denen das freundliche und interessierte Miteinander gut tun würde. Mache sie aufmerksam auf dieses Angebot oder bring sie gleich selbst mit! \nEs braucht keine Anmeldung! \nTreffpunkt beim Postplatz Degersheim! \nIch freue mich auf dich! \nSilvan Hollenstein\, Seelsorger\, Tel. 079 743 73 89
URL:https://www.se-ma.ch/event/degersheim-zaemaegang-4/
LOCATION:Postplatz\, Postplatz\, Degersheim\, 9113\, Schweiz
CATEGORIES:Anlässe und Veranstaltungen
END:VEVENT
BEGIN:VEVENT
DTSTART;TZID=Europe/Zurich:20231103T193000
DTEND;TZID=Europe/Zurich:20231103T220000
DTSTAMP:20260425T175908
CREATED:20230926T090211Z
LAST-MODIFIED:20231020T064701Z
UID:43211-1699039800-1699048800@www.se-ma.ch
SUMMARY:Pfarrei im Dialog mit Vereins- und Gruppenleitungen
DESCRIPTION:Anmeldung bis am 26.10.2023 an hc.am-esobfsctd-950511@liwstreflow-tairaterkes
URL:https://www.se-ma.ch/event/pfarrei-im-dialog-mit-vereins-und-gruppenleitungen/
LOCATION:Kirche Bruder Klaus\, Wolfertswil\, 9116
CATEGORIES:Anlässe und Veranstaltungen
END:VEVENT
BEGIN:VEVENT
DTSTART;TZID=Europe/Zurich:20231104T173000
DTEND;TZID=Europe/Zurich:20231104T183000
DTSTAMP:20260425T175908
CREATED:20230517T082259Z
LAST-MODIFIED:20231103T072100Z
UID:41199-1699119000-1699122600@www.se-ma.ch
SUMMARY:Degersheim: Eucharistiefeier
DESCRIPTION:
URL:https://www.se-ma.ch/event/degersheim-eucharistiefeier-4/
LOCATION:Jakobuskirche Degersheim\, Bergstrasse 10\, Degersheim\, 9113\, Schweiz
CATEGORIES:Gottesdienste
END:VEVENT
BEGIN:VEVENT
DTSTART;TZID=Europe/Zurich:20231105T084500
DTEND;TZID=Europe/Zurich:20231105T094500
DTSTAMP:20260425T175908
CREATED:20221220T125145Z
LAST-MODIFIED:20230217T095727Z
UID:38327-1699173900-1699177500@www.se-ma.ch
SUMMARY:Wolfertswil: Eucharistiefeier in der Kirche St. Verena Magdenau
DESCRIPTION:
URL:https://www.se-ma.ch/event/eucharistiefeier-in-magdenau-3/
LOCATION:Kirche St. Verena Magdenau\, St. Verena 929\, Wolfertswil\, 9116\, Schweiz
CATEGORIES:Gottesdienste
END:VEVENT
BEGIN:VEVENT
DTSTART;TZID=Europe/Zurich:20231105T093000
DTEND;TZID=Europe/Zurich:20231105T093000
DTSTAMP:20260425T175908
CREATED:20221117T154811Z
LAST-MODIFIED:20230502T121903Z
UID:37568-1699176600-1699176600@www.se-ma.ch
SUMMARY:Flawil: Eucharistiefeier in Spanisch
DESCRIPTION:ab 9.00 Uhr Beichtgelegenheit
URL:https://www.se-ma.ch/event/eucharistiefeier-in-spanisch-in-flawil-11/
LOCATION:Kapelle St. Laurentius Flawil\, Enzenbühlstrasse 20\, Flawil\, 9230\, Schweiz
CATEGORIES:Gottesdienste
END:VEVENT
BEGIN:VEVENT
DTSTART;TZID=Europe/Zurich:20231105T101500
DTEND;TZID=Europe/Zurich:20231105T101500
DTSTAMP:20260425T175908
CREATED:20230502T092425Z
LAST-MODIFIED:20230502T092440Z
UID:40809-1699179300-1699179300@www.se-ma.ch
SUMMARY:Flawil: Eucharistiefeier
DESCRIPTION:
URL:https://www.se-ma.ch/event/flawil-eucharistiefeier-6/
LOCATION:Kirche St. Laurentius Flawil\, Enzenbühlstrasse 20\, Flawil\, 9230\, Schweiz
CATEGORIES:Gottesdienste
END:VEVENT
BEGIN:VEVENT
DTSTART;TZID=Europe/Zurich:20231105T110000
DTEND;TZID=Europe/Zurich:20231105T110000
DTSTAMP:20260425T175908
CREATED:20231019T133442Z
LAST-MODIFIED:20231019T133727Z
UID:43539-1699182000-1699182000@www.se-ma.ch
SUMMARY:Flawil: Einweihung Gemeinschaftsgrab
DESCRIPTION:Im Anschluss an den ordentlichen Sonntagsgottesdienst von 10.15 Uhr wird das neues Gemeinschaftsgrab eingeweiht. Das neue Grabfeld auf dem Friedhof Wisental liegt zentral und bietet nicht nur dem Gemeinschaftsgedanken Raum\, sondern auch Platz für die Asche von sogenannten Sternenkindern. Gemeint sind damit verstorbene Kinder\, insbesondere wenn sie vor\, während oder kurz nach der Geburt verstorben sind. Die Urne einer verstorbenen Person kann anonym oder mit Grabbeschriftung beigesetzt werden. Der Künstler Jan Kaeser hat dafür eigens eine Möglichkeit geschaffen\, welche Anonymität\, Individualität und Kommunität miteinander verbindet. Auch schwingt im Kunstwerk die theologische Überzeugung mit\, dass der Tod nur ein Übergang von einem Raum in einen anderen ist. \nEs freut uns sehr\, wenn Sie sich die Zeit nehmen\, um bei der Einweihung unseres neuen Gemeinschaftsgrabes dabei zu sein.
URL:https://www.se-ma.ch/event/flawil-einweihung-gemeinschaftsgrab/
LOCATION:Friedhof Wisental\, Enzenbühlstrasse\, 9230 Flawil\, 9230\, Schweiz
CATEGORIES:Anlässe und Veranstaltungen
END:VEVENT
BEGIN:VEVENT
DTSTART;TZID=Europe/Zurich:20231106T193000
DTEND;TZID=Europe/Zurich:20231106T203000
DTSTAMP:20260425T175908
CREATED:20230920T051711Z
LAST-MODIFIED:20230920T051711Z
UID:43045-1699299000-1699302600@www.se-ma.ch
SUMMARY:Degersheim: Schweigemeditation
DESCRIPTION:In der Kapelle der Kath. Kirche St. Jakobus werden wir gemeinsam meditieren. Alle Interessierten\, unabhängig von Konfession oder Kirchennähe\, sind dazu herzlich eingeladen. \nFür Auskünfte steht Walter Germann gerne zur Verfügung: T 071 371 29 38.
URL:https://www.se-ma.ch/event/degersheim-schweigemeditation-29/
LOCATION:Jakobuskirche Kapelle Degersheim\, Bergstrasse 10\, Degersheim\, St. Gallen\, 9113\, Schweiz
CATEGORIES:Anlässe und Veranstaltungen
END:VEVENT
BEGIN:VEVENT
DTSTART;TZID=Europe/Zurich:20231107T143000
DTEND;TZID=Europe/Zurich:20231107T143000
DTSTAMP:20260425T175908
CREATED:20230105T083008Z
LAST-MODIFIED:20230904T143851Z
UID:38699-1699367400-1699367400@www.se-ma.ch
SUMMARY:Flawil: Ökumenischer Seniorennachmittag
DESCRIPTION:Trachtengruppe Gossau \nJahresprogamm 2023
URL:https://www.se-ma.ch/event/flawil-oekumenischer-seniorennachmittag-2/
LOCATION:Lindensaal\, Lindenstrasse 6b\, Flawil\, 9230
CATEGORIES:Anlässe und Veranstaltungen
END:VEVENT
BEGIN:VEVENT
DTSTART;TZID=Europe/Zurich:20231109T190000
DTEND;TZID=Europe/Zurich:20231109T190000
DTSTAMP:20260425T175908
CREATED:20230706T063147Z
LAST-MODIFIED:20230706T063147Z
UID:41993-1699556400-1699556400@www.se-ma.ch
SUMMARY:Flawiler Friedensgebet
DESCRIPTION:In verschiedenen Städten finden Friedensgebete statt. In Flawil treffen sich Angehörige verschiedener Konfessionen zum Friedensgebet in der meth. Kirche. \nDaten Friedensgebet
URL:https://www.se-ma.ch/event/flawiler-friedensgebet-6/
LOCATION:Evangelisch-methodistische Kirche\, Riedernstrasse 13\, Flawil\, 9230\, Schweiz
CATEGORIES:Anlässe und Veranstaltungen,Gottesdienste
END:VEVENT
BEGIN:VEVENT
DTSTART;TZID=Europe/Zurich:20231109T190000
DTEND;TZID=Europe/Zurich:20231109T203000
DTSTAMP:20260425T175908
CREATED:20230926T084419Z
LAST-MODIFIED:20230926T084526Z
UID:43199-1699556400-1699561800@www.se-ma.ch
SUMMARY:Wolfertswil: Baustellenbesichtigung
DESCRIPTION:
URL:https://www.se-ma.ch/event/wolfertswil-baustellenbesichtigung/
LOCATION:Kirche Bruder Klaus\, Wolfertswil\, 9116
CATEGORIES:Anlässe und Veranstaltungen
END:VEVENT
BEGIN:VEVENT
DTSTART;TZID=Europe/Zurich:20231109T200000
DTEND;TZID=Europe/Zurich:20231109T200000
DTSTAMP:20260425T175908
CREATED:20230907T085510Z
LAST-MODIFIED:20230907T085510Z
UID:42797-1699560000-1699560000@www.se-ma.ch
SUMMARY:Da Sein - Innehalten im Alltag
DESCRIPTION:Einfach da sein und sich mitten im Alltag eine Oase der Ruhe gönnen. Diese Möglichkeit bietet die diesjährigen Exerzitien im Alltag unter der Leitung von Ruth Rohde und Richard Böck. \n3. Gruppenabend
URL:https://www.se-ma.ch/event/da-sein-innehalten-im-alltag-4/
LOCATION:Pfarreizentrum Flawil\, Enzenbühlstrasse 16\, Flawil\, 9230\, Schweiz
CATEGORIES:Anlässe und Veranstaltungen
END:VEVENT
BEGIN:VEVENT
DTSTART;TZID=Europe/Zurich:20231111T100000
DTEND;TZID=Europe/Zurich:20231111T120000
DTSTAMP:20260425T175908
CREATED:20220928T061533Z
LAST-MODIFIED:20230524T073428Z
UID:36899-1699696800-1699704000@www.se-ma.ch
SUMMARY:Degersheim: Ökumenische Chinderchile
DESCRIPTION:Die Gestaltung des Programms ist auf die Fähigkeiten von Kindern im Alter von 3 -6 Jahren mit ihren Begleitpersonen ausgerichtet. \nIm Anschluss an die Feier geniessen wir das gemütliche Zusammensein im evang. Kirchgemeindehaus.
URL:https://www.se-ma.ch/event/oekumenische-chinderchile-in-degersheim-6/
LOCATION:evang. Kirchgemeindehaus Degersheim\, Steineggstrasse 12\, Degersheim\, 9113\, Schweiz
CATEGORIES:Kinder und Familien
END:VEVENT
BEGIN:VEVENT
DTSTART;TZID=Europe/Zurich:20231111T173000
DTEND;TZID=Europe/Zurich:20231111T173000
DTSTAMP:20260425T175908
CREATED:20221120T122718Z
LAST-MODIFIED:20230502T122945Z
UID:37704-1699723800-1699723800@www.se-ma.ch
SUMMARY:Flawil: Eucharistiefeier in Portugiesisch
DESCRIPTION:
URL:https://www.se-ma.ch/event/eucharistiefeier-in-portugiesisch-16/
LOCATION:Kapelle St. Laurentius Flawil\, Enzenbühlstrasse 20\, Flawil\, 9230\, Schweiz
CATEGORIES:Gottesdienste
END:VEVENT
BEGIN:VEVENT
DTSTART;TZID=Europe/Zurich:20231111T173000
DTEND;TZID=Europe/Zurich:20231111T183000
DTSTAMP:20260425T175908
CREATED:20230517T082444Z
LAST-MODIFIED:20230517T082444Z
UID:41201-1699723800-1699727400@www.se-ma.ch
SUMMARY:Degersheim: Kommunionfeier mit Firmand*innen
DESCRIPTION:mit Kirchenchor
URL:https://www.se-ma.ch/event/degersheim-kommunionfeier-mit-firmandinnen/
LOCATION:Jakobuskirche Degersheim\, Bergstrasse 10\, Degersheim\, 9113\, Schweiz
CATEGORIES:Gottesdienste
END:VEVENT
BEGIN:VEVENT
DTSTART;TZID=Europe/Zurich:20231112T084500
DTEND;TZID=Europe/Zurich:20231112T084500
DTSTAMP:20260425T175908
CREATED:20230502T075605Z
LAST-MODIFIED:20230502T125630Z
UID:40765-1699778700-1699778700@www.se-ma.ch
SUMMARY:Niederglatt: Kommunionfeier mit den jungen Erwachsenen auf dem Firmweg
DESCRIPTION:
URL:https://www.se-ma.ch/event/niederglatt-kommunionfeier-3/
LOCATION:Felix + Regula Kirche Niederglatt\, Niederglatt\, 9240\, Schweiz
CATEGORIES:Gottesdienste
END:VEVENT
BEGIN:VEVENT
DTSTART;TZID=Europe/Zurich:20231112T090000
DTEND;TZID=Europe/Zurich:20231112T090000
DTSTAMP:20260425T175908
CREATED:20221120T120536Z
LAST-MODIFIED:20230502T123011Z
UID:37646-1699779600-1699779600@www.se-ma.ch
SUMMARY:Flawil: Eucharistiefeier in Italienisch
DESCRIPTION:
URL:https://www.se-ma.ch/event/eucharistiefeier-in-italienisch-13/
LOCATION:Kapelle St. Laurentius Flawil\, Enzenbühlstrasse 20\, Flawil\, 9230\, Schweiz
CATEGORIES:Gottesdienste
END:VEVENT
BEGIN:VEVENT
DTSTART;TZID=Europe/Zurich:20231112T101500
DTEND;TZID=Europe/Zurich:20231112T101500
DTSTAMP:20260425T175908
CREATED:20230502T114900Z
LAST-MODIFIED:20230502T125605Z
UID:40839-1699784100-1699784100@www.se-ma.ch
SUMMARY:Flawil: Kommunionfeier mit den jungen Erwachsenen auf dem Firmweg
DESCRIPTION:
URL:https://www.se-ma.ch/event/flawil-kommunionfeier-mit-firmandinnen/
LOCATION:Kirche St. Laurentius Flawil\, Enzenbühlstrasse 20\, Flawil\, 9230\, Schweiz
CATEGORIES:Gottesdienste
END:VEVENT
BEGIN:VEVENT
DTSTART;TZID=Europe/Zurich:20231112T173000
DTEND;TZID=Europe/Zurich:20231112T173000
DTSTAMP:20260425T175908
CREATED:20231016T071148Z
LAST-MODIFIED:20231019T140413Z
UID:43433-1699810200-1699810200@www.se-ma.ch
SUMMARY:Lichtfeier für Sternenkinder - in der Otmarkirche Andwil
DESCRIPTION:Feier für alle\, die um ein Kind trauern. Was es bedeutet\, ein Kind durch den Tod zu verlieren\, können wohl nur Menschen nachempfinden\, die es selbst erleben mussten. Die Lichtfeier möchte Menschen einen Raum zur Erinnerung und zur Trauer um ihre verstorbenen Kinder geben. Besinnliche Musik und Gesänge werden die Feier musikalisch umrahmen. Nach der Feier gibt es die Möglichkeit des Beisammenseins\, wenn es gewünscht wird. \nKartenausschnitt
URL:https://www.se-ma.ch/event/lichtfeier-fuer-sternenkinder/
CATEGORIES:Anlässe und Veranstaltungen,Gottesdienste
END:VEVENT
BEGIN:VEVENT
DTSTART;TZID=Europe/Zurich:20231113T193000
DTEND;TZID=Europe/Zurich:20231113T203000
DTSTAMP:20260425T175908
CREATED:20230920T051814Z
LAST-MODIFIED:20230920T051814Z
UID:43047-1699903800-1699907400@www.se-ma.ch
SUMMARY:Degersheim: Schweigemeditation
DESCRIPTION:In der Kapelle der Kath. Kirche St. Jakobus werden wir gemeinsam meditieren. Alle Interessierten\, unabhängig von Konfession oder Kirchennähe\, sind dazu herzlich eingeladen. \nFür Auskünfte steht Walter Germann gerne zur Verfügung: T 071 371 29 38.
URL:https://www.se-ma.ch/event/degersheim-schweigemeditation-30/
LOCATION:Jakobuskirche Kapelle Degersheim\, Bergstrasse 10\, Degersheim\, St. Gallen\, 9113\, Schweiz
CATEGORIES:Anlässe und Veranstaltungen
END:VEVENT
BEGIN:VEVENT
DTSTART;TZID=Europe/Zurich:20231116T113000
DTEND;TZID=Europe/Zurich:20231116T140000
DTSTAMP:20260425T175908
CREATED:20230104T154248Z
LAST-MODIFIED:20230104T154248Z
UID:38679-1700134200-1700143200@www.se-ma.ch
SUMMARY:Mittagstisch in Flawil
DESCRIPTION:Flyer Mittagstisch 2023
URL:https://www.se-ma.ch/event/mittagstisch-in-flawil-10/
LOCATION:Pfarreizentrum Flawil\, Enzenbühlstrasse 16\, Flawil\, 9230\, Schweiz
CATEGORIES:Anlässe und Veranstaltungen
END:VEVENT
BEGIN:VEVENT
DTSTART;TZID=Europe/Zurich:20231116T181500
DTEND;TZID=Europe/Zurich:20231116T181500
DTSTAMP:20260425T175908
CREATED:20230907T085753Z
LAST-MODIFIED:20230907T085903Z
UID:42799-1700158500-1700158500@www.se-ma.ch
SUMMARY:Da Sein - Innehalten im Alltag
DESCRIPTION:Einfach da sein und sich mitten im Alltag eine Oase der Ruhe gönnen. Diese Möglichkeit bietet die diesjährigen Exerzitien im Alltag unter der Leitung von Ruth Rohde und Richard Böck. \nAbschluss der Exerzitien in der Kathedrale St. Gallen mit Bischof Markus
URL:https://www.se-ma.ch/event/da-sein-innehalten-im-alltag-5/
CATEGORIES:Anlässe und Veranstaltungen,Gottesdienste
END:VEVENT
BEGIN:VEVENT
DTSTART;TZID=Europe/Zurich:20231118T173000
DTEND;TZID=Europe/Zurich:20231118T183000
DTSTAMP:20260425T175908
CREATED:20230517T082803Z
LAST-MODIFIED:20230517T082803Z
UID:41203-1700328600-1700332200@www.se-ma.ch
SUMMARY:Degersheim: Eucharistiefeier
DESCRIPTION:Salbungsgottesdienst zum Thema „Heilsein an Körper und Seele“
URL:https://www.se-ma.ch/event/degersheim-eucharistiefeier-5/
LOCATION:Jakobuskirche Degersheim\, Bergstrasse 10\, Degersheim\, 9113\, Schweiz
CATEGORIES:Gottesdienste
END:VEVENT
BEGIN:VEVENT
DTSTART;TZID=Europe/Zurich:20231119T084500
DTEND;TZID=Europe/Zurich:20231119T094500
DTSTAMP:20260425T175908
CREATED:20221220T125336Z
LAST-MODIFIED:20230217T095938Z
UID:38329-1700383500-1700387100@www.se-ma.ch
SUMMARY:Wolfertswil: Salbungsgottesdienst mit Eucharistiefeier im Kloster Magdenau
DESCRIPTION:Thema: Heil sein an Körper und Seele
URL:https://www.se-ma.ch/event/salbungsgottesdienst-eucharistiefeier-im-kloster-magdenau/
LOCATION:Kloster Magdenau
CATEGORIES:Gottesdienste
END:VEVENT
END:VCALENDAR