BEGIN:VCALENDAR
VERSION:2.0
PRODID:-//Seelsorgeeinheit Magdenau - ECPv6.15.20//NONSGML v1.0//EN
CALSCALE:GREGORIAN
METHOD:PUBLISH
X-WR-CALNAME:Seelsorgeeinheit Magdenau
X-ORIGINAL-URL:https://www.se-ma.ch
X-WR-CALDESC:Veranstaltungen für Seelsorgeeinheit Magdenau
REFRESH-INTERVAL;VALUE=DURATION:PT1H
X-Robots-Tag:noindex
X-PUBLISHED-TTL:PT1H
BEGIN:VTIMEZONE
TZID:Europe/Zurich
BEGIN:DAYLIGHT
TZOFFSETFROM:+0100
TZOFFSETTO:+0200
TZNAME:CEST
DTSTART:20220327T010000
END:DAYLIGHT
BEGIN:STANDARD
TZOFFSETFROM:+0200
TZOFFSETTO:+0100
TZNAME:CET
DTSTART:20221030T010000
END:STANDARD
BEGIN:DAYLIGHT
TZOFFSETFROM:+0100
TZOFFSETTO:+0200
TZNAME:CEST
DTSTART:20230326T010000
END:DAYLIGHT
BEGIN:STANDARD
TZOFFSETFROM:+0200
TZOFFSETTO:+0100
TZNAME:CET
DTSTART:20231029T010000
END:STANDARD
BEGIN:DAYLIGHT
TZOFFSETFROM:+0100
TZOFFSETTO:+0200
TZNAME:CEST
DTSTART:20240331T010000
END:DAYLIGHT
BEGIN:STANDARD
TZOFFSETFROM:+0200
TZOFFSETTO:+0100
TZNAME:CET
DTSTART:20241027T010000
END:STANDARD
BEGIN:DAYLIGHT
TZOFFSETFROM:+0100
TZOFFSETTO:+0200
TZNAME:CEST
DTSTART:20250330T010000
END:DAYLIGHT
BEGIN:STANDARD
TZOFFSETFROM:+0200
TZOFFSETTO:+0100
TZNAME:CET
DTSTART:20251026T010000
END:STANDARD
END:VTIMEZONE
BEGIN:VEVENT
DTSTART;TZID=Europe/Zurich:20231231T234500
DTEND;TZID=Europe/Zurich:20240101T003000
DTSTAMP:20260425T142447
CREATED:20230217T101853Z
LAST-MODIFIED:20230217T101853Z
UID:39531-1704066300-1704069000@www.se-ma.ch
SUMMARY:Übergangsfeier Silvester-Neujahr in der Kirche St. Verena
DESCRIPTION:
URL:https://www.se-ma.ch/event/uebergangsfeier-silvester-neujahr-in-der-kirche-st-verena/
LOCATION:Kirche St. Verena Magdenau\, St. Verena 929\, Wolfertswil\, 9116\, Schweiz
CATEGORIES:Anlässe und Veranstaltungen,Gottesdienste
END:VEVENT
BEGIN:VEVENT
DTSTART;TZID=Europe/Zurich:20240101T101500
DTEND;TZID=Europe/Zurich:20240101T101500
DTSTAMP:20260425T142447
CREATED:20231114T140208Z
LAST-MODIFIED:20231114T140208Z
UID:44078-1704104100-1704104100@www.se-ma.ch
SUMMARY:Flawil: Kommunionfeier zu Neujahr
DESCRIPTION:
URL:https://www.se-ma.ch/event/flawil-kommunionfeier-zu-neujahr/
LOCATION:Kirche St. Laurentius Flawil\, Enzenbühlstrasse 20\, Flawil\, 9230\, Schweiz
CATEGORIES:Gottesdienste
END:VEVENT
BEGIN:VEVENT
DTSTART;TZID=Europe/Zurich:20240101T150000
DTEND;TZID=Europe/Zurich:20240101T170000
DTSTAMP:20260425T142447
CREATED:20231018T065310Z
LAST-MODIFIED:20231018T065332Z
UID:43472-1704121200-1704128400@www.se-ma.ch
SUMMARY:Degersheim: Tegerscher Neujahrssegen
DESCRIPTION:Am 1. Januar wird über Degersheim zum vierten Mal der Tegerscher Neujahrssegen gerufen: um 15.30 Uhr unterhalb des Dölf-Näf-Bänklis\, um ca. 16.00 Uhr vom Turm der Jakobuskirche und um ca. 16.45 Uhr vom Föhrenwäldli. Alle sind herzlich eingeladen\, zuzuhören und zum neuen Jahr einen Moment besinnlich innezuhalten.
URL:https://www.se-ma.ch/event/degersheim-tegerscher-neujahrssegen/
LOCATION:Jakobuskirche Degersheim\, Bergstrasse 10\, Degersheim\, 9113\, Schweiz
CATEGORIES:Anlässe und Veranstaltungen
END:VEVENT
BEGIN:VEVENT
DTSTART;TZID=Europe/Zurich:20240103T100000
DTEND;TZID=Europe/Zurich:20240103T100000
DTSTAMP:20260425T142447
CREATED:20231212T174754Z
LAST-MODIFIED:20231212T174900Z
UID:44542-1704276000-1704276000@www.se-ma.ch
SUMMARY:Begegnungsmosaik: Mittwochskaffee
DESCRIPTION:
URL:https://www.se-ma.ch/event/begegnungsmosaik-mittwochskaffee/
LOCATION:Pfarreizentrum Flawil\, Enzenbühlstrasse 16\, Flawil\, 9230\, Schweiz
CATEGORIES:Anlässe und Veranstaltungen
END:VEVENT
BEGIN:VEVENT
DTSTART;TZID=Europe/Zurich:20240103T190000
DTEND;TZID=Europe/Zurich:20240103T190000
DTSTAMP:20260425T142447
CREATED:20231212T175144Z
LAST-MODIFIED:20231212T175144Z
UID:44553-1704308400-1704308400@www.se-ma.ch
SUMMARY:Begegnungsmosaik: Line Dance
DESCRIPTION:
URL:https://www.se-ma.ch/event/begegnungsmosaik-line-dance/
LOCATION:Pfarreizentrum Flawil\, Enzenbühlstrasse 16\, Flawil\, 9230\, Schweiz
CATEGORIES:Anlässe und Veranstaltungen
END:VEVENT
BEGIN:VEVENT
DTSTART;TZID=Europe/Zurich:20240104T150000
DTEND;TZID=Europe/Zurich:20240104T163000
DTSTAMP:20260425T142447
CREATED:20230312T163259Z
LAST-MODIFIED:20230312T163259Z
UID:39991-1704380400-1704385800@www.se-ma.ch
SUMMARY:Trauercafé
DESCRIPTION:Das Trauercafé bietet Angehörigen die Möglichkeit\, über das Erlebte zu sprechen und sich mit anderen Betroffenen auszutauschen. Es ist keine Anmeldung nötig. \nHomepage Ökum. Hospizgruppe Flawil
URL:https://www.se-ma.ch/event/trauercafe-10/
LOCATION:Haus 5egg\, Bahnhofstrasse 33\, Flawil\, St. Gallen\, 9230\, Schweiz
CATEGORIES:Anlässe und Veranstaltungen
END:VEVENT
BEGIN:VEVENT
DTSTART;TZID=Europe/Zurich:20240104T160000
DTEND;TZID=Europe/Zurich:20240104T160000
DTSTAMP:20260425T142447
CREATED:20231212T175253Z
LAST-MODIFIED:20240104T063325Z
UID:44557-1704384000-1704384000@www.se-ma.ch
SUMMARY:Begegnungsmosaik: Fitness und Spass mit Heidi Moosberger
DESCRIPTION:
URL:https://www.se-ma.ch/event/begegnungsmosaik-fitness-und-spass-mit-ruth-moosberger/
LOCATION:Pfarreizentrum Flawil\, Enzenbühlstrasse 16\, Flawil\, 9230\, Schweiz
CATEGORIES:Anlässe und Veranstaltungen
END:VEVENT
BEGIN:VEVENT
DTSTART;TZID=Europe/Zurich:20240104T190000
DTEND;TZID=Europe/Zurich:20240104T190000
DTSTAMP:20260425T142447
CREATED:20231212T175459Z
LAST-MODIFIED:20231212T175507Z
UID:44561-1704394800-1704394800@www.se-ma.ch
SUMMARY:Begegnungsmosaik: Winterwanderung zur Grotte Niederglatt
DESCRIPTION:mit Karin Reinlich\nTreffpunkt: Pfarreizentrum
URL:https://www.se-ma.ch/event/begegnungsmosaik-winterwanderung-zur-grotte-niederglatt/
LOCATION:Pfarreizentrum Flawil\, Enzenbühlstrasse 16\, Flawil\, 9230\, Schweiz
CATEGORIES:Anlässe und Veranstaltungen
END:VEVENT
BEGIN:VEVENT
DTSTART;TZID=Europe/Zurich:20240105T183000
DTEND;TZID=Europe/Zurich:20240105T200000
DTSTAMP:20260425T142447
CREATED:20231107T121738Z
LAST-MODIFIED:20231107T121738Z
UID:43833-1704479400-1704484800@www.se-ma.ch
SUMMARY:Degersheim: Zämägang
DESCRIPTION:für einander da sein \nzusammen statt alleine \nHast du Lust\, mit mir und hoffentlich anderen Menschen zusammen zu sein? Dann komm einfach mit. \nVielleicht kennst du Menschen\, denen das freundliche und interessierte Miteinander gut tun würde. Mache sie aufmerksam auf dieses Angebot oder bring sie gleich selbst mit! \nEs braucht keine Anmeldung! \nTreffpunkt beim Postplatz Degersheim! \nIch freue mich auf dich! \nSilvan Hollenstein\, Seelsorger\, Tel. 079 743 73 89
URL:https://www.se-ma.ch/event/degersheim-zaemaegang-6/
LOCATION:Postplatz\, Postplatz\, Degersheim\, 9113\, Schweiz
CATEGORIES:Anlässe und Veranstaltungen
END:VEVENT
BEGIN:VEVENT
DTSTART;TZID=Europe/Zurich:20240106T173000
DTEND;TZID=Europe/Zurich:20240106T183000
DTSTAMP:20260425T142447
CREATED:20231018T065444Z
LAST-MODIFIED:20231018T065722Z
UID:43474-1704562200-1704565800@www.se-ma.ch
SUMMARY:Degersheim: Eucharistiefeier
DESCRIPTION:mit Stiftmessen und Jahresgedächtnis
URL:https://www.se-ma.ch/event/degersheim-eucharistiefeier-9/
LOCATION:Jakobuskirche Degersheim\, Bergstrasse 10\, Degersheim\, 9113\, Schweiz
CATEGORIES:Gottesdienste
END:VEVENT
BEGIN:VEVENT
DTSTART;TZID=Europe/Zurich:20240106T200000
DTEND;TZID=Europe/Zurich:20240106T200000
DTSTAMP:20260425T142447
CREATED:20231212T175550Z
LAST-MODIFIED:20231212T175550Z
UID:44563-1704571200-1704571200@www.se-ma.ch
SUMMARY:Begegnungsmosaik: Filmabend
DESCRIPTION:
URL:https://www.se-ma.ch/event/begegnungsmosaik-filmabend/
LOCATION:Pfarreizentrum Flawil\, Enzenbühlstrasse 16\, Flawil\, 9230\, Schweiz
CATEGORIES:Anlässe und Veranstaltungen
END:VEVENT
BEGIN:VEVENT
DTSTART;TZID=Europe/Zurich:20240107T084500
DTEND;TZID=Europe/Zurich:20240107T084500
DTSTAMP:20260425T142447
CREATED:20231114T100609Z
LAST-MODIFIED:20231114T133339Z
UID:43905-1704617100-1704617100@www.se-ma.ch
SUMMARY:Niederglatt: Eucharistiefeier mit Salz- und Wassersegung
DESCRIPTION:
URL:https://www.se-ma.ch/event/niederglatt-eucharistiefeier-mit-salz-und-wassersegung/
LOCATION:Felix + Regula Kirche Niederglatt\, Niederglatt\, 9240\, Schweiz
CATEGORIES:Gottesdienste
END:VEVENT
BEGIN:VEVENT
DTSTART;TZID=Europe/Zurich:20240107T093000
DTEND;TZID=Europe/Zurich:20240107T093000
DTSTAMP:20260425T142447
CREATED:20231114T132443Z
LAST-MODIFIED:20231114T132443Z
UID:43987-1704619800-1704619800@www.se-ma.ch
SUMMARY:Flawil: Eucharistiefeier in Spanisch
DESCRIPTION:ab 9.00 Uhr Beichtgelegenheit
URL:https://www.se-ma.ch/event/flawil-eucharistiefeier-in-spanisch-9/
LOCATION:Kapelle St. Laurentius Flawil\, Enzenbühlstrasse 20\, Flawil\, 9230\, Schweiz
CATEGORIES:Gottesdienste
END:VEVENT
BEGIN:VEVENT
DTSTART;TZID=Europe/Zurich:20240107T101500
DTEND;TZID=Europe/Zurich:20240107T101500
DTSTAMP:20260425T142447
CREATED:20231114T140854Z
LAST-MODIFIED:20231114T140854Z
UID:44080-1704622500-1704622500@www.se-ma.ch
SUMMARY:Flawil: Sternsinger-Sendungsgottesdienst
DESCRIPTION:Salz- und Wassersegnung\, Eucharistiefeier\, anschliessend Neujahrsapéro
URL:https://www.se-ma.ch/event/flawil-sternsinger-sendungsgottesdienst/
LOCATION:Kirche St. Laurentius Flawil\, Enzenbühlstrasse 20\, Flawil\, 9230\, Schweiz
CATEGORIES:Gottesdienste
END:VEVENT
BEGIN:VEVENT
DTSTART;TZID=Europe/Zurich:20240107T190000
DTEND;TZID=Europe/Zurich:20240107T190000
DTSTAMP:20260425T142447
CREATED:20240104T063200Z
LAST-MODIFIED:20240104T063301Z
UID:44788-1704654000-1704654000@www.se-ma.ch
SUMMARY:Begegnungsmosaik: Tanzkurs
DESCRIPTION:4 Abende\nAnmeldung bis 20. Dezember ans Pfarreisekretariat\nKosten: 125.00 pro Person (4×2 Stunden)
URL:https://www.se-ma.ch/event/begegnungsmosaik-tanzkurs-5/
LOCATION:Pfarreizentrum Flawil\, Enzenbühlstrasse 16\, Flawil\, 9230\, Schweiz
CATEGORIES:Anlässe und Veranstaltungen
END:VEVENT
BEGIN:VEVENT
DTSTART;TZID=Europe/Zurich:20240110T100000
DTEND;TZID=Europe/Zurich:20240110T100000
DTSTAMP:20260425T142447
CREATED:20231212T174929Z
LAST-MODIFIED:20231212T174929Z
UID:44547-1704880800-1704880800@www.se-ma.ch
SUMMARY:Begegnungsmosaik: Mittwochskaffee
DESCRIPTION:
URL:https://www.se-ma.ch/event/begegnungsmosaik-mittwochskaffee-2/
LOCATION:Pfarreizentrum Flawil\, Enzenbühlstrasse 16\, Flawil\, 9230\, Schweiz
CATEGORIES:Anlässe und Veranstaltungen
END:VEVENT
BEGIN:VEVENT
DTSTART;TZID=Europe/Zurich:20240110T190000
DTEND;TZID=Europe/Zurich:20240110T190000
DTSTAMP:20260425T142447
CREATED:20231212T180014Z
LAST-MODIFIED:20231212T180014Z
UID:44575-1704913200-1704913200@www.se-ma.ch
SUMMARY:Begegnungsmosaik: Spielabend
DESCRIPTION:
URL:https://www.se-ma.ch/event/begegnungsmosaik-spielabend/
LOCATION:Pfarreizentrum Flawil\, Enzenbühlstrasse 16\, Flawil\, 9230\, Schweiz
CATEGORIES:Anlässe und Veranstaltungen
END:VEVENT
BEGIN:VEVENT
DTSTART;TZID=Europe/Zurich:20240111T113000
DTEND;TZID=Europe/Zurich:20240111T140000
DTSTAMP:20260425T142447
CREATED:20231130T081313Z
LAST-MODIFIED:20231130T081313Z
UID:44303-1704972600-1704981600@www.se-ma.ch
SUMMARY:Flawil: Mittagstisch
DESCRIPTION:Flyer Mittagstisch 2024
URL:https://www.se-ma.ch/event/flawil-mittagstisch/
LOCATION:Pfarreizentrum Flawil\, Enzenbühlstrasse 16\, Flawil\, 9230\, Schweiz
CATEGORIES:Anlässe und Veranstaltungen
END:VEVENT
BEGIN:VEVENT
DTSTART;TZID=Europe/Zurich:20240111T190000
DTEND;TZID=Europe/Zurich:20240111T190000
DTSTAMP:20260425T142447
CREATED:20231207T150029Z
LAST-MODIFIED:20231207T150029Z
UID:44485-1704999600-1704999600@www.se-ma.ch
SUMMARY:Flawiler Friedensgebet
DESCRIPTION:In Flawil treffen sich Angehörige verschiedener Konfessionen zum Friedensgebet im Zwinglisaal der ref. Kirche. \nDaten Friedensgebet
URL:https://www.se-ma.ch/event/flawiler-friedensgebet-9/
LOCATION:Zwinglisaal Flawil\, Lindenstrasse 6B\, Flawil\, SG\, 9230\, Schweiz
CATEGORIES:Anlässe und Veranstaltungen,Gottesdienste
END:VEVENT
BEGIN:VEVENT
DTSTART;TZID=Europe/Zurich:20240111T190000
DTEND;TZID=Europe/Zurich:20240111T190000
DTSTAMP:20260425T142447
CREATED:20231212T180400Z
LAST-MODIFIED:20231212T180400Z
UID:44586-1704999600-1704999600@www.se-ma.ch
SUMMARY:Begegnungsmosaik: Besichtigung Turmuhr und Orgel
DESCRIPTION:mit Pascal Bossart und Paul Gächter
URL:https://www.se-ma.ch/event/begegnungsmosaik-besichtigung-turmuhr-und-orgel-2/
LOCATION:Kirche St. Laurentius Flawil\, Enzenbühlstrasse 20\, Flawil\, 9230\, Schweiz
CATEGORIES:Anlässe und Veranstaltungen
END:VEVENT
BEGIN:VEVENT
DTSTART;TZID=Europe/Zurich:20240112T190000
DTEND;TZID=Europe/Zurich:20240112T190000
DTSTAMP:20260425T142447
CREATED:20231212T180824Z
LAST-MODIFIED:20231212T180824Z
UID:44594-1705086000-1705086000@www.se-ma.ch
SUMMARY:Begegnungsmosaik: Gschwellti-Essen
DESCRIPTION:mit der Frauengemeinschaft\nAnmeldung bis 7. Januar im Pfarreisekretariat
URL:https://www.se-ma.ch/event/begegnungsmosaik-gschwellti-essen/
LOCATION:Pfarreizentrum Flawil\, Enzenbühlstrasse 16\, Flawil\, 9230\, Schweiz
CATEGORIES:Anlässe und Veranstaltungen
END:VEVENT
BEGIN:VEVENT
DTSTART;TZID=Europe/Zurich:20240113T090000
DTEND;TZID=Europe/Zurich:20240113T090000
DTSTAMP:20260425T142447
CREATED:20231212T180944Z
LAST-MODIFIED:20231212T180944Z
UID:44596-1705136400-1705136400@www.se-ma.ch
SUMMARY:Begegnungsmosaik: Zmorgentisch
DESCRIPTION:mit dem Familientreff\nAnmeldung bis 11. Januar im Pfarreisekretariat
URL:https://www.se-ma.ch/event/begegnungsmosaik-zmorgentisch/
LOCATION:Pfarreizentrum Flawil\, Enzenbühlstrasse 16\, Flawil\, 9230\, Schweiz
CATEGORIES:Anlässe und Veranstaltungen
END:VEVENT
BEGIN:VEVENT
DTSTART;TZID=Europe/Zurich:20240113T173000
DTEND;TZID=Europe/Zurich:20240113T173000
DTSTAMP:20260425T142447
CREATED:20231114T102524Z
LAST-MODIFIED:20231114T103203Z
UID:43932-1705167000-1705167000@www.se-ma.ch
SUMMARY:Flawil: Eucharistiefeier in Portugiesisch
DESCRIPTION:
URL:https://www.se-ma.ch/event/flawil-eucharistiefeier-in-portugiesisch/
LOCATION:Kapelle St. Laurentius Flawil\, Enzenbühlstrasse 20\, Flawil\, 9230\, Schweiz
CATEGORIES:Gottesdienste
END:VEVENT
BEGIN:VEVENT
DTSTART;TZID=Europe/Zurich:20240113T173000
DTEND;TZID=Europe/Zurich:20240113T183000
DTSTAMP:20260425T142447
CREATED:20231018T065620Z
LAST-MODIFIED:20231018T065620Z
UID:43476-1705167000-1705170600@www.se-ma.ch
SUMMARY:Degersheim: Eucharistiefeier
DESCRIPTION:Rückkehr Sternsinger mit Salz- und Wassersegnung \nJahresgedächtnis
URL:https://www.se-ma.ch/event/degersheim-eucharistiefeier-10/
LOCATION:Jakobuskirche Degersheim\, Bergstrasse 10\, Degersheim\, 9113\, Schweiz
CATEGORIES:Gottesdienste
END:VEVENT
BEGIN:VEVENT
DTSTART;TZID=Europe/Zurich:20240114T084500
DTEND;TZID=Europe/Zurich:20240114T094500
DTSTAMP:20260425T142447
CREATED:20231213T160940Z
LAST-MODIFIED:20231213T160940Z
UID:44621-1705221900-1705225500@www.se-ma.ch
SUMMARY:Magdenau: Sternsingergottesdienst mit Salz- und Wasserweihe
DESCRIPTION:
URL:https://www.se-ma.ch/event/magdenau-sternsingergottesdienst-mit-salz-und-wasserweihe/
LOCATION:Kirche St. Verena Magdenau\, St. Verena 929\, Wolfertswil\, 9116\, Schweiz
CATEGORIES:Gottesdienste,Kinder und Familien
END:VEVENT
BEGIN:VEVENT
DTSTART;TZID=Europe/Zurich:20240114T090000
DTEND;TZID=Europe/Zurich:20240114T090000
DTSTAMP:20260425T142447
CREATED:20231114T134604Z
LAST-MODIFIED:20231114T134615Z
UID:44034-1705222800-1705222800@www.se-ma.ch
SUMMARY:Eucharistiefeier in Italienisch
DESCRIPTION:
URL:https://www.se-ma.ch/event/eucharistiefeier-in-italienisch-9/
LOCATION:Kapelle St. Laurentius Flawil\, Enzenbühlstrasse 20\, Flawil\, 9230\, Schweiz
CATEGORIES:Gottesdienste
END:VEVENT
BEGIN:VEVENT
DTSTART;TZID=Europe/Zurich:20240114T101500
DTEND;TZID=Europe/Zurich:20240114T101500
DTSTAMP:20260425T142447
CREATED:20231114T140958Z
LAST-MODIFIED:20231114T140958Z
UID:44082-1705227300-1705227300@www.se-ma.ch
SUMMARY:Flawil: Eucharistiefeier mit den jungen Erwachsenen auf dem Firmweg
DESCRIPTION:
URL:https://www.se-ma.ch/event/flawil-eucharistiefeier-mit-den-jungen-erwachsenen-auf-dem-firmweg/
LOCATION:Kirche St. Laurentius Flawil\, Enzenbühlstrasse 20\, Flawil\, 9230\, Schweiz
CATEGORIES:Gottesdienste
END:VEVENT
BEGIN:VEVENT
DTSTART;TZID=Europe/Zurich:20240114T190000
DTEND;TZID=Europe/Zurich:20240114T190000
DTSTAMP:20260425T142447
CREATED:20231212T175839Z
LAST-MODIFIED:20231212T175839Z
UID:44569-1705258800-1705258800@www.se-ma.ch
SUMMARY:Begegnungsmosaik: Tanzkurs
DESCRIPTION:4 Abende\nAnmeldung bis 20. Dezember ans Pfarreisekretariat\nKosten: 125.00 pro Person (4×2 Stunden)
URL:https://www.se-ma.ch/event/begegnungsmosaik-tanzkurs-2/
LOCATION:Pfarreizentrum Flawil\, Enzenbühlstrasse 16\, Flawil\, 9230\, Schweiz
CATEGORIES:Anlässe und Veranstaltungen
END:VEVENT
BEGIN:VEVENT
DTSTART;TZID=Europe/Zurich:20240115T193000
DTEND;TZID=Europe/Zurich:20240115T203000
DTSTAMP:20260425T142447
CREATED:20230919T091607Z
LAST-MODIFIED:20230919T091607Z
UID:42983-1705347000-1705350600@www.se-ma.ch
SUMMARY:Degersheim: Schweigemeditation
DESCRIPTION:In der Kapelle der Kath. Kirche St. Jakobus werden wir gemeinsam meditieren. Alle Interessierten\, unabhängig von Konfession oder Kirchennähe\, sind dazu herzlich eingeladen. \nFür Auskünfte steht Walter Germann gerne zur Verfügung: T 071 371 29 38.
URL:https://www.se-ma.ch/event/degersheim-schweigemeditation-9/
LOCATION:Jakobuskirche Kapelle Degersheim\, Bergstrasse 10\, Degersheim\, St. Gallen\, 9113\, Schweiz
CATEGORIES:Anlässe und Veranstaltungen
END:VEVENT
BEGIN:VEVENT
DTSTART;TZID=Europe/Zurich:20240117T100000
DTEND;TZID=Europe/Zurich:20240117T100000
DTSTAMP:20260425T142447
CREATED:20231212T174943Z
LAST-MODIFIED:20231212T175000Z
UID:44549-1705485600-1705485600@www.se-ma.ch
SUMMARY:Begegnungsmosaik: Mittwochskaffee
DESCRIPTION:
URL:https://www.se-ma.ch/event/begegnungsmosaik-mittwochskaffee-3/
LOCATION:Pfarreizentrum Flawil\, Enzenbühlstrasse 16\, Flawil\, 9230\, Schweiz
CATEGORIES:Anlässe und Veranstaltungen
END:VEVENT
END:VCALENDAR