BEGIN:VCALENDAR
VERSION:2.0
PRODID:-//Seelsorgeeinheit Magdenau - ECPv6.15.20//NONSGML v1.0//EN
CALSCALE:GREGORIAN
METHOD:PUBLISH
X-WR-CALNAME:Seelsorgeeinheit Magdenau
X-ORIGINAL-URL:https://www.se-ma.ch
X-WR-CALDESC:Veranstaltungen für Seelsorgeeinheit Magdenau
REFRESH-INTERVAL;VALUE=DURATION:PT1H
X-Robots-Tag:noindex
X-PUBLISHED-TTL:PT1H
BEGIN:VTIMEZONE
TZID:Europe/Zurich
BEGIN:DAYLIGHT
TZOFFSETFROM:+0100
TZOFFSETTO:+0200
TZNAME:CEST
DTSTART:20230326T010000
END:DAYLIGHT
BEGIN:STANDARD
TZOFFSETFROM:+0200
TZOFFSETTO:+0100
TZNAME:CET
DTSTART:20231029T010000
END:STANDARD
BEGIN:DAYLIGHT
TZOFFSETFROM:+0100
TZOFFSETTO:+0200
TZNAME:CEST
DTSTART:20240331T010000
END:DAYLIGHT
BEGIN:STANDARD
TZOFFSETFROM:+0200
TZOFFSETTO:+0100
TZNAME:CET
DTSTART:20241027T010000
END:STANDARD
BEGIN:DAYLIGHT
TZOFFSETFROM:+0100
TZOFFSETTO:+0200
TZNAME:CEST
DTSTART:20250330T010000
END:DAYLIGHT
BEGIN:STANDARD
TZOFFSETFROM:+0200
TZOFFSETTO:+0100
TZNAME:CET
DTSTART:20251026T010000
END:STANDARD
END:VTIMEZONE
BEGIN:VEVENT
DTSTART;TZID=Europe/Zurich:20240129T080000
DTEND;TZID=Europe/Zurich:20240202T130000
DTSTAMP:20260425T124214
CREATED:20240103T091534Z
LAST-MODIFIED:20240103T091825Z
UID:44780-1706515200-1706878800@www.se-ma.ch
SUMMARY:Degersheim/Wolfertswil: Sekretariat geschlossen
DESCRIPTION:Das Sekretariat Degersheim und Wolfertswil bleibt während den Sportferien geschlossen. In dringenden Anliegen können Sie jederzeit die Notfallnummer 071 393 14 14 wählen.
URL:https://www.se-ma.ch/event/degersheim-sekretariat-geschlossen-2/
LOCATION:kath. Pfarramt Degersheim\, Friedbergstrasse 2\, 9113 Degersheim\, 9113\, Schweiz
CATEGORIES:Anlässe und Veranstaltungen
END:VEVENT
BEGIN:VEVENT
DTSTART;TZID=Europe/Zurich:20240201T150000
DTEND;TZID=Europe/Zurich:20240201T163000
DTSTAMP:20260425T124214
CREATED:20230312T163314Z
LAST-MODIFIED:20230312T163314Z
UID:39993-1706799600-1706805000@www.se-ma.ch
SUMMARY:Trauercafé
DESCRIPTION:Das Trauercafé bietet Angehörigen die Möglichkeit\, über das Erlebte zu sprechen und sich mit anderen Betroffenen auszutauschen. Es ist keine Anmeldung nötig. \nHomepage Ökum. Hospizgruppe Flawil
URL:https://www.se-ma.ch/event/trauercafe-11/
LOCATION:Haus 5egg\, Bahnhofstrasse 33\, Flawil\, St. Gallen\, 9230\, Schweiz
CATEGORIES:Anlässe und Veranstaltungen
END:VEVENT
BEGIN:VEVENT
DTSTART;TZID=Europe/Zurich:20240202T183000
DTEND;TZID=Europe/Zurich:20240202T183000
DTSTAMP:20260425T124214
CREATED:20231116T072104Z
LAST-MODIFIED:20231116T072104Z
UID:44149-1706898600-1706898600@www.se-ma.ch
SUMMARY:Flawil: Lichtfeier mit den Erstkommunionkindern
DESCRIPTION:Eucharistiefeier mit Blasiussegen\nTeilete\nkein Herz-Jesu-Freitag
URL:https://www.se-ma.ch/event/flawil-lichtfeier-mit-den-erstkommunionkindern/
LOCATION:Kirche St. Laurentius Flawil\, Enzenbühlstrasse 20\, Flawil\, 9230\, Schweiz
CATEGORIES:Gottesdienste,Kinder und Familien
END:VEVENT
BEGIN:VEVENT
DTSTART;TZID=Europe/Zurich:20240207T091500
DTEND;TZID=Europe/Zurich:20240207T091500
DTSTAMP:20260425T124214
CREATED:20231116T072205Z
LAST-MODIFIED:20231116T072205Z
UID:44151-1707297300-1707297300@www.se-ma.ch
SUMMARY:Flawil: Gottesdienst mit Brotsegnung
DESCRIPTION:
URL:https://www.se-ma.ch/event/flawil-gottesdienst-mit-brotsegnung/
LOCATION:Kirche St. Laurentius Flawil\, Enzenbühlstrasse 20\, Flawil\, 9230\, Schweiz
CATEGORIES:Gottesdienste
END:VEVENT
BEGIN:VEVENT
DTSTART;TZID=Europe/Zurich:20240202T183000
DTEND;TZID=Europe/Zurich:20240202T200000
DTSTAMP:20260425T124214
CREATED:20231107T122544Z
LAST-MODIFIED:20231107T122544Z
UID:43842-1706898600-1706904000@www.se-ma.ch
SUMMARY:Degersheim: Zämägang
DESCRIPTION:für einander da sein \nzusammen statt alleine \nHast du Lust\, mit mir und hoffentlich anderen Menschen zusammen zu sein? Dann komm einfach mit. \nVielleicht kennst du Menschen\, denen das freundliche und interessierte Miteinander gut tun würde. Mache sie aufmerksam auf dieses Angebot oder bring sie gleich selbst mit! \nEs braucht keine Anmeldung! \nTreffpunkt beim Postplatz Degersheim! \nIch freue mich auf dich! \nSilvan Hollenstein\, Seelsorger\, Tel. 079 743 73 89
URL:https://www.se-ma.ch/event/degersheim-zaemaegang-7/
LOCATION:Postplatz\, Postplatz\, Degersheim\, 9113\, Schweiz
CATEGORIES:Anlässe und Veranstaltungen
END:VEVENT
BEGIN:VEVENT
DTSTART;TZID=Europe/Zurich:20240203T173000
DTEND;TZID=Europe/Zurich:20240203T183000
DTSTAMP:20260425T124214
CREATED:20231018T070914Z
LAST-MODIFIED:20240123T143226Z
UID:43484-1706981400-1706985000@www.se-ma.ch
SUMMARY:Degersheim: Eucharistiefeier
DESCRIPTION:
URL:https://www.se-ma.ch/event/degersheim-eucharistiefeier-12/
LOCATION:Jakobuskirche Degersheim\, Bergstrasse 10\, Degersheim\, 9113\, Schweiz
CATEGORIES:Gottesdienste,Kinder und Familien
END:VEVENT
BEGIN:VEVENT
DTSTART;TZID=Europe/Zurich:20240204T084500
DTEND;TZID=Europe/Zurich:20240204T084500
DTSTAMP:20260425T124214
CREATED:20231114T100837Z
LAST-MODIFIED:20231114T133448Z
UID:43910-1707036300-1707036300@www.se-ma.ch
SUMMARY:Niederglatt: Eucharistiefeier mit Kerzen- und Brotsegung\, anschliessend Blasiussegen
DESCRIPTION:
URL:https://www.se-ma.ch/event/niederglatt-eucharistiefeier-mit-kerzen-und-brotsegung-anschliessend-blasiussegen/
LOCATION:Felix + Regula Kirche Niederglatt\, Niederglatt\, 9240\, Schweiz
CATEGORIES:Gottesdienste
END:VEVENT
BEGIN:VEVENT
DTSTART;TZID=Europe/Zurich:20240204T093000
DTEND;TZID=Europe/Zurich:20240204T093000
DTSTAMP:20260425T124214
CREATED:20231114T132502Z
LAST-MODIFIED:20231114T132502Z
UID:43989-1707039000-1707039000@www.se-ma.ch
SUMMARY:Flawil: Eucharistiefeier in Spanisch
DESCRIPTION:ab 9.00 Uhr Beichtgelegenheit
URL:https://www.se-ma.ch/event/flawil-eucharistiefeier-in-spanisch-10/
LOCATION:Kapelle St. Laurentius Flawil\, Enzenbühlstrasse 20\, Flawil\, 9230\, Schweiz
CATEGORIES:Gottesdienste
END:VEVENT
BEGIN:VEVENT
DTSTART;TZID=Europe/Zurich:20240204T101500
DTEND;TZID=Europe/Zurich:20240204T101500
DTSTAMP:20260425T124214
CREATED:20231114T141341Z
LAST-MODIFIED:20231114T141341Z
UID:44088-1707041700-1707041700@www.se-ma.ch
SUMMARY:Flawil: Gottesdienst
DESCRIPTION:
URL:https://www.se-ma.ch/event/flawil-gottesdienst/
LOCATION:Kirche St. Laurentius Flawil\, Enzenbühlstrasse 20\, Flawil\, 9230\, Schweiz
CATEGORIES:Gottesdienste
END:VEVENT
BEGIN:VEVENT
DTSTART;TZID=Europe/Zurich:20240205T193000
DTEND;TZID=Europe/Zurich:20240205T203000
DTSTAMP:20260425T124214
CREATED:20230919T091824Z
LAST-MODIFIED:20230919T091824Z
UID:42989-1707161400-1707165000@www.se-ma.ch
SUMMARY:Degersheim: Schweigemeditation
DESCRIPTION:In der Kapelle der Kath. Kirche St. Jakobus werden wir gemeinsam meditieren. Alle Interessierten\, unabhängig von Konfession oder Kirchennähe\, sind dazu herzlich eingeladen. \nFür Auskünfte steht Walter Germann gerne zur Verfügung: T 071 371 29 38.
URL:https://www.se-ma.ch/event/degersheim-schweigemeditation-11/
LOCATION:Jakobuskirche Kapelle Degersheim\, Bergstrasse 10\, Degersheim\, St. Gallen\, 9113\, Schweiz
CATEGORIES:Anlässe und Veranstaltungen
END:VEVENT
BEGIN:VEVENT
DTSTART;TZID=Europe/Zurich:20240208T190000
DTEND;TZID=Europe/Zurich:20240208T190000
DTSTAMP:20260425T124214
CREATED:20231207T145828Z
LAST-MODIFIED:20231207T145828Z
UID:44481-1707418800-1707418800@www.se-ma.ch
SUMMARY:Flawiler Friedensgebet
DESCRIPTION:In Flawil treffen sich Angehörige verschiedener Konfessionen zum Friedensgebet in der kath. Kapelle. \nDaten Friedensgebet
URL:https://www.se-ma.ch/event/flawiler-friedensgebet-7/
LOCATION:Kapelle St. Laurentius Flawil\, Enzenbühlstrasse 20\, Flawil\, 9230\, Schweiz
CATEGORIES:Anlässe und Veranstaltungen,Gottesdienste
END:VEVENT
BEGIN:VEVENT
DTSTART;TZID=Europe/Zurich:20240210T173000
DTEND;TZID=Europe/Zurich:20240210T173000
DTSTAMP:20260425T124214
CREATED:20231114T102644Z
LAST-MODIFIED:20231114T103348Z
UID:43936-1707586200-1707586200@www.se-ma.ch
SUMMARY:Flawil: Eucharistiefeier in Portugiesisch
DESCRIPTION:
URL:https://www.se-ma.ch/event/flawil-eucharistiefeier-in-portugiesisch-3/
LOCATION:Kapelle St. Laurentius Flawil\, Enzenbühlstrasse 20\, Flawil\, 9230\, Schweiz
CATEGORIES:Gottesdienste
END:VEVENT
BEGIN:VEVENT
DTSTART;TZID=Europe/Zurich:20240210T173000
DTEND;TZID=Europe/Zurich:20240210T183000
DTSTAMP:20260425T124214
CREATED:20231018T071019Z
LAST-MODIFIED:20231018T071019Z
UID:43486-1707586200-1707589800@www.se-ma.ch
SUMMARY:Degersheim: Kommunionfeier
DESCRIPTION:
URL:https://www.se-ma.ch/event/degersheim-kommunionfeier-7/
LOCATION:Jakobuskirche Degersheim\, Bergstrasse 10\, Degersheim\, 9113\, Schweiz
CATEGORIES:Gottesdienste
END:VEVENT
BEGIN:VEVENT
DTSTART;TZID=Europe/Zurich:20240211T084500
DTEND;TZID=Europe/Zurich:20240211T084500
DTSTAMP:20260425T124214
CREATED:20231213T161820Z
LAST-MODIFIED:20240208T120247Z
UID:44626-1707641100-1707641100@www.se-ma.ch
SUMMARY:Magdenau: Kommunionfeier
DESCRIPTION:
URL:https://www.se-ma.ch/event/magdenau-kommunionfeier/
LOCATION:Kirche St. Verena Magdenau\, St. Verena 929\, Wolfertswil\, 9116\, Schweiz
CATEGORIES:Gottesdienste
END:VEVENT
BEGIN:VEVENT
DTSTART;TZID=Europe/Zurich:20240211T090000
DTEND;TZID=Europe/Zurich:20240211T090000
DTSTAMP:20260425T124214
CREATED:20231114T134633Z
LAST-MODIFIED:20231114T134633Z
UID:44036-1707642000-1707642000@www.se-ma.ch
SUMMARY:Eucharistiefeier in Italienisch
DESCRIPTION:
URL:https://www.se-ma.ch/event/eucharistiefeier-in-italienisch-25/
LOCATION:Kapelle St. Laurentius Flawil\, Enzenbühlstrasse 20\, Flawil\, 9230\, Schweiz
CATEGORIES:Gottesdienste
END:VEVENT
BEGIN:VEVENT
DTSTART;TZID=Europe/Zurich:20240211T101500
DTEND;TZID=Europe/Zurich:20240211T101500
DTSTAMP:20260425T124214
CREATED:20231114T141428Z
LAST-MODIFIED:20231114T141428Z
UID:44090-1707646500-1707646500@www.se-ma.ch
SUMMARY:Flawil: Fasnachts-Gottesdienst mit den Wyssbach-Geischter
DESCRIPTION:
URL:https://www.se-ma.ch/event/flawil-fasnachts-gottesdienst-mit-den-wyssbach-geischter/
LOCATION:Kirche St. Laurentius Flawil\, Enzenbühlstrasse 20\, Flawil\, 9230\, Schweiz
CATEGORIES:Gottesdienste,Kinder und Familien
END:VEVENT
BEGIN:VEVENT
DTSTART;TZID=Europe/Zurich:20240212T193000
DTEND;TZID=Europe/Zurich:20240212T203000
DTSTAMP:20260425T124214
CREATED:20230919T092032Z
LAST-MODIFIED:20230919T092032Z
UID:42992-1707766200-1707769800@www.se-ma.ch
SUMMARY:Degersheim: Schweigemeditation
DESCRIPTION:In der Kapelle der Kath. Kirche St. Jakobus werden wir gemeinsam meditieren. Alle Interessierten\, unabhängig von Konfession oder Kirchennähe\, sind dazu herzlich eingeladen. \nFür Auskünfte steht Walter Germann gerne zur Verfügung: T 071 371 29 38.
URL:https://www.se-ma.ch/event/degersheim-schweigemeditation-12/
LOCATION:Jakobuskirche Kapelle Degersheim\, Bergstrasse 10\, Degersheim\, St. Gallen\, 9113\, Schweiz
CATEGORIES:Anlässe und Veranstaltungen
END:VEVENT
BEGIN:VEVENT
DTSTART;TZID=Europe/Zurich:20240213T143000
DTEND;TZID=Europe/Zurich:20240213T143000
DTSTAMP:20260425T124214
CREATED:20240117T075907Z
LAST-MODIFIED:20240119T122325Z
UID:44983-1707834600-1707834600@www.se-ma.ch
SUMMARY:Flawil: SEMAplus Senioren
DESCRIPTION:Ökumenischer Seniorennachmittag im Pfarreizentrum \nTheatergruppe Silberfüchse \nJahresprogramm
URL:https://www.se-ma.ch/event/flawil-semaplus-senioren-2/
LOCATION:Pfarreizentrum Flawil\, Enzenbühlstrasse 16\, Flawil\, 9230\, Schweiz
END:VEVENT
BEGIN:VEVENT
DTSTART;TZID=Europe/Zurich:20240214T091500
DTEND;TZID=Europe/Zurich:20240214T091500
DTSTAMP:20260425T124214
CREATED:20231116T072254Z
LAST-MODIFIED:20240110T152638Z
UID:44153-1707902100-1707902100@www.se-ma.ch
SUMMARY:Flawil: Eucharistiefeier mit Aschenauflegung
DESCRIPTION:
URL:https://www.se-ma.ch/event/flawil-gottesdienst-mit-aschenauflegung/
LOCATION:Kirche St. Laurentius Flawil\, Enzenbühlstrasse 20\, Flawil\, 9230\, Schweiz
CATEGORIES:Gottesdienste
END:VEVENT
BEGIN:VEVENT
DTSTART;TZID=Europe/Zurich:20240214T114500
DTEND;TZID=Europe/Zurich:20240214T140000
DTSTAMP:20260425T124214
CREATED:20240112T081326Z
LAST-MODIFIED:20240126T085857Z
UID:44929-1707911100-1707919200@www.se-ma.ch
SUMMARY:Degersheim: zämä ässä
DESCRIPTION:Wir freuen uns über alle\, die Lust haben\, gemeinsam zu essen\, zu geniessen und zu plaudern. Ein bunt zusammengewürfeltes Küchenteam kocht und serviert speziell für Sie! Der Preis beträgt Fr. 10.00. Bitte geben Sie bei der Anmeldung an\, ob Sie Unverträglichkeiten (vegetarisch\, vegan etc.) haben! Gerne nehmen wir Ihre Anmeldung bis spätestens Freitag\, 09. Februar entgegen: \nhc.am-esobfsctd-55ed12@miehsreged-tairaterkes oder T 071 371 10 17
URL:https://www.se-ma.ch/event/degersheim-zaemae-aessae-2/
LOCATION:Pfarreiheim
CATEGORIES:Anlässe und Veranstaltungen
END:VEVENT
BEGIN:VEVENT
DTSTART;TZID=Europe/Zurich:20240214T190000
DTEND;TZID=Europe/Zurich:20240214T200000
DTSTAMP:20260425T124214
CREATED:20231018T075538Z
LAST-MODIFIED:20231018T075538Z
UID:43524-1707937200-1707940800@www.se-ma.ch
SUMMARY:Degersheim: Eucharistiefeier
DESCRIPTION:mit Aschenauflegung
URL:https://www.se-ma.ch/event/degersheim-eucharistiefeier-17/
LOCATION:Jakobuskirche Degersheim\, Bergstrasse 10\, Degersheim\, 9113\, Schweiz
CATEGORIES:Gottesdienste
END:VEVENT
BEGIN:VEVENT
DTSTART;TZID=Europe/Zurich:20240217T173000
DTEND;TZID=Europe/Zurich:20240217T183000
DTSTAMP:20260425T124214
CREATED:20231018T071123Z
LAST-MODIFIED:20231018T071123Z
UID:43488-1708191000-1708194600@www.se-ma.ch
SUMMARY:Degersheim: Kommunionfeier
DESCRIPTION:
URL:https://www.se-ma.ch/event/degersheim-kommunionfeier-8/
LOCATION:Jakobuskirche Degersheim\, Bergstrasse 10\, Degersheim\, 9113\, Schweiz
CATEGORIES:Gottesdienste
END:VEVENT
BEGIN:VEVENT
DTSTART;TZID=Europe/Zurich:20240218T084500
DTEND;TZID=Europe/Zurich:20240218T084500
DTSTAMP:20260425T124214
CREATED:20231114T100922Z
LAST-MODIFIED:20231114T133526Z
UID:43912-1708245900-1708245900@www.se-ma.ch
SUMMARY:Niederglatt: Kommunionfeier
DESCRIPTION:
URL:https://www.se-ma.ch/event/niederglatt-kommunionfeier-5/
LOCATION:Felix + Regula Kirche Niederglatt\, Niederglatt\, 9240\, Schweiz
CATEGORIES:Gottesdienste
END:VEVENT
BEGIN:VEVENT
DTSTART;TZID=Europe/Zurich:20240218T093000
DTEND;TZID=Europe/Zurich:20240218T093000
DTSTAMP:20260425T124214
CREATED:20231114T133234Z
LAST-MODIFIED:20231114T133234Z
UID:44029-1708248600-1708248600@www.se-ma.ch
SUMMARY:Flawil: Eucharistiefeier in Spanisch
DESCRIPTION:
URL:https://www.se-ma.ch/event/flawil-eucharistiefeier-in-spanisch-29/
LOCATION:Kapelle St. Laurentius Flawil\, Enzenbühlstrasse 20\, Flawil\, 9230\, Schweiz
CATEGORIES:Gottesdienste
END:VEVENT
BEGIN:VEVENT
DTSTART;TZID=Europe/Zurich:20240218T101500
DTEND;TZID=Europe/Zurich:20240218T101500
DTSTAMP:20260425T124214
CREATED:20231114T141630Z
LAST-MODIFIED:20240110T152733Z
UID:44092-1708251300-1708251300@www.se-ma.ch
SUMMARY:Flawil: Ökum. Gottesdienst im Feld
DESCRIPTION:zur Fastenaktion\, \nab 12.00 Uhr Suppentag im Lindensaal
URL:https://www.se-ma.ch/event/flawil-oekum-gottesdienst-im-feld/
LOCATION:Ref. Kirche Feld\, Flawil\, 9230\, Schweiz
CATEGORIES:Anlässe und Veranstaltungen,Gottesdienste,Kinder und Familien
END:VEVENT
BEGIN:VEVENT
DTSTART;TZID=Europe/Zurich:20240218T101500
DTEND;TZID=Europe/Zurich:20240218T101500
DTSTAMP:20260425T124214
CREATED:20231114T141809Z
LAST-MODIFIED:20240110T152853Z
UID:44094-1708251300-1708251300@www.se-ma.ch
SUMMARY:Flawil: Kinder-Weltgebetstag im Zwinglisaal der ref. Kirche
DESCRIPTION:gemeinsamer Start in der Kirche \nab 12.00 Uhr Suppentag im Lindensaal
URL:https://www.se-ma.ch/event/flawil-kinder-weltgebetstag-in-der-kirche-feld/
LOCATION:Ref. Kirche Feld\, Flawil\, 9230\, Schweiz
CATEGORIES:Gottesdienste,Kinder und Familien
END:VEVENT
BEGIN:VEVENT
DTSTART;TZID=Europe/Zurich:20240218T101500
DTEND;TZID=Europe/Zurich:20240218T101500
DTSTAMP:20260425T124214
CREATED:20240214T153649Z
LAST-MODIFIED:20240214T153649Z
UID:45487-1708251300-1708251300@www.se-ma.ch
SUMMARY:Flawil: Begegnungsfeier
DESCRIPTION:Im Rahmen des Kinder-Weltgebettages. Für Kinder bis zur 4. Klasse. Anschliessen Suppenzmittag im Lindensaal \nFlyer Begegnungsfeier
URL:https://www.se-ma.ch/event/flawil-begegnungsfeier-4/
LOCATION:Zwinglisaal Flawil\, Lindenstrasse 6B\, Flawil\, SG\, 9230\, Schweiz
CATEGORIES:Gottesdienste,Kinder und Familien
END:VEVENT
BEGIN:VEVENT
DTSTART;TZID=Europe/Zurich:20240218T173000
DTEND;TZID=Europe/Zurich:20240218T183000
DTSTAMP:20260425T124214
CREATED:20231018T075723Z
LAST-MODIFIED:20231018T080005Z
UID:43526-1708277400-1708281000@www.se-ma.ch
SUMMARY:Degersheim: Abendlob zur Fastenzeit
DESCRIPTION:
URL:https://www.se-ma.ch/event/degersheim-abendlob-zur-fastenzeit/
LOCATION:Jakobuskirche Kapelle Degersheim\, Bergstrasse 10\, Degersheim\, St. Gallen\, 9113\, Schweiz
CATEGORIES:Gottesdienste
END:VEVENT
BEGIN:VEVENT
DTSTART;TZID=Europe/Zurich:20240219T190000
DTEND;TZID=Europe/Zurich:20240219T190000
DTSTAMP:20260425T124214
CREATED:20240219T065334Z
LAST-MODIFIED:20240219T065417Z
UID:45557-1708369200-1708369200@www.se-ma.ch
SUMMARY:Flawil: b'treff - Mitgliederversammlung
DESCRIPTION:BBFrances\, Franziska Berger\, lässt uns während der Mitgliederversammlung des Vereins b‘treff immer wieder in ihre Musik eintauchen. Auch Nichtmitglieder sind natürlich herzlich willkommen. \nFlyer
URL:https://www.se-ma.ch/event/flawil-btreff-mitgliederversammlung/
LOCATION:Zwinglisaal Flawil\, Lindenstrasse 6B\, Flawil\, SG\, 9230\, Schweiz
CATEGORIES:Anlässe und Veranstaltungen
END:VEVENT
BEGIN:VEVENT
DTSTART;TZID=Europe/Zurich:20240219T193000
DTEND;TZID=Europe/Zurich:20240219T203000
DTSTAMP:20260425T124214
CREATED:20230919T092301Z
LAST-MODIFIED:20230919T092301Z
UID:42994-1708371000-1708374600@www.se-ma.ch
SUMMARY:Degersheim: Schweigemeditation
DESCRIPTION:In der Kapelle der Kath. Kirche St. Jakobus werden wir gemeinsam meditieren. Alle Interessierten\, unabhängig von Konfession oder Kirchennähe\, sind dazu herzlich eingeladen. \nFür Auskünfte steht Walter Germann gerne zur Verfügung: T 071 371 29 38.
URL:https://www.se-ma.ch/event/degersheim-schweigemeditation-13/
LOCATION:Jakobuskirche Kapelle Degersheim\, Bergstrasse 10\, Degersheim\, St. Gallen\, 9113\, Schweiz
CATEGORIES:Anlässe und Veranstaltungen
END:VEVENT
END:VCALENDAR