BEGIN:VCALENDAR
VERSION:2.0
PRODID:-//Seelsorgeeinheit Magdenau - ECPv6.15.20//NONSGML v1.0//EN
CALSCALE:GREGORIAN
METHOD:PUBLISH
X-WR-CALNAME:Seelsorgeeinheit Magdenau
X-ORIGINAL-URL:https://www.se-ma.ch
X-WR-CALDESC:Veranstaltungen für Seelsorgeeinheit Magdenau
REFRESH-INTERVAL;VALUE=DURATION:PT1H
X-Robots-Tag:noindex
X-PUBLISHED-TTL:PT1H
BEGIN:VTIMEZONE
TZID:Europe/Zurich
BEGIN:DAYLIGHT
TZOFFSETFROM:+0100
TZOFFSETTO:+0200
TZNAME:CEST
DTSTART:20230326T010000
END:DAYLIGHT
BEGIN:STANDARD
TZOFFSETFROM:+0200
TZOFFSETTO:+0100
TZNAME:CET
DTSTART:20231029T010000
END:STANDARD
BEGIN:DAYLIGHT
TZOFFSETFROM:+0100
TZOFFSETTO:+0200
TZNAME:CEST
DTSTART:20240331T010000
END:DAYLIGHT
BEGIN:STANDARD
TZOFFSETFROM:+0200
TZOFFSETTO:+0100
TZNAME:CET
DTSTART:20241027T010000
END:STANDARD
BEGIN:DAYLIGHT
TZOFFSETFROM:+0100
TZOFFSETTO:+0200
TZNAME:CEST
DTSTART:20250330T010000
END:DAYLIGHT
BEGIN:STANDARD
TZOFFSETFROM:+0200
TZOFFSETTO:+0100
TZNAME:CET
DTSTART:20251026T010000
END:STANDARD
END:VTIMEZONE
BEGIN:VEVENT
DTSTART;TZID=Europe/Zurich:20240401T103000
DTEND;TZID=Europe/Zurich:20240401T103000
DTSTAMP:20260423T023238
CREATED:20240328T100037Z
LAST-MODIFIED:20240328T100037Z
UID:46435-1711967400-1711967400@www.se-ma.ch
SUMMARY:Niederglatt: Erstkommunion in Bichwil
DESCRIPTION:in der kath. Kirche
URL:https://www.se-ma.ch/event/niederglatt-erstkommunion-in-bichwil/
LOCATION:Kirche Bichwil
CATEGORIES:Gottesdienste,Kinder und Familien
END:VEVENT
BEGIN:VEVENT
DTSTART;TZID=Europe/Zurich:20240403T183000
DTEND;TZID=Europe/Zurich:20240403T183000
DTSTAMP:20260423T023238
CREATED:20240328T100302Z
LAST-MODIFIED:20240328T131326Z
UID:46440-1712169000-1712169000@www.se-ma.ch
SUMMARY:Niederglatt: Frauengemeinschaft - Racletteplausch
DESCRIPTION:
URL:https://www.se-ma.ch/event/niederglatt-frauengemeinschaft-racletteplausch/
LOCATION:Pavillon Niederglatt
CATEGORIES:Anlässe und Veranstaltungen
END:VEVENT
BEGIN:VEVENT
DTSTART;TZID=Europe/Zurich:20240404T150000
DTEND;TZID=Europe/Zurich:20240404T163000
DTSTAMP:20260423T023238
CREATED:20231211T064306Z
LAST-MODIFIED:20231211T064306Z
UID:44503-1712242800-1712248200@www.se-ma.ch
SUMMARY:Trauercafé
DESCRIPTION:Das Trauercafé bietet Angehörigen die Möglichkeit\, über das Erlebte zu sprechen und sich mit anderen Betroffenen auszutauschen. Es ist keine Anmeldung nötig. \nHomepage Ökum. Hospizgruppe Flawil
URL:https://www.se-ma.ch/event/trauercafe-13/
LOCATION:Haus 5egg\, Bahnhofstrasse 33\, Flawil\, St. Gallen\, 9230\, Schweiz
CATEGORIES:Anlässe und Veranstaltungen
END:VEVENT
BEGIN:VEVENT
DTSTART;TZID=Europe/Zurich:20240405T183000
DTEND;TZID=Europe/Zurich:20240405T200000
DTSTAMP:20260423T023238
CREATED:20231107T122930Z
LAST-MODIFIED:20231107T122930Z
UID:43846-1712341800-1712347200@www.se-ma.ch
SUMMARY:Degersheim: Zämägang
DESCRIPTION:für einander da sein \nzusammen statt alleine \nHast du Lust\, mit mir und hoffentlich anderen Menschen zusammen zu sein? Dann komm einfach mit. \nVielleicht kennst du Menschen\, denen das freundliche und interessierte Miteinander gut tun würde. Mache sie aufmerksam auf dieses Angebot oder bring sie gleich selbst mit! \nEs braucht keine Anmeldung! \nTreffpunkt beim Parkplatz Föhrenwäldli Degersheim! \nIch freue mich auf dich! \nSilvan Hollenstein\, Seelsorger\, Tel. 079 743 73 89
URL:https://www.se-ma.ch/event/degersheim-zaemaegang-9/
LOCATION:Föhrenwäldli\, Berg 1\, Degersheim\, 9113 \, Schweiz
CATEGORIES:Anlässe und Veranstaltungen
END:VEVENT
BEGIN:VEVENT
DTSTART;TZID=Europe/Zurich:20240406T173000
DTEND;TZID=Europe/Zurich:20240406T183000
DTSTAMP:20260423T023238
CREATED:20231018T073556Z
LAST-MODIFIED:20231018T073556Z
UID:43506-1712424600-1712428200@www.se-ma.ch
SUMMARY:Degersheim: Eucharistiefeier
DESCRIPTION:
URL:https://www.se-ma.ch/event/degersheim-eucharistiefeier-15/
LOCATION:Jakobuskirche Degersheim\, Bergstrasse 10\, Degersheim\, 9113\, Schweiz
CATEGORIES:Gottesdienste
END:VEVENT
BEGIN:VEVENT
DTSTART;TZID=Europe/Zurich:20240407T084500
DTEND;TZID=Europe/Zurich:20240407T084500
DTSTAMP:20260423T023238
CREATED:20231114T101613Z
LAST-MODIFIED:20231114T133829Z
UID:43922-1712479500-1712479500@www.se-ma.ch
SUMMARY:Niederglatt: Kommunionfeier
DESCRIPTION:
URL:https://www.se-ma.ch/event/niederglatt-kommunionfeier-7/
LOCATION:Felix + Regula Kirche Niederglatt\, Niederglatt\, 9240\, Schweiz
CATEGORIES:Gottesdienste
END:VEVENT
BEGIN:VEVENT
DTSTART;TZID=Europe/Zurich:20240407T093000
DTEND;TZID=Europe/Zurich:20240407T093000
DTSTAMP:20260423T023238
CREATED:20231114T132546Z
LAST-MODIFIED:20231114T132546Z
UID:43993-1712482200-1712482200@www.se-ma.ch
SUMMARY:Flawil: Eucharistiefeier in Spanisch
DESCRIPTION:ab 9.00 Uhr Beichtgelegenheit
URL:https://www.se-ma.ch/event/flawil-eucharistiefeier-in-spanisch-12/
LOCATION:Kapelle St. Laurentius Flawil\, Enzenbühlstrasse 20\, Flawil\, 9230\, Schweiz
CATEGORIES:Gottesdienste
END:VEVENT
BEGIN:VEVENT
DTSTART;TZID=Europe/Zurich:20240407T100000
DTEND;TZID=Europe/Zurich:20240407T100000
DTSTAMP:20260423T023238
CREATED:20231115T102047Z
LAST-MODIFIED:20231121T064528Z
UID:44117-1712484000-1712484000@www.se-ma.ch
SUMMARY:Flawil: Erstkommunion
DESCRIPTION:Mit der Harmoniemusik Flawil
URL:https://www.se-ma.ch/event/flawil-erstkommunion/
LOCATION:Kirche St. Laurentius Flawil\, Enzenbühlstrasse 20\, Flawil\, 9230\, Schweiz
CATEGORIES:Gottesdienste,Kinder und Familien
END:VEVENT
BEGIN:VEVENT
DTSTART;TZID=Europe/Zurich:20240409T143000
DTEND;TZID=Europe/Zurich:20240409T163000
DTSTAMP:20260423T023238
CREATED:20240328T132134Z
LAST-MODIFIED:20240328T132156Z
UID:46462-1712673000-1712680200@www.se-ma.ch
SUMMARY:Frauengemeinschaft Flawil - Kafi-Treff
DESCRIPTION:Wer hat am Nachmittag Lust und freie Zeit\, um sich mit anderen Frauen der Frauengemeinschaft auszutauschen? \n14.30 bis 16.30 Uhr\, Restaurant 5egg
URL:https://www.se-ma.ch/event/frauengemeinschaft-flawil-kafi-treff/
LOCATION:Restaurant 5egg\, Oberdorfstrasse 5\, 9230 Flawil\, 9230\, Schweiz
CATEGORIES:Anlässe und Veranstaltungen
END:VEVENT
BEGIN:VEVENT
DTSTART;TZID=Europe/Zurich:20240413T163000
DTEND;TZID=Europe/Zurich:20240413T180000
DTSTAMP:20260423T023238
CREATED:20231018T073712Z
LAST-MODIFIED:20240409T091912Z
UID:43508-1713025800-1713031200@www.se-ma.ch
SUMMARY:Degersheim: Gottesdienscht bi de Lüüt
DESCRIPTION:Wir laden Sie herzlich zum Gottesdienscht bi de Lüüt\, dieses Mal ins Tertianum Steinegg ein. \nAchtung: Deshalb findet kein Gottesdienst um 17.30 Uhr in der Jakobuskirche statt.
URL:https://www.se-ma.ch/event/degersheim-gottesdienscht-bi-de-lueuet/
LOCATION:Altersheim Steinegg\, Kirchweg 8\, Degersheim\, 9113\, Schweiz
CATEGORIES:Gottesdienste
END:VEVENT
BEGIN:VEVENT
DTSTART;TZID=Europe/Zurich:20240413T173000
DTEND;TZID=Europe/Zurich:20240413T173000
DTSTAMP:20260423T023238
CREATED:20231114T102838Z
LAST-MODIFIED:20231114T103553Z
UID:43944-1713029400-1713029400@www.se-ma.ch
SUMMARY:Flawil: Eucharistiefeier in Portugiesisch
DESCRIPTION:
URL:https://www.se-ma.ch/event/flawil-eucharistiefeier-in-portugiesisch-7/
LOCATION:Kapelle St. Laurentius Flawil\, Enzenbühlstrasse 20\, Flawil\, 9230\, Schweiz
CATEGORIES:Gottesdienste
END:VEVENT
BEGIN:VEVENT
DTSTART;VALUE=DATE:20240414
DTEND;VALUE=DATE:20240420
DTSTAMP:20260423T023238
CREATED:20240328T100129Z
LAST-MODIFIED:20240328T100139Z
UID:46437-1713052800-1713571199@www.se-ma.ch
SUMMARY:Firmweg Flawil-Niederglatt: Firmreise nach Assisi
DESCRIPTION:
URL:https://www.se-ma.ch/event/firmweg-flawil-niederglatt-firmreise/
CATEGORIES:Anlässe und Veranstaltungen
END:VEVENT
BEGIN:VEVENT
DTSTART;TZID=Europe/Zurich:20240414T084500
DTEND;TZID=Europe/Zurich:20240414T084500
DTSTAMP:20260423T023238
CREATED:20231213T163328Z
LAST-MODIFIED:20231213T163328Z
UID:44637-1713084300-1713084300@www.se-ma.ch
SUMMARY:Wolfertswil: Kommunionfeier
DESCRIPTION:
URL:https://www.se-ma.ch/event/wolfertswil-kommunionfeier/
LOCATION:Kirche Bruder Klaus\, Wolfertswil\, 9116
CATEGORIES:Gottesdienste
END:VEVENT
BEGIN:VEVENT
DTSTART;TZID=Europe/Zurich:20240414T101500
DTEND;TZID=Europe/Zurich:20240414T101500
DTSTAMP:20260423T023238
CREATED:20231115T102145Z
LAST-MODIFIED:20231115T102145Z
UID:44119-1713089700-1713089700@www.se-ma.ch
SUMMARY:Flawil: Kommunionfeier
DESCRIPTION:
URL:https://www.se-ma.ch/event/flawil-kommunionfeier-17/
LOCATION:Kirche St. Laurentius Flawil\, Enzenbühlstrasse 20\, Flawil\, 9230\, Schweiz
CATEGORIES:Gottesdienste
END:VEVENT
BEGIN:VEVENT
DTSTART;TZID=Europe/Zurich:20240415T080000
DTEND;TZID=Europe/Zurich:20240420T170000
DTSTAMP:20260423T023238
CREATED:20231205T143016Z
LAST-MODIFIED:20231205T143016Z
UID:44396-1713168000-1713632400@www.se-ma.ch
SUMMARY:Degersheim: ökum. Seniorenferien in Girlan (Südtirol)
DESCRIPTION:Im Hotel Madelhof\, Girlan (Südtirol) \nCarchauffeur / Reiseleiter: Hans Martin Enz\, Anmeldung bis 15. Januar 2024 an: \nSekretariat der Evang. Kirchgemeinde Degersheim\, Steineggstrasse 12\, 9113 Degersheim\, Telefon 071 370 07 80.
URL:https://www.se-ma.ch/event/degersheim-oekum-seniorenferien-in-girlan-suedtirol/
LOCATION:Girlan (Südtirol)\, Italien
CATEGORIES:Anlässe und Veranstaltungen
END:VEVENT
BEGIN:VEVENT
DTSTART;TZID=Europe/Zurich:20240417T143000
DTEND;TZID=Europe/Zurich:20240417T143000
DTSTAMP:20260423T023238
CREATED:20240117T080114Z
LAST-MODIFIED:20240119T122447Z
UID:44988-1713364200-1713364200@www.se-ma.ch
SUMMARY:Flawil: SEMAplus Senioren
DESCRIPTION:Seniorennachmittag im Pfarreizentrum \nZaubereien mit Klaus Gremminger \nJahresprogramm
URL:https://www.se-ma.ch/event/flawil-semaplus-senioren-4/
LOCATION:Pfarreizentrum Flawil\, Enzenbühlstrasse 16\, Flawil\, 9230\, Schweiz
END:VEVENT
BEGIN:VEVENT
DTSTART;TZID=Europe/Zurich:20240420T173000
DTEND;TZID=Europe/Zurich:20240420T183000
DTSTAMP:20260423T023238
CREATED:20231018T073812Z
LAST-MODIFIED:20231018T073812Z
UID:43510-1713634200-1713637800@www.se-ma.ch
SUMMARY:Degersheim: Eucharistiefeier
DESCRIPTION:
URL:https://www.se-ma.ch/event/degersheim-eucharistiefeier-16/
LOCATION:Jakobuskirche Degersheim\, Bergstrasse 10\, Degersheim\, 9113\, Schweiz
CATEGORIES:Gottesdienste
END:VEVENT
BEGIN:VEVENT
DTSTART;TZID=Europe/Zurich:20240421T084500
DTEND;TZID=Europe/Zurich:20240421T084500
DTSTAMP:20260423T023238
CREATED:20231114T101656Z
LAST-MODIFIED:20231114T133856Z
UID:43924-1713689100-1713689100@www.se-ma.ch
SUMMARY:Niederglatt: Eucharistiefeier
DESCRIPTION:
URL:https://www.se-ma.ch/event/niederglatt-eucharistiefeier-7/
LOCATION:Felix + Regula Kirche Niederglatt\, Niederglatt\, 9240\, Schweiz
CATEGORIES:Gottesdienste
END:VEVENT
BEGIN:VEVENT
DTSTART;TZID=Europe/Zurich:20240421T083000
DTEND;TZID=Europe/Zurich:20240421T083000
DTSTAMP:20260423T023238
CREATED:20231114T135139Z
LAST-MODIFIED:20231114T135139Z
UID:44062-1713688200-1713688200@www.se-ma.ch
SUMMARY:Eucharistiefeier in Italienisch
DESCRIPTION:
URL:https://www.se-ma.ch/event/eucharistiefeier-in-italienisch-38/
LOCATION:Kapelle St. Laurentius Flawil\, Enzenbühlstrasse 20\, Flawil\, 9230\, Schweiz
CATEGORIES:Gottesdienste
END:VEVENT
BEGIN:VEVENT
DTSTART;TZID=Europe/Zurich:20240421T093000
DTEND;TZID=Europe/Zurich:20240421T093000
DTSTAMP:20260423T023238
CREATED:20231114T133156Z
LAST-MODIFIED:20231114T133156Z
UID:44025-1713691800-1713691800@www.se-ma.ch
SUMMARY:Flawil: Eucharistiefeier in Spanisch
DESCRIPTION:
URL:https://www.se-ma.ch/event/flawil-eucharistiefeier-in-spanisch-27/
LOCATION:Kapelle St. Laurentius Flawil\, Enzenbühlstrasse 20\, Flawil\, 9230\, Schweiz
CATEGORIES:Gottesdienste
END:VEVENT
BEGIN:VEVENT
DTSTART;TZID=Europe/Zurich:20240421T101500
DTEND;TZID=Europe/Zurich:20240421T101500
DTSTAMP:20260423T023238
CREATED:20231115T102345Z
LAST-MODIFIED:20231115T102345Z
UID:44121-1713694500-1713694500@www.se-ma.ch
SUMMARY:Flawil: Eucharistiefeier
DESCRIPTION:mit Verabschiedung von Margrit und Hampi Schildknecht\, anschliessend Apéro
URL:https://www.se-ma.ch/event/flawil-eucharistiefeier-9/
LOCATION:Kirche St. Laurentius Flawil\, Enzenbühlstrasse 20\, Flawil\, 9230\, Schweiz
CATEGORIES:Anlässe und Veranstaltungen,Gottesdienste
END:VEVENT
BEGIN:VEVENT
DTSTART;TZID=Europe/Zurich:20240422T193000
DTEND;TZID=Europe/Zurich:20240422T203000
DTSTAMP:20260423T023238
CREATED:20230919T093040Z
LAST-MODIFIED:20240416T080402Z
UID:43009-1713814200-1713817800@www.se-ma.ch
SUMMARY:Degersheim: Schweigemeditation
DESCRIPTION:Im Chorraum der Kath. Kirche St. Jakobus werden wir gemeinsam meditieren. Alle Interessierten\, unabhängig von Konfession oder Kirchennähe\, sind dazu herzlich eingeladen. \nFür Auskünfte steht Walter Germann gerne zur Verfügung: T 071 371 29 38.
URL:https://www.se-ma.ch/event/degersheim-schweigemeditation-19/
LOCATION:Jakobuskirche Degersheim\, Bergstrasse 10\, Degersheim\, 9113\, Schweiz
CATEGORIES:Anlässe und Veranstaltungen
END:VEVENT
BEGIN:VEVENT
DTSTART;TZID=Europe/Zurich:20240424T114500
DTEND;TZID=Europe/Zurich:20240424T140000
DTSTAMP:20260423T023238
CREATED:20240112T081527Z
LAST-MODIFIED:20240228T073337Z
UID:44933-1713959100-1713967200@www.se-ma.ch
SUMMARY:Degersheim: zämä ässä
DESCRIPTION:Wir freuen uns über alle\, die Lust haben\, gemeinsam zu essen\, zu geniessen und zu plaudern. Ein bunt zusammengewürfeltes Küchenteam kocht und serviert speziell für Sie! Der Preis beträgt Fr. 10.00. Bitte geben Sie bei der Anmeldung an\, falls Sie vegetarisch essen möchten! Anmeldung bitte jeweils bis spätestens am Freitag bis 11.00 Uhr\, vor dem „zämä ässä“ an: \nhc.am-esobfsctd-12af37@miehsreged-tairaterkes oder Tel. 071 371 10 17
URL:https://www.se-ma.ch/event/degersheim-zaemae-aessae-4/
LOCATION:Pfarreiheim
CATEGORIES:Anlässe und Veranstaltungen
END:VEVENT
BEGIN:VEVENT
DTSTART;TZID=Europe/Zurich:20240425T113000
DTEND;TZID=Europe/Zurich:20240425T140000
DTSTAMP:20260423T023238
CREATED:20231130T081422Z
LAST-MODIFIED:20231130T081422Z
UID:44307-1714044600-1714053600@www.se-ma.ch
SUMMARY:Flawil: Mittagstisch
DESCRIPTION:Flyer Mittagstisch 2024
URL:https://www.se-ma.ch/event/flawil-mittagstisch-3/
LOCATION:Pfarreizentrum Flawil\, Enzenbühlstrasse 16\, Flawil\, 9230\, Schweiz
CATEGORIES:Anlässe und Veranstaltungen
END:VEVENT
BEGIN:VEVENT
DTSTART;TZID=Europe/Zurich:20240425T190000
DTEND;TZID=Europe/Zurich:20240425T190000
DTSTAMP:20260423T023238
CREATED:20240308T093449Z
LAST-MODIFIED:20240318T091855Z
UID:46100-1714071600-1714071600@www.se-ma.ch
SUMMARY:Flawiler Friedensgebet
DESCRIPTION:In Flawil treffen sich Angehörige verschiedener Konfessionen zum Friedensgebet im U-Zimmer der Kirche Feld. \nDaten Friedensgebet
URL:https://www.se-ma.ch/event/flawiler-friedensgebet-16/
LOCATION:Ref. Kirche Feld\, Flawil\, 9230\, Schweiz
CATEGORIES:Anlässe und Veranstaltungen,Gottesdienste
END:VEVENT
BEGIN:VEVENT
DTSTART;TZID=Europe/Zurich:20240425T190000
DTEND;TZID=Europe/Zurich:20240425T200000
DTSTAMP:20260423T023238
CREATED:20231212T135129Z
LAST-MODIFIED:20231212T135129Z
UID:44534-1714071600-1714075200@www.se-ma.ch
SUMMARY:Degersheim: Friedensgebet
DESCRIPTION:Wir beten für den Frieden in unserer Welt.
URL:https://www.se-ma.ch/event/degersheim-friedensgebet-9/
LOCATION:Jakobuskirche Kapelle Degersheim\, Bergstrasse 10\, Degersheim\, St. Gallen\, 9113\, Schweiz
CATEGORIES:Anlässe und Veranstaltungen
END:VEVENT
BEGIN:VEVENT
DTSTART;TZID=Europe/Zurich:20240425T193000
DTEND;TZID=Europe/Zurich:20240425T193000
DTSTAMP:20260423T023238
CREATED:20240328T100451Z
LAST-MODIFIED:20240328T100504Z
UID:46442-1714073400-1714073400@www.se-ma.ch
SUMMARY:Flawil: SEMA-Frauengemeinschaften - Vortrag
DESCRIPTION:«Unterwegs zum Leben» mit der Hebamme Luzia Brand
URL:https://www.se-ma.ch/event/flawil-sema-frauengemeinschaften-vortrag/
LOCATION:Pfarreizentrum Flawil\, Enzenbühlstrasse 16\, Flawil\, 9230\, Schweiz
END:VEVENT
BEGIN:VEVENT
DTSTART;TZID=Europe/Zurich:20240425T193000
DTEND;TZID=Europe/Zurich:20240425T235900
DTSTAMP:20260423T023238
CREATED:20240117T094419Z
LAST-MODIFIED:20240117T094419Z
UID:45020-1714073400-1714089540@www.se-ma.ch
SUMMARY:Niederglatt: Frauengemeinschaft
DESCRIPTION:SEMA Vortrag :  Hebamme aus Libingen «unterwegs zum Leben» \n19.30 Uhr\, Pfarreizentrum Flawil \nJahresprogramm 2024
URL:https://www.se-ma.ch/event/niederglatt-frauengemeinschaft-5/
LOCATION:Pfarreizentrum Flawil\, Enzenbühlstrasse 16\, Flawil\, 9230\, Schweiz
END:VEVENT
BEGIN:VEVENT
DTSTART;TZID=Europe/Zurich:20240426T193000
DTEND;TZID=Europe/Zurich:20240426T203000
DTSTAMP:20260423T023238
CREATED:20230905T144040Z
LAST-MODIFIED:20230905T144040Z
UID:42709-1714159800-1714163400@www.se-ma.ch
SUMMARY:Degersheim: Taizé Singen
DESCRIPTION:Wir singen gemeinsam Taizé-Lieder und werden dazu musikalisch begleitet. Eingeladen sind alle\, die mitsingen oder einfach die Stimmung geniessen möchten.
URL:https://www.se-ma.ch/event/degersheim-taize-singen-2/
LOCATION:Jakobuskirche Kapelle Degersheim\, Bergstrasse 10\, Degersheim\, St. Gallen\, 9113\, Schweiz
CATEGORIES:Gottesdienste
END:VEVENT
BEGIN:VEVENT
DTSTART;TZID=Europe/Zurich:20240427T093000
DTEND;TZID=Europe/Zurich:20240427T100000
DTSTAMP:20260423T023238
CREATED:20230601T123942Z
LAST-MODIFIED:20230601T124809Z
UID:41497-1714210200-1714212000@www.se-ma.ch
SUMMARY:Flawil: ökumenische Chinderfiir
DESCRIPTION:  \nDie Chinderfiir richtet sich an Kinder ab 3 Jahren und ihre erwachsenen Begleitpersonen. Während einer halben Stunde machen wir uns mit den Kindern und ihren erwachsenen Begleitpersonen auf den Weg\, den christlichen Glauben mit Musik\, einer Geschichte\, Spiel und Spass zu entdecken. \nFlyer Chinderfiir
URL:https://www.se-ma.ch/event/chinderfiir-oekumenische-feier-in-flawil-10/
LOCATION:Kirche St. Laurentius Flawil\, Enzenbühlstrasse 20\, Flawil\, 9230\, Schweiz
CATEGORIES:Gottesdienste,Kinder und Familien
END:VEVENT
END:VCALENDAR