BEGIN:VCALENDAR
VERSION:2.0
PRODID:-//Seelsorgeeinheit Magdenau - ECPv6.15.20//NONSGML v1.0//EN
CALSCALE:GREGORIAN
METHOD:PUBLISH
X-WR-CALNAME:Seelsorgeeinheit Magdenau
X-ORIGINAL-URL:https://www.se-ma.ch
X-WR-CALDESC:Veranstaltungen für Seelsorgeeinheit Magdenau
REFRESH-INTERVAL;VALUE=DURATION:PT1H
X-Robots-Tag:noindex
X-PUBLISHED-TTL:PT1H
BEGIN:VTIMEZONE
TZID:Europe/Zurich
BEGIN:DAYLIGHT
TZOFFSETFROM:+0100
TZOFFSETTO:+0200
TZNAME:CEST
DTSTART:20230326T010000
END:DAYLIGHT
BEGIN:STANDARD
TZOFFSETFROM:+0200
TZOFFSETTO:+0100
TZNAME:CET
DTSTART:20231029T010000
END:STANDARD
BEGIN:DAYLIGHT
TZOFFSETFROM:+0100
TZOFFSETTO:+0200
TZNAME:CEST
DTSTART:20240331T010000
END:DAYLIGHT
BEGIN:STANDARD
TZOFFSETFROM:+0200
TZOFFSETTO:+0100
TZNAME:CET
DTSTART:20241027T010000
END:STANDARD
BEGIN:DAYLIGHT
TZOFFSETFROM:+0100
TZOFFSETTO:+0200
TZNAME:CEST
DTSTART:20250330T010000
END:DAYLIGHT
BEGIN:STANDARD
TZOFFSETFROM:+0200
TZOFFSETTO:+0100
TZNAME:CET
DTSTART:20251026T010000
END:STANDARD
END:VTIMEZONE
BEGIN:VEVENT
DTSTART;TZID=Europe/Zurich:20240502T150000
DTEND;TZID=Europe/Zurich:20240502T163000
DTSTAMP:20260423T012023
CREATED:20231211T064612Z
LAST-MODIFIED:20231211T064612Z
UID:44507-1714662000-1714667400@www.se-ma.ch
SUMMARY:Trauercafé
DESCRIPTION:Das Trauercafé bietet Angehörigen die Möglichkeit\, über das Erlebte zu sprechen und sich mit anderen Betroffenen auszutauschen. Es ist keine Anmeldung nötig. \nHomepage Ökum. Hospizgruppe Flawil
URL:https://www.se-ma.ch/event/trauercafe-15/
LOCATION:Haus 5egg\, Bahnhofstrasse 33\, Flawil\, St. Gallen\, 9230\, Schweiz
CATEGORIES:Anlässe und Veranstaltungen
END:VEVENT
BEGIN:VEVENT
DTSTART;TZID=Europe/Zurich:20240503T183000
DTEND;TZID=Europe/Zurich:20240503T200000
DTSTAMP:20260423T012023
CREATED:20231107T123030Z
LAST-MODIFIED:20231107T123030Z
UID:43848-1714761000-1714766400@www.se-ma.ch
SUMMARY:Degersheim: Zämägang
DESCRIPTION:für einander da sein \nzusammen statt alleine \nHast du Lust\, mit mir und hoffentlich anderen Menschen zusammen zu sein? Dann komm einfach mit. \nVielleicht kennst du Menschen\, denen das freundliche und interessierte Miteinander gut tun würde. Mache sie aufmerksam auf dieses Angebot oder bring sie gleich selbst mit! \nEs braucht keine Anmeldung! \nTreffpunkt beim Parkplatz Föhrenwäldli Degersheim! \nIch freue mich auf dich! \nSilvan Hollenstein\, Seelsorger\, Tel. 079 743 73 89
URL:https://www.se-ma.ch/event/degersheim-zaemaegang-10/
LOCATION:Föhrenwäldli\, Berg 1\, Degersheim\, 9113 \, Schweiz
CATEGORIES:Anlässe und Veranstaltungen
END:VEVENT
BEGIN:VEVENT
DTSTART;TZID=Europe/Zurich:20240504T090000
DTEND;TZID=Europe/Zurich:20240504T110000
DTSTAMP:20260423T012023
CREATED:20240422T060516Z
LAST-MODIFIED:20240422T060516Z
UID:46829-1714813200-1714820400@www.se-ma.ch
SUMMARY:Familientreff Flawil: Papi-Kind-Abenteuer
DESCRIPTION:Homepage Familientreff
URL:https://www.se-ma.ch/event/familientreff-flawil-papi-kind-abenteuer/
CATEGORIES:Anlässe und Veranstaltungen,Kinder und Familien
END:VEVENT
BEGIN:VEVENT
DTSTART;TZID=Europe/Zurich:20240504T160000
DTEND;TZID=Europe/Zurich:20240504T180000
DTSTAMP:20260423T012023
CREATED:20230321T150020Z
LAST-MODIFIED:20240126T100918Z
UID:40148-1714838400-1714845600@www.se-ma.ch
SUMMARY:Wolfertswil: Firmung Degersheim-Wolfertswil
DESCRIPTION:Bischof Markus wird den jungen Erwachsenen die Firmung spenden.
URL:https://www.se-ma.ch/event/firmung-degersheim-wolfertswil-in-degersheim/
LOCATION:Bruder Klaus Kirche Wolfertswil\, Wolfertswil\, 9116 \, Schweiz
CATEGORIES:Gottesdienste
END:VEVENT
BEGIN:VEVENT
DTSTART;TZID=Europe/Zurich:20240505T084500
DTEND;TZID=Europe/Zurich:20240505T084500
DTSTAMP:20260423T012023
CREATED:20231114T102159Z
LAST-MODIFIED:20231114T133926Z
UID:43930-1714898700-1714898700@www.se-ma.ch
SUMMARY:Niederglatt: Eucharistiefeier mit Kirchenchor Flawil
DESCRIPTION:
URL:https://www.se-ma.ch/event/niederglatt-eucharistiefeier-mit-kirchenchor-flawil/
LOCATION:Felix + Regula Kirche Niederglatt\, Niederglatt\, 9240\, Schweiz
CATEGORIES:Gottesdienste
END:VEVENT
BEGIN:VEVENT
DTSTART;TZID=Europe/Zurich:20240505T093000
DTEND;TZID=Europe/Zurich:20240505T093000
DTSTAMP:20260423T012023
CREATED:20231114T132605Z
LAST-MODIFIED:20231114T132605Z
UID:43995-1714901400-1714901400@www.se-ma.ch
SUMMARY:Flawil: Eucharistiefeier in Spanisch
DESCRIPTION:ab 9.00 Uhr Beichtgelegenheit
URL:https://www.se-ma.ch/event/flawil-eucharistiefeier-in-spanisch-13/
LOCATION:Kapelle St. Laurentius Flawil\, Enzenbühlstrasse 20\, Flawil\, 9230\, Schweiz
CATEGORIES:Gottesdienste
END:VEVENT
BEGIN:VEVENT
DTSTART;TZID=Europe/Zurich:20240505T101500
DTEND;TZID=Europe/Zurich:20240505T101500
DTSTAMP:20260423T012023
CREATED:20231115T102546Z
LAST-MODIFIED:20231115T102546Z
UID:44125-1714904100-1714904100@www.se-ma.ch
SUMMARY:Flawil: Eucharistiefeier mit Kirchenchor
DESCRIPTION:
URL:https://www.se-ma.ch/event/flawil-eucharistiefeier-mit-kirchenchor/
LOCATION:Kirche St. Laurentius Flawil\, Enzenbühlstrasse 20\, Flawil\, 9230\, Schweiz
CATEGORIES:Gottesdienste
END:VEVENT
BEGIN:VEVENT
DTSTART;TZID=Europe/Zurich:20240505T190000
DTEND;TZID=Europe/Zurich:20240505T200000
DTSTAMP:20260423T012023
CREATED:20231018T074255Z
LAST-MODIFIED:20231018T074255Z
UID:43515-1714935600-1714939200@www.se-ma.ch
SUMMARY:Degersheim: Abendlob im Mai
DESCRIPTION:
URL:https://www.se-ma.ch/event/degersheim-abendlob-im-mai/
LOCATION:Jakobuskirche Kapelle Degersheim\, Bergstrasse 10\, Degersheim\, St. Gallen\, 9113\, Schweiz
CATEGORIES:Gottesdienste
END:VEVENT
BEGIN:VEVENT
DTSTART;TZID=Europe/Zurich:20240505T193000
DTEND;TZID=Europe/Zurich:20240505T203000
DTSTAMP:20260423T012023
CREATED:20231222T104743Z
LAST-MODIFIED:20240110T101745Z
UID:44718-1714937400-1714941000@www.se-ma.ch
SUMMARY:Degersheim: Buurebund - Bittgottesdienst
DESCRIPTION:mit Pfarrer Sepp Manser
URL:https://www.se-ma.ch/event/degersheim-buurebund-bitgottesdienst/
LOCATION:Jakobuskirche Degersheim\, Bergstrasse 10\, Degersheim\, 9113\, Schweiz
CATEGORIES:Gottesdienste
END:VEVENT
BEGIN:VEVENT
DTSTART;TZID=Europe/Zurich:20240506T190000
DTEND;TZID=Europe/Zurich:20240506T190000
DTSTAMP:20260423T012023
CREATED:20240117T094700Z
LAST-MODIFIED:20240117T094700Z
UID:45024-1715022000-1715022000@www.se-ma.ch
SUMMARY:Niederglatt: Frauengemeinschaft
DESCRIPTION:Besinnliche Mai-Wanderung\num 19.00 Uhr\, Besammlung in Niederglatt\ndanach gemütliches Beisammensein \nJahresprogramm 2024
URL:https://www.se-ma.ch/event/niederglatt-frauengemeinschaft-7/
END:VEVENT
BEGIN:VEVENT
DTSTART;TZID=Europe/Zurich:20240506T194500
DTEND;TZID=Europe/Zurich:20240506T204500
DTSTAMP:20260423T012023
CREATED:20230919T093445Z
LAST-MODIFIED:20240207T094438Z
UID:43013-1715024700-1715028300@www.se-ma.ch
SUMMARY:Degersheim: Schweigemeditation
DESCRIPTION:Im Chorraum der Kath. Kirche St. Jakobus werden wir gemeinsam meditieren. Alle Interessierten\, unabhängig von Konfession oder Kirchennähe\, sind dazu herzlich eingeladen. \nFür Auskünfte steht Walter Germann gerne zur Verfügung: T 071 371 29 38.
URL:https://www.se-ma.ch/event/degersheim-schweigemeditation-21/
LOCATION:Jakobuskirche Degersheim\, Bergstrasse 10\, Degersheim\, 9113\, Schweiz
CATEGORIES:Anlässe und Veranstaltungen
END:VEVENT
BEGIN:VEVENT
DTSTART;TZID=Europe/Zurich:20240509T101500
DTEND;TZID=Europe/Zurich:20240509T101500
DTSTAMP:20260423T012023
CREATED:20240126T124102Z
LAST-MODIFIED:20240507T084013Z
UID:45260-1715249700-1715249700@www.se-ma.ch
SUMMARY:Wolfertswil: SEMA-Familiengottesdienst zu Christi Himmelfahrt\, mit Schwyzerörgeli vom Züche und Stosse
DESCRIPTION:findet wegen niedrigen Temperaturen und Nässe in der Kirche Bruder Klaus statt
URL:https://www.se-ma.ch/event/wolfertswil-sema-festgottesdienst-zu-auffahrt-b-schoenem-wetter-im-boehlwaeldli-sonst-i-d-kirche/
LOCATION:Kirche Bruder Klaus\, Wolfertswil\, 9116
CATEGORIES:Gottesdienste
END:VEVENT
BEGIN:VEVENT
DTSTART;TZID=Europe/Zurich:20240510T080000
DTEND;TZID=Europe/Zurich:20240510T170000
DTSTAMP:20260423T012023
CREATED:20240507T084755Z
LAST-MODIFIED:20240507T134712Z
UID:47182-1715328000-1715360400@www.se-ma.ch
SUMMARY:SEMA: Die Sekretariate bleiben heute geschlossen!
DESCRIPTION:In dringenden Fällen melden Sie sich übers Notfalltelefon 071 393 14 14.
URL:https://www.se-ma.ch/event/degersheim-und-wolfertswil-die-sekretariate-bleiben-heute-geschlossen-2/
LOCATION:kath. Pfarramt Degersheim\, Friedbergstrasse 2\, 9113 Degersheim\, 9113\, Schweiz
CATEGORIES:Anlässe und Veranstaltungen
END:VEVENT
BEGIN:VEVENT
DTSTART;TZID=Europe/Zurich:20240511T173000
DTEND;TZID=Europe/Zurich:20240511T183000
DTSTAMP:20260423T012023
CREATED:20231018T074150Z
LAST-MODIFIED:20231018T074150Z
UID:43513-1715448600-1715452200@www.se-ma.ch
SUMMARY:Degersheim: Kommunionfeier
DESCRIPTION:
URL:https://www.se-ma.ch/event/degersheim-kommunionfeier-12/
LOCATION:Jakobuskirche Degersheim\, Bergstrasse 10\, Degersheim\, 9113\, Schweiz
CATEGORIES:Gottesdienste
END:VEVENT
BEGIN:VEVENT
DTSTART;TZID=Europe/Zurich:20240511T200000
DTEND;TZID=Europe/Zurich:20240511T200000
DTSTAMP:20260423T012023
CREATED:20231114T103056Z
LAST-MODIFIED:20231114T103056Z
UID:43948-1715457600-1715457600@www.se-ma.ch
SUMMARY:Flawil: Eucharistiefeier in Portugiesisch
DESCRIPTION:Fatima-Prozession\, anschliessend Apéro im Pfarreizentrum
URL:https://www.se-ma.ch/event/flawil-eucharistiefeier-in-portugiesisch-9/
LOCATION:Kapelle St. Laurentius Flawil\, Enzenbühlstrasse 20\, Flawil\, 9230\, Schweiz
CATEGORIES:Gottesdienste
END:VEVENT
BEGIN:VEVENT
DTSTART;TZID=Europe/Zurich:20240512T084500
DTEND;TZID=Europe/Zurich:20240512T084500
DTSTAMP:20260423T012023
CREATED:20231114T101850Z
LAST-MODIFIED:20231114T134007Z
UID:43926-1715503500-1715503500@www.se-ma.ch
SUMMARY:Niederglatt: Kommunionfeier
DESCRIPTION:
URL:https://www.se-ma.ch/event/niederglatt-kommunionfeier-8/
LOCATION:Felix + Regula Kirche Niederglatt\, Niederglatt\, 9240\, Schweiz
CATEGORIES:Gottesdienste
END:VEVENT
BEGIN:VEVENT
DTSTART;TZID=Europe/Zurich:20240512T090000
DTEND;TZID=Europe/Zurich:20240512T090000
DTSTAMP:20260423T012023
CREATED:20231114T134708Z
LAST-MODIFIED:20231114T134744Z
UID:44040-1715504400-1715504400@www.se-ma.ch
SUMMARY:Eucharistiefeier in Italienisch
DESCRIPTION:
URL:https://www.se-ma.ch/event/eucharistiefeier-in-italienisch-27/
LOCATION:Kapelle St. Laurentius Flawil\, Enzenbühlstrasse 20\, Flawil\, 9230\, Schweiz
CATEGORIES:Gottesdienste
END:VEVENT
BEGIN:VEVENT
DTSTART;TZID=Europe/Zurich:20240512T101500
DTEND;TZID=Europe/Zurich:20240512T101500
DTSTAMP:20260423T012023
CREATED:20231115T102630Z
LAST-MODIFIED:20231115T102630Z
UID:44127-1715508900-1715508900@www.se-ma.ch
SUMMARY:Flawil: Kommunionfeier
DESCRIPTION:
URL:https://www.se-ma.ch/event/flawil-kommunionfeier-18/
LOCATION:Kirche St. Laurentius Flawil\, Enzenbühlstrasse 20\, Flawil\, 9230\, Schweiz
CATEGORIES:Gottesdienste
END:VEVENT
BEGIN:VEVENT
DTSTART;TZID=Europe/Zurich:20240512T190000
DTEND;TZID=Europe/Zurich:20240512T200000
DTSTAMP:20260423T012023
CREATED:20231018T074352Z
LAST-MODIFIED:20231018T074352Z
UID:43517-1715540400-1715544000@www.se-ma.ch
SUMMARY:Degersheim: Abendlob im Mai
DESCRIPTION:
URL:https://www.se-ma.ch/event/degersheim-abendlob-im-mai-2/
LOCATION:Jakobuskirche Kapelle Degersheim\, Bergstrasse 10\, Degersheim\, St. Gallen\, 9113\, Schweiz
CATEGORIES:Gottesdienste
END:VEVENT
BEGIN:VEVENT
DTSTART;TZID=Europe/Zurich:20240513T194500
DTEND;TZID=Europe/Zurich:20240513T204500
DTSTAMP:20260423T012023
CREATED:20230919T093552Z
LAST-MODIFIED:20240207T094535Z
UID:43015-1715629500-1715633100@www.se-ma.ch
SUMMARY:Degersheim: Schweigemeditation
DESCRIPTION:Im Chorraum der Kath. Kirche St. Jakobus werden wir gemeinsam meditieren. Alle Interessierten\, unabhängig von Konfession oder Kirchennähe\, sind dazu herzlich eingeladen. \nFür Auskünfte steht Walter Germann gerne zur Verfügung: T 071 371 29 38.
URL:https://www.se-ma.ch/event/degersheim-schweigemeditation-22/
LOCATION:Jakobuskirche Degersheim\, Bergstrasse 10\, Degersheim\, 9113\, Schweiz
CATEGORIES:Anlässe und Veranstaltungen
END:VEVENT
BEGIN:VEVENT
DTSTART;TZID=Europe/Zurich:20240515T143000
DTEND;TZID=Europe/Zurich:20240515T143000
DTSTAMP:20260423T012023
CREATED:20240117T080152Z
LAST-MODIFIED:20240422T060749Z
UID:44990-1715783400-1715783400@www.se-ma.ch
SUMMARY:Flawil: SEMAplus Senioren und Kolpingfamilie
DESCRIPTION:Maiandacht in der Kapelle \nJahresprogramm SEMAplus
URL:https://www.se-ma.ch/event/flawil-semaplus-senioren-5/
LOCATION:Kapelle St. Laurentius Flawil\, Enzenbühlstrasse 20\, Flawil\, 9230\, Schweiz
CATEGORIES:Anlässe und Veranstaltungen
END:VEVENT
BEGIN:VEVENT
DTSTART;TZID=Europe/Zurich:20240515T190000
DTEND;TZID=Europe/Zurich:20240515T190000
DTSTAMP:20260423T012023
CREATED:20240117T094756Z
LAST-MODIFIED:20240422T060126Z
UID:45026-1715799600-1715799600@www.se-ma.ch
SUMMARY:Niederglatt: Frauengemeinschaft
DESCRIPTION:Maiandacht der SEMA\num 19.00 Uhr\, in Degersheim \nJahresprogramm 2024
URL:https://www.se-ma.ch/event/niederglatt-frauengemeinschaft-8/
LOCATION:Jakobuskirche Kapelle Degersheim\, Bergstrasse 10\, Degersheim\, St. Gallen\, 9113\, Schweiz
END:VEVENT
BEGIN:VEVENT
DTSTART;TZID=Europe/Zurich:20240516T113000
DTEND;TZID=Europe/Zurich:20240516T140000
DTSTAMP:20260423T012023
CREATED:20231130T081447Z
LAST-MODIFIED:20231130T081447Z
UID:44309-1715859000-1715868000@www.se-ma.ch
SUMMARY:Flawil: Mittagstisch
DESCRIPTION:Flyer Mittagstisch 2024
URL:https://www.se-ma.ch/event/flawil-mittagstisch-4/
LOCATION:Pfarreizentrum Flawil\, Enzenbühlstrasse 16\, Flawil\, 9230\, Schweiz
CATEGORIES:Anlässe und Veranstaltungen
END:VEVENT
BEGIN:VEVENT
DTSTART;TZID=Europe/Zurich:20240516T190000
DTEND;TZID=Europe/Zurich:20240516T190000
DTSTAMP:20260423T012023
CREATED:20240308T093629Z
LAST-MODIFIED:20240318T092046Z
UID:46104-1715886000-1715886000@www.se-ma.ch
SUMMARY:Flawiler Friedensgebet
DESCRIPTION:In Flawil treffen sich Angehörige verschiedener Konfessionen zum Friedensgebet in der meth. Kirche an der Riedernstrasse. \nDaten Friedensgebet
URL:https://www.se-ma.ch/event/flawiler-friedensgebet-28/
LOCATION:Evangelisch-methodistische Kirche\, Riedernstrasse 13\, Flawil\, 9230\, Schweiz
CATEGORIES:Anlässe und Veranstaltungen,Gottesdienste
END:VEVENT
BEGIN:VEVENT
DTSTART;TZID=Europe/Zurich:20240516T190000
DTEND;TZID=Europe/Zurich:20240516T200000
DTSTAMP:20260423T012023
CREATED:20231212T135231Z
LAST-MODIFIED:20231212T135231Z
UID:44536-1715886000-1715889600@www.se-ma.ch
SUMMARY:Degersheim: Friedensgebet
DESCRIPTION:Wir beten für den Frieden in unserer Welt.
URL:https://www.se-ma.ch/event/degersheim-friedensgebet-10/
LOCATION:Jakobuskirche Kapelle Degersheim\, Bergstrasse 10\, Degersheim\, St. Gallen\, 9113\, Schweiz
CATEGORIES:Anlässe und Veranstaltungen
END:VEVENT
BEGIN:VEVENT
DTSTART;TZID=Europe/Zurich:20240519T084500
DTEND;TZID=Europe/Zurich:20240519T084500
DTSTAMP:20260423T012023
CREATED:20240208T103117Z
LAST-MODIFIED:20240412T083535Z
UID:45349-1716108300-1716108300@www.se-ma.ch
SUMMARY:Wolfertswil: Eucharistiefeier zu Pfingsten mit Taufe
DESCRIPTION:
URL:https://www.se-ma.ch/event/wolfertswil-eucharistiefeier-zu-pfingsten/
LOCATION:Kirche Bruder Klaus\, Wolfertswil\, 9116
CATEGORIES:Gottesdienste
END:VEVENT
BEGIN:VEVENT
DTSTART;TZID=Europe/Zurich:20240519T093000
DTEND;TZID=Europe/Zurich:20240519T093000
DTSTAMP:20260423T012023
CREATED:20231114T133133Z
LAST-MODIFIED:20231114T133133Z
UID:44023-1716111000-1716111000@www.se-ma.ch
SUMMARY:Flawil: Eucharistiefeier in Spanisch
DESCRIPTION:
URL:https://www.se-ma.ch/event/flawil-eucharistiefeier-in-spanisch-26/
LOCATION:Kapelle St. Laurentius Flawil\, Enzenbühlstrasse 20\, Flawil\, 9230\, Schweiz
CATEGORIES:Gottesdienste
END:VEVENT
BEGIN:VEVENT
DTSTART;TZID=Europe/Zurich:20240519T101500
DTEND;TZID=Europe/Zurich:20240519T101500
DTSTAMP:20260423T012023
CREATED:20231115T102729Z
LAST-MODIFIED:20231115T102729Z
UID:44129-1716113700-1716113700@www.se-ma.ch
SUMMARY:Flawil: Eucharistiefeier zu Pfingsten
DESCRIPTION:
URL:https://www.se-ma.ch/event/flawil-eucharistiefeier-zu-pfingsten/
LOCATION:Kirche St. Laurentius Flawil\, Enzenbühlstrasse 20\, Flawil\, 9230\, Schweiz
CATEGORIES:Gottesdienste
END:VEVENT
BEGIN:VEVENT
DTSTART;TZID=Europe/Zurich:20240519T101500
DTEND;TZID=Europe/Zurich:20240519T123000
DTSTAMP:20260423T012023
CREATED:20221216T064958Z
LAST-MODIFIED:20240507T083601Z
UID:38180-1716113700-1716121800@www.se-ma.ch
SUMMARY:Degersheim: Eucharistiefeier Fest-Gottesdienst zu Pfingsten
DESCRIPTION:mit den Kirchenchören Degersheim und Flawil\, anschliessend sind alle zum Apéro eingeladen!
URL:https://www.se-ma.ch/event/jakobusfest-in-degersheim/
LOCATION:Jakobuskirche Degersheim\, Bergstrasse 10\, Degersheim\, 9113\, Schweiz
CATEGORIES:Anlässe und Veranstaltungen,Gottesdienste
END:VEVENT
BEGIN:VEVENT
DTSTART;TZID=Europe/Zurich:20240519T190000
DTEND;TZID=Europe/Zurich:20240519T190000
DTSTAMP:20260423T012023
CREATED:20240208T103412Z
LAST-MODIFIED:20240208T115549Z
UID:45351-1716145200-1716145200@www.se-ma.ch
SUMMARY:Magdenau: Maiandacht
DESCRIPTION:
URL:https://www.se-ma.ch/event/magdenau-maiandacht/
LOCATION:Kirche St. Verena Magdenau\, St. Verena 929\, Wolfertswil\, 9116\, Schweiz
CATEGORIES:Gottesdienste
END:VEVENT
END:VCALENDAR