BEGIN:VCALENDAR
VERSION:2.0
PRODID:-//Seelsorgeeinheit Magdenau - ECPv6.15.20//NONSGML v1.0//EN
CALSCALE:GREGORIAN
METHOD:PUBLISH
X-WR-CALNAME:Seelsorgeeinheit Magdenau
X-ORIGINAL-URL:https://www.se-ma.ch
X-WR-CALDESC:Veranstaltungen für Seelsorgeeinheit Magdenau
REFRESH-INTERVAL;VALUE=DURATION:PT1H
X-Robots-Tag:noindex
X-PUBLISHED-TTL:PT1H
BEGIN:VTIMEZONE
TZID:Europe/Zurich
BEGIN:DAYLIGHT
TZOFFSETFROM:+0100
TZOFFSETTO:+0200
TZNAME:CEST
DTSTART:20230326T010000
END:DAYLIGHT
BEGIN:STANDARD
TZOFFSETFROM:+0200
TZOFFSETTO:+0100
TZNAME:CET
DTSTART:20231029T010000
END:STANDARD
BEGIN:DAYLIGHT
TZOFFSETFROM:+0100
TZOFFSETTO:+0200
TZNAME:CEST
DTSTART:20240331T010000
END:DAYLIGHT
BEGIN:STANDARD
TZOFFSETFROM:+0200
TZOFFSETTO:+0100
TZNAME:CET
DTSTART:20241027T010000
END:STANDARD
BEGIN:DAYLIGHT
TZOFFSETFROM:+0100
TZOFFSETTO:+0200
TZNAME:CEST
DTSTART:20250330T010000
END:DAYLIGHT
BEGIN:STANDARD
TZOFFSETFROM:+0200
TZOFFSETTO:+0100
TZNAME:CET
DTSTART:20251026T010000
END:STANDARD
END:VTIMEZONE
BEGIN:VEVENT
DTSTART;VALUE=DATE:20240601
DTEND;VALUE=DATE:20240602
DTSTAMP:20260422T235812
CREATED:20240117T094849Z
LAST-MODIFIED:20240117T094849Z
UID:45028-1717200000-1717286399@www.se-ma.ch
SUMMARY:Niederglatt: Frauengemeinschaft
DESCRIPTION:Vereinsausflug:\nBesuch Lindt & Sprüngli\, Schifffahrt\, flanieren und geniessen in Rapperswil \nJahresprogramm 2024
URL:https://www.se-ma.ch/event/niederglatt-frauengemeinschaft-9/
END:VEVENT
BEGIN:VEVENT
DTSTART;TZID=Europe/Zurich:20240601T100000
DTEND;TZID=Europe/Zurich:20240601T120000
DTSTAMP:20260422T235812
CREATED:20230926T084452Z
LAST-MODIFIED:20230926T084452Z
UID:43203-1717236000-1717243200@www.se-ma.ch
SUMMARY:Degersheim: ökum. Chinderchile
DESCRIPTION:Die Gestaltung des Programms ist auf die Fähigkeiten von Kindern im Alter von 3 -6 Jahren mit ihren Begleitpersonen ausgerichtet. \nIm Anschluss an die Feier geniessen wir das gemütliche Zusammensein im Pfarreiheim.
URL:https://www.se-ma.ch/event/degersheim-oekum-chinderchile-5/
LOCATION:Pfarreiheim
CATEGORIES:Kinder und Familien
END:VEVENT
BEGIN:VEVENT
DTSTART;TZID=Europe/Zurich:20240601T173000
DTEND;TZID=Europe/Zurich:20240601T183000
DTSTAMP:20260422T235812
CREATED:20240327T094226Z
LAST-MODIFIED:20240513T083504Z
UID:46385-1717263000-1717266600@www.se-ma.ch
SUMMARY:Degersheim: Eucharistiefeier
DESCRIPTION:Frohnleichnam
URL:https://www.se-ma.ch/event/degersheim-kommunionfeier-13/
LOCATION:Jakobuskirche Degersheim\, Bergstrasse 10\, Degersheim\, 9113\, Schweiz
CATEGORIES:Gottesdienste
END:VEVENT
BEGIN:VEVENT
DTSTART;TZID=Europe/Zurich:20240602T084500
DTEND;TZID=Europe/Zurich:20240602T084500
DTSTAMP:20260422T235812
CREATED:20240208T103840Z
LAST-MODIFIED:20240513T083444Z
UID:45353-1717317900-1717317900@www.se-ma.ch
SUMMARY:Wolfertswil: Eucharistiefeier
DESCRIPTION:
URL:https://www.se-ma.ch/event/wolfertswil-kommunionfeier-2/
CATEGORIES:Gottesdienste
END:VEVENT
BEGIN:VEVENT
DTSTART;TZID=Europe/Zurich:20240602T093000
DTEND;TZID=Europe/Zurich:20240602T093000
DTSTAMP:20260422T235812
CREATED:20231114T132625Z
LAST-MODIFIED:20231114T132625Z
UID:43997-1717320600-1717320600@www.se-ma.ch
SUMMARY:Flawil: Eucharistiefeier in Spanisch
DESCRIPTION:ab 9.00 Uhr Beichtgelegenheit
URL:https://www.se-ma.ch/event/flawil-eucharistiefeier-in-spanisch-14/
LOCATION:Kapelle St. Laurentius Flawil\, Enzenbühlstrasse 20\, Flawil\, 9230\, Schweiz
CATEGORIES:Gottesdienste
END:VEVENT
BEGIN:VEVENT
DTSTART;TZID=Europe/Zurich:20240602T101500
DTEND;TZID=Europe/Zurich:20240602T101500
DTSTAMP:20260422T235812
CREATED:20231115T102815Z
LAST-MODIFIED:20240513T083418Z
UID:44131-1717323300-1717323300@www.se-ma.ch
SUMMARY:Flawil: Eucharistiefeier
DESCRIPTION:
URL:https://www.se-ma.ch/event/flawil-kommunionfeier-19/
LOCATION:Kirche St. Laurentius Flawil\, Enzenbühlstrasse 20\, Flawil\, 9230\, Schweiz
CATEGORIES:Gottesdienste
END:VEVENT
BEGIN:VEVENT
DTSTART;TZID=Europe/Zurich:20240603T193000
DTEND;TZID=Europe/Zurich:20240603T203000
DTSTAMP:20260422T235812
CREATED:20230919T093829Z
LAST-MODIFIED:20230919T093829Z
UID:43019-1717443000-1717446600@www.se-ma.ch
SUMMARY:Degersheim: Schweigemeditation
DESCRIPTION:Im Chorraum der Kath. Kirche St. Jakobus werden wir gemeinsam meditieren. Alle Interessierten\, unabhängig von Konfession oder Kirchennähe\, sind dazu herzlich eingeladen. \nFür Auskünfte steht Walter Germann gerne zur Verfügung: T 071 371 29 38.
URL:https://www.se-ma.ch/event/degersheim-schweigemeditation-24/
LOCATION:Jakobuskirche Degersheim\, Bergstrasse 10\, Degersheim\, 9113\, Schweiz
CATEGORIES:Anlässe und Veranstaltungen
END:VEVENT
BEGIN:VEVENT
DTSTART;TZID=Europe/Zurich:20240604T143000
DTEND;TZID=Europe/Zurich:20240604T143000
DTSTAMP:20260422T235812
CREATED:20240117T080610Z
LAST-MODIFIED:20240119T122619Z
UID:44992-1717511400-1717511400@www.se-ma.ch
SUMMARY:Flawil: SEMAplus Senioren
DESCRIPTION:Ökumenischer Seniorennachmittag im Zwinglisaal \nFilm-Nachmittag mit Beat Schiltknecht \nJahresprogramm
URL:https://www.se-ma.ch/event/flawil-semaplus-senioren-6/
LOCATION:Zwinglisaal Flawil\, Lindenstrasse 6B\, Flawil\, SG\, 9230\, Schweiz
END:VEVENT
BEGIN:VEVENT
DTSTART;TZID=Europe/Zurich:20240606T150000
DTEND;TZID=Europe/Zurich:20240606T163000
DTSTAMP:20260422T235812
CREATED:20231211T064339Z
LAST-MODIFIED:20231211T064339Z
UID:44505-1717686000-1717691400@www.se-ma.ch
SUMMARY:Trauercafé
DESCRIPTION:Das Trauercafé bietet Angehörigen die Möglichkeit\, über das Erlebte zu sprechen und sich mit anderen Betroffenen auszutauschen. Es ist keine Anmeldung nötig. \nHomepage Ökum. Hospizgruppe Flawil
URL:https://www.se-ma.ch/event/trauercafe-14/
LOCATION:Haus 5egg\, Bahnhofstrasse 33\, Flawil\, St. Gallen\, 9230\, Schweiz
CATEGORIES:Anlässe und Veranstaltungen
END:VEVENT
BEGIN:VEVENT
DTSTART;TZID=Europe/Zurich:20240607T180000
DTEND;TZID=Europe/Zurich:20240607T210000
DTSTAMP:20260422T235812
CREATED:20240529T090620Z
LAST-MODIFIED:20240529T090701Z
UID:47527-1717783200-1717794000@www.se-ma.ch
SUMMARY:SEMA: Regionaler Mini-Anlass
DESCRIPTION:Die Animationsstelle kirchliche Jugendarbeit Thurland lädt alle Minis der umliegenden Seelsorgeeinheiten zum XXL-Leiterlispiel ein.
URL:https://www.se-ma.ch/event/sema-regionaler-mini-anlass/
LOCATION:Kirche Bruder Klaus\, Wolfertswil\, 9116
CATEGORIES:Anlässe und Veranstaltungen,Kinder und Familien
END:VEVENT
BEGIN:VEVENT
DTSTART;TZID=Europe/Zurich:20240607T183000
DTEND;TZID=Europe/Zurich:20240607T200000
DTSTAMP:20260422T235812
CREATED:20231107T123129Z
LAST-MODIFIED:20231107T123129Z
UID:43850-1717785000-1717790400@www.se-ma.ch
SUMMARY:Degersheim: Zämägang
DESCRIPTION:für einander da sein \nzusammen statt alleine \nHast du Lust\, mit mir und hoffentlich anderen Menschen zusammen zu sein? Dann komm einfach mit. \nVielleicht kennst du Menschen\, denen das freundliche und interessierte Miteinander gut tun würde. Mache sie aufmerksam auf dieses Angebot oder bring sie gleich selbst mit! \nEs braucht keine Anmeldung! \nTreffpunkt beim Parkplatz Föhrenwäldli Degersheim! \nIch freue mich auf dich! \nSilvan Hollenstein\, Seelsorger\, Tel. 079 743 73 89
URL:https://www.se-ma.ch/event/degersheim-zaemaegang-11/
LOCATION:Föhrenwäldli\, Berg 1\, Degersheim\, 9113 \, Schweiz
CATEGORIES:Anlässe und Veranstaltungen
END:VEVENT
BEGIN:VEVENT
DTSTART;TZID=Europe/Zurich:20240608T110000
DTEND;TZID=Europe/Zurich:20240608T153000
DTSTAMP:20260422T235812
CREATED:20240529T090924Z
LAST-MODIFIED:20240529T090924Z
UID:47532-1717844400-1717860600@www.se-ma.ch
SUMMARY:Flawil: b'treff-Fest
DESCRIPTION:Ein Fest für Gross und Klein mit Kinderprogramm\, Musik mit dem Duo Sams und einem Verpflegungsangebot mit Grill und Salaten\, einem feinen Kuchenbuffet und Getränken.
URL:https://www.se-ma.ch/event/flawil-btreff-fest/
LOCATION:Bahnhofplatz\, Bahnhofplatz 4\, Flawil\, 9230\, Schweiz
CATEGORIES:Anlässe und Veranstaltungen,Kinder und Familien
END:VEVENT
BEGIN:VEVENT
DTSTART;TZID=Europe/Zurich:20240608T170000
DTEND;TZID=Europe/Zurich:20240608T170000
DTSTAMP:20260422T235812
CREATED:20231115T102913Z
LAST-MODIFIED:20231115T102913Z
UID:44133-1717866000-1717866000@www.se-ma.ch
SUMMARY:Flawil: Firmung mit Bischof Markus Büchel
DESCRIPTION:
URL:https://www.se-ma.ch/event/flawil-firmung-mit-bischof-markus-buechel/
LOCATION:Kirche St. Laurentius Flawil\, Enzenbühlstrasse 20\, Flawil\, 9230\, Schweiz
CATEGORIES:Gottesdienste,Kinder und Familien
END:VEVENT
BEGIN:VEVENT
DTSTART;TZID=Europe/Zurich:20240608T173000
DTEND;TZID=Europe/Zurich:20240608T173000
DTSTAMP:20260422T235812
CREATED:20231114T103854Z
LAST-MODIFIED:20231114T103854Z
UID:43954-1717867800-1717867800@www.se-ma.ch
SUMMARY:Flawil: Eucharistiefeier in Portugiesisch
DESCRIPTION:
URL:https://www.se-ma.ch/event/flawil-eucharistiefeier-in-portugiesisch-10/
LOCATION:Kapelle St. Laurentius Flawil\, Enzenbühlstrasse 20\, Flawil\, 9230\, Schweiz
CATEGORIES:Gottesdienste
END:VEVENT
BEGIN:VEVENT
DTSTART;TZID=Europe/Zurich:20240608T173000
DTEND;TZID=Europe/Zurich:20240608T183000
DTSTAMP:20260422T235812
CREATED:20240327T094400Z
LAST-MODIFIED:20240327T094400Z
UID:46387-1717867800-1717871400@www.se-ma.ch
SUMMARY:Degersheim: Eucharistiefeier
DESCRIPTION:
URL:https://www.se-ma.ch/event/degersheim-eucharistiefeier-19/
LOCATION:Jakobuskirche Degersheim\, Bergstrasse 10\, Degersheim\, 9113\, Schweiz
CATEGORIES:Gottesdienste
END:VEVENT
BEGIN:VEVENT
DTSTART;TZID=Europe/Zurich:20240609T084500
DTEND;TZID=Europe/Zurich:20240609T084500
DTSTAMP:20260422T235812
CREATED:20240304T133959Z
LAST-MODIFIED:20240304T133959Z
UID:45699-1717922700-1717922700@www.se-ma.ch
SUMMARY:Niederglatt: Grotten-Gottesdienst\, Eucharistiefeier
DESCRIPTION:mit den Betti Players\, Apéro
URL:https://www.se-ma.ch/event/niederglatt-grotten-gottesdienst-eucharistiefeier/
LOCATION:Felix + Regula Kirche Niederglatt\, Niederglatt\, 9240\, Schweiz
CATEGORIES:Gottesdienste,Kinder und Familien
END:VEVENT
BEGIN:VEVENT
DTSTART;TZID=Europe/Zurich:20240609T090000
DTEND;TZID=Europe/Zurich:20240609T090000
DTSTAMP:20260422T235812
CREATED:20231114T134806Z
LAST-MODIFIED:20231114T134806Z
UID:44042-1717923600-1717923600@www.se-ma.ch
SUMMARY:Eucharistiefeier in Italienisch
DESCRIPTION:
URL:https://www.se-ma.ch/event/eucharistiefeier-in-italienisch-28/
LOCATION:Kapelle St. Laurentius Flawil\, Enzenbühlstrasse 20\, Flawil\, 9230\, Schweiz
CATEGORIES:Gottesdienste
END:VEVENT
BEGIN:VEVENT
DTSTART;TZID=Europe/Zurich:20240609T101500
DTEND;TZID=Europe/Zurich:20240609T101500
DTSTAMP:20260422T235812
CREATED:20231115T102441Z
LAST-MODIFIED:20240328T132540Z
UID:44123-1717928100-1717928100@www.se-ma.ch
SUMMARY:Flawil: Eucharistiefeier mit Menschen mit Beeinträchtigung
DESCRIPTION:
URL:https://www.se-ma.ch/event/flawil-kommunionfeier-mit-menschen-mit-beeintraechtigung/
LOCATION:Kirche St. Laurentius Flawil\, Enzenbühlstrasse 20\, Flawil\, 9230\, Schweiz
CATEGORIES:Gottesdienste
END:VEVENT
BEGIN:VEVENT
DTSTART;TZID=Europe/Zurich:20240609T101500
DTEND;TZID=Europe/Zurich:20240609T101500
DTSTAMP:20260422T235812
CREATED:20240304T134543Z
LAST-MODIFIED:20240304T134543Z
UID:45711-1717928100-1717928100@www.se-ma.ch
SUMMARY:Flawil: Eucharistiefeier
DESCRIPTION:
URL:https://www.se-ma.ch/event/flawil-eucharistiefeier-12/
LOCATION:Kirche St. Laurentius Flawil\, Enzenbühlstrasse 20\, Flawil\, 9230\, Schweiz
CATEGORIES:Gottesdienste
END:VEVENT
BEGIN:VEVENT
DTSTART;TZID=Europe/Zurich:20240610T193000
DTEND;TZID=Europe/Zurich:20240610T203000
DTSTAMP:20260422T235812
CREATED:20230919T094031Z
LAST-MODIFIED:20230919T094031Z
UID:43021-1718047800-1718051400@www.se-ma.ch
SUMMARY:Degersheim: Schweigemeditation
DESCRIPTION:Im Chorraum der Kath. Kirche St. Jakobus werden wir gemeinsam meditieren. Alle Interessierten\, unabhängig von Konfession oder Kirchennähe\, sind dazu herzlich eingeladen. \nFür Auskünfte steht Walter Germann gerne zur Verfügung: T 071 371 29 38.
URL:https://www.se-ma.ch/event/degersheim-schweigemeditation-25/
LOCATION:Jakobuskirche Degersheim\, Bergstrasse 10\, Degersheim\, 9113\, Schweiz
CATEGORIES:Anlässe und Veranstaltungen
END:VEVENT
BEGIN:VEVENT
DTSTART;TZID=Europe/Zurich:20240612T143000
DTEND;TZID=Europe/Zurich:20240612T163000
DTSTAMP:20260422T235812
CREATED:20231205T143638Z
LAST-MODIFIED:20231205T143638Z
UID:44400-1718202600-1718209800@www.se-ma.ch
SUMMARY:Degersheim: ökum. Seniorennachmittag
DESCRIPTION:„Leben mit Demenz“ \nUnterstützung\, Enlastungsangebote und Vorsorgemöglichkeiten für Betroffene und Angehörige. \nReferent: Andrin Zeller\, Sozialarbeiter bei der Pro Senectute Region Gossau – Mitwirkung Verantwortliche vom Tertianum Feldegg.
URL:https://www.se-ma.ch/event/degersheim-oekum-seniorennachmittag-2/
LOCATION:Pfarreiheim
CATEGORIES:Anlässe und Veranstaltungen
END:VEVENT
BEGIN:VEVENT
DTSTART;TZID=Europe/Zurich:20240613T190000
DTEND;TZID=Europe/Zurich:20240613T190000
DTSTAMP:20260422T235812
CREATED:20240308T093345Z
LAST-MODIFIED:20240318T092232Z
UID:46098-1718305200-1718305200@www.se-ma.ch
SUMMARY:Flawiler Friedensgebet
DESCRIPTION:In Flawil treffen sich Angehörige verschiedener Konfessionen zum Friedensgebet in der kath. Kapelle. \nDaten Friedensgebet
URL:https://www.se-ma.ch/event/flawiler-friedensgebet-15/
LOCATION:Kapelle St. Laurentius Flawil\, Enzenbühlstrasse 20\, Flawil\, 9230\, Schweiz
CATEGORIES:Anlässe und Veranstaltungen,Gottesdienste
END:VEVENT
BEGIN:VEVENT
DTSTART;VALUE=DATE:20240615
DTEND;VALUE=DATE:20240617
DTSTAMP:20260422T235812
CREATED:20240422T061154Z
LAST-MODIFIED:20240422T061236Z
UID:46832-1718409600-1718582399@www.se-ma.ch
SUMMARY:Jugendarbeit: Power-Up-Weekend
DESCRIPTION:Für: Jugendliche ab 12 Jahren\nKosten: Fr. 40.–\nWeitere Infos und Anmeldung bis 12. Juni
URL:https://www.se-ma.ch/event/jugendarbeit-power-up-weekend/
CATEGORIES:Anlässe und Veranstaltungen
END:VEVENT
BEGIN:VEVENT
DTSTART;TZID=Europe/Zurich:20240615T093000
DTEND;TZID=Europe/Zurich:20240615T100000
DTSTAMP:20260422T235812
CREATED:20230601T123854Z
LAST-MODIFIED:20230601T124844Z
UID:41495-1718443800-1718445600@www.se-ma.ch
SUMMARY:Flawil: ökumenische Chinderfiir
DESCRIPTION:  \nDie Chinderfiir richtet sich an Kinder ab 3 Jahren und ihre erwachsenen Begleitpersonen. Während einer halben Stunde machen wir uns mit den Kindern und ihren erwachsenen Begleitpersonen auf den Weg\, den christlichen Glauben mit Musik\, einer Geschichte\, Spiel und Spass zu entdecken. \nFlyer Chinderfiir
URL:https://www.se-ma.ch/event/chinderfiir-oekumenische-feier-in-flawil-9/
LOCATION:Zwinglisaal Flawil\, Lindenstrasse 6B\, Flawil\, SG\, 9230\, Schweiz
CATEGORIES:Gottesdienste,Kinder und Familien
END:VEVENT
BEGIN:VEVENT
DTSTART;TZID=Europe/Zurich:20240615T150000
DTEND;TZID=Europe/Zurich:20240615T220000
DTSTAMP:20260422T235812
CREATED:20240529T091759Z
LAST-MODIFIED:20240529T091759Z
UID:47536-1718463600-1718488800@www.se-ma.ch
SUMMARY:Flawil: Fest der Begegnung
DESCRIPTION:Ökumenischer Anlass im Rahmen von «Sommer im Feld»\nFest der Begegnung
URL:https://www.se-ma.ch/event/flawil-fest-der-begegnung/
LOCATION:Ref. Kirche Feld\, Flawil\, 9230\, Schweiz
CATEGORIES:Anlässe und Veranstaltungen,Kinder und Familien
END:VEVENT
BEGIN:VEVENT
DTSTART;TZID=Europe/Zurich:20240615T180000
DTEND;TZID=Europe/Zurich:20240615T180000
DTSTAMP:20260422T235812
CREATED:20240208T104030Z
LAST-MODIFIED:20240529T091152Z
UID:45355-1718474400-1718474400@www.se-ma.ch
SUMMARY:Magdenau: Spirit am Weiher
DESCRIPTION:Mit Livemusik von «Dokters and friends». Der Gottesdienst findet bei trockenem Wetter am Weiher  in Magdenau und sonst in der Scheune neben dem Weiher statt.
URL:https://www.se-ma.ch/event/magdenau-spirit-am-weiher/
LOCATION:Magdenauer Weiher\, Magdenau 899\, Wolfertswil\, 9116
CATEGORIES:Gottesdienste,Kinder und Familien
END:VEVENT
BEGIN:VEVENT
DTSTART;TZID=Europe/Zurich:20240616T084500
DTEND;TZID=Europe/Zurich:20240616T084500
DTSTAMP:20260422T235812
CREATED:20240208T104143Z
LAST-MODIFIED:20240412T084006Z
UID:45357-1718527500-1718527500@www.se-ma.ch
SUMMARY:Wolfertswil: Eucharistiefeier
DESCRIPTION:
URL:https://www.se-ma.ch/event/wolfertswil-kommunionfeier-3/
LOCATION:Kirche Bruder Klaus\, Wolfertswil\, 9116
CATEGORIES:Gottesdienste
END:VEVENT
BEGIN:VEVENT
DTSTART;TZID=Europe/Zurich:20240616T093000
DTEND;TZID=Europe/Zurich:20240616T093000
DTSTAMP:20260422T235812
CREATED:20231114T133112Z
LAST-MODIFIED:20231114T133112Z
UID:44021-1718530200-1718530200@www.se-ma.ch
SUMMARY:Flawil: Eucharistiefeier in Spanisch
DESCRIPTION:
URL:https://www.se-ma.ch/event/flawil-eucharistiefeier-in-spanisch-25/
LOCATION:Kapelle St. Laurentius Flawil\, Enzenbühlstrasse 20\, Flawil\, 9230\, Schweiz
CATEGORIES:Gottesdienste
END:VEVENT
BEGIN:VEVENT
DTSTART;TZID=Europe/Zurich:20240619T114500
DTEND;TZID=Europe/Zurich:20240619T140000
DTSTAMP:20260422T235812
CREATED:20240112T081725Z
LAST-MODIFIED:20240228T073952Z
UID:44937-1718797500-1718805600@www.se-ma.ch
SUMMARY:Degersheim: zämä ässä
DESCRIPTION:Wir freuen uns über alle\, die Lust haben\, gemeinsam zu essen\, zu geniessen und zu plaudern. Ein bunt zusammengewürfeltes Küchenteam kocht und serviert speziell für Sie! Der Preis beträgt Fr. 10.00. Bitte geben Sie bei der Anmeldung an\, falls Sie vegetarisch essen möchten! Anmeldung bitte jeweils bis spätestens am Freitag bis 11.00 Uhr\, vor dem „zämä ässä“ an: \nhc.am-esobfsctd-2b45c4@miehsreged-tairaterkes oder Tel. 071 371 10 17
URL:https://www.se-ma.ch/event/degersheim-zaemae-aessae-6/
LOCATION:Pfarreiheim
CATEGORIES:Anlässe und Veranstaltungen
END:VEVENT
BEGIN:VEVENT
DTSTART;TZID=Europe/Zurich:20240620T113000
DTEND;TZID=Europe/Zurich:20240620T140000
DTSTAMP:20260422T235812
CREATED:20231130T081608Z
LAST-MODIFIED:20231130T081608Z
UID:44311-1718883000-1718892000@www.se-ma.ch
SUMMARY:Flawil: Mittagstisch
DESCRIPTION:Flyer Mittagstisch 2024
URL:https://www.se-ma.ch/event/flawil-mittagstisch-5/
LOCATION:Pfarreizentrum Flawil\, Enzenbühlstrasse 16\, Flawil\, 9230\, Schweiz
CATEGORIES:Anlässe und Veranstaltungen
END:VEVENT
END:VCALENDAR